BEGIN:VCALENDAR
VERSION:2.0
PRODID:-//Age Concern Taranaki - ECPv6.15.20//NONSGML v1.0//EN
CALSCALE:GREGORIAN
METHOD:PUBLISH
X-WR-CALNAME:Age Concern Taranaki
X-ORIGINAL-URL:https://www.ageconcerntaranaki.org.nz
X-WR-CALDESC:Events for Age Concern Taranaki
REFRESH-INTERVAL;VALUE=DURATION:PT1H
X-Robots-Tag:noindex
X-PUBLISHED-TTL:PT1H
BEGIN:VTIMEZONE
TZID:UTC
BEGIN:STANDARD
TZOFFSETFROM:+0000
TZOFFSETTO:+0000
TZNAME:UTC
DTSTART:20240101T000000
END:STANDARD
END:VTIMEZONE
BEGIN:VEVENT
DTSTART;TZID=UTC:20251105T101500
DTEND;TZID=UTC:20251105T111500
DTSTAMP:20260421T011641
CREATED:20250420T124656Z
LAST-MODIFIED:20251124T204911Z
UID:10000401-1762337700-1762341300@www.ageconcerntaranaki.org.nz
SUMMARY:Steady As You Go - Manaia
DESCRIPTION:Steady As You Go – Manaia \nHeld every Wednesday at 10.15am excluding public holidays. \nGold Coin Donation \nTo register or for more information please contact our Steady As You Go Coordinator Andrea on 06 759 9196 or email info@ageconcerntaranaki.org.nz \n 
URL:https://www.ageconcerntaranaki.org.nz/event/steady-as-you-go-manaia/2025-11-05/
LOCATION:Gibson Hall Manaia\, 48 Tauhuri Street\,\, Manaia\, 4612\, New Zealand
CATEGORIES:Exercise Classes,Steady As You Go
ORGANIZER;CN="Age Concern Taranaki":MAILTO:info@ageconcerntaranaki.org.nz
END:VEVENT
BEGIN:VEVENT
DTSTART;TZID=UTC:20251105T103000
DTEND;TZID=UTC:20251105T113000
DTSTAMP:20260421T011641
CREATED:20250421T143903Z
LAST-MODIFIED:20250421T143903Z
UID:10001023-1762338600-1762342200@www.ageconcerntaranaki.org.nz
SUMMARY:Steady As You Go - Inglewood
DESCRIPTION:Steady As You Go – Inglewood \nHeld every Wednesday at 10.30am excluding public holidays. \nCost $3 \nTo register or for more information please contact our Steady As You Go Coordinator Andrea on 06 759 9196 or email info@ageconcerntaranaki.org.nz \n 
URL:https://www.ageconcerntaranaki.org.nz/event/steady-as-you-go-inglewood/2025-11-05/
LOCATION:Inglewood United Church\, 30 Brown Street\, Inglewood\, Taranaki\, New Zealand
CATEGORIES:Exercise Classes,Steady As You Go
ORGANIZER;CN="Age Concern Taranaki":MAILTO:info@ageconcerntaranaki.org.nz
END:VEVENT
BEGIN:VEVENT
DTSTART;TZID=UTC:20251105T111500
DTEND;TZID=UTC:20251105T121500
DTSTAMP:20260421T011641
CREATED:20250420T132133Z
LAST-MODIFIED:20250420T132133Z
UID:10000462-1762341300-1762344900@www.ageconcerntaranaki.org.nz
SUMMARY:Casual Cuppa - Manaia
DESCRIPTION:First Wednesday of the month. \n11:15am Gibson Hall\, Tauhiri Street\, Manaia – Drop in\, make friends\, socialise and take part in discussions.
URL:https://www.ageconcerntaranaki.org.nz/event/casual-cuppa-manaia/2025-11-05/
LOCATION:Gibson Hall Manaia\, 48 Tauhuri Street\,\, Manaia\, 4612\, New Zealand
CATEGORIES:Coffee Morning Groups,Social Connection
ORGANIZER;CN="Age Concern Taranaki":MAILTO:info@ageconcerntaranaki.org.nz
END:VEVENT
END:VCALENDAR