BEGIN:VCALENDAR
VERSION:2.0
PRODID:-//Age Concern Taranaki - ECPv6.15.20//NONSGML v1.0//EN
CALSCALE:GREGORIAN
METHOD:PUBLISH
X-ORIGINAL-URL:https://www.ageconcerntaranaki.org.nz
X-WR-CALDESC:Events for Age Concern Taranaki
REFRESH-INTERVAL;VALUE=DURATION:PT1H
X-Robots-Tag:noindex
X-PUBLISHED-TTL:PT1H
BEGIN:VTIMEZONE
TZID:UTC
BEGIN:STANDARD
TZOFFSETFROM:+0000
TZOFFSETTO:+0000
TZNAME:UTC
DTSTART:20240101T000000
END:STANDARD
END:VTIMEZONE
BEGIN:VEVENT
DTSTART;TZID=UTC:20251209T100000
DTEND;TZID=UTC:20251209T110000
DTSTAMP:20260420T175906
CREATED:20250319T110938Z
LAST-MODIFIED:20250319T120301Z
UID:10000039-1765274400-1765278000@www.ageconcerntaranaki.org.nz
SUMMARY:Aqua Walking Bell Block
DESCRIPTION:Aqua Walking at The Methanex Aquatic Centre! 🌊🚶‍♀️🎶 \nJoin us for fun\, fitness\, and fantastic music at our Aqua Walking sessions! A great way to maintain strength\, improve balance\, and stay active\, all while enjoying the support of the water. \n📍 Location: Methanex Aquatic Centre\, 10 Murray St\, Bell Block\n💰 Cost: $4 per person (pay at pool reception)\n🎵 Move to the BEST music! \nCome along and make a splash! All registrations and inquiries: Call Pauline at 06 757 9196. See you in the pool! 💦😊 \n 
URL:https://www.ageconcerntaranaki.org.nz/event/aqua-walking-bell-block-2/2025-12-09/
LOCATION:Methanex Aquatic Centre\, 10 Murray Street\, New Plymouth\, Bell Block\, 4312\, New Zealand
CATEGORIES:Aqua Walking,Exercise Classes
ORGANIZER;CN="Age Concern Taranaki":MAILTO:info@ageconcerntaranaki.org.nz
END:VEVENT
BEGIN:VEVENT
DTSTART;TZID=UTC:20251209T101500
DTEND;TZID=UTC:20251209T111500
DTSTAMP:20260420T175906
CREATED:20250414T122933Z
LAST-MODIFIED:20250414T122933Z
UID:10000202-1765275300-1765278900@www.ageconcerntaranaki.org.nz
SUMMARY:Steady As You Go - Hawera
DESCRIPTION:10:15 at Presbyterian Centre\, Argyle Street\, Hawera – Improve your balance and join a fun loving and happy group.  Bring a water bottle. \nKOHA – Gold coin donation.
URL:https://www.ageconcerntaranaki.org.nz/event/steady-as-you-go-hawera/2025-12-09/
LOCATION:Age Concern Taranaki Hawera Office\, Presbyterian Church
CATEGORIES:Exercise Classes,Steady As You Go
END:VEVENT
BEGIN:VEVENT
DTSTART;TZID=UTC:20251209T103000
DTEND;TZID=UTC:20251209T113000
DTSTAMP:20260420T175906
CREATED:20250421T141424Z
LAST-MODIFIED:20251124T210225Z
UID:10000885-1765276200-1765279800@www.ageconcerntaranaki.org.nz
SUMMARY:Steady As You Go - St Mary's Peace Lounge
DESCRIPTION:Steady As You Go – St Mary’s Peace Lounge \nHeld every Tuesday at 10.30am excluding public holidays. \nCost: $3 per session \nTo register or for more information please contact our Steady As You Go Coordinator – Andrea on 06 759 9196 or email info@ageconcerntaranaki.org.nz \n 
URL:https://www.ageconcerntaranaki.org.nz/event/steady-as-you-go-st-marys-peace-lounge/2025-12-09/
LOCATION:St Mary’s Peace Lounge\, 37 Vivian Street\, New Plymouth\, 4312\, New Zealand
CATEGORIES:Exercise Classes,Steady As You Go
ORGANIZER;CN="Age Concern Taranaki":MAILTO:info@ageconcerntaranaki.org.nz
END:VEVENT
END:VCALENDAR