BEGIN:VCALENDAR
VERSION:2.0
PRODID:-//Age Concern Taranaki - ECPv6.15.20//NONSGML v1.0//EN
CALSCALE:GREGORIAN
METHOD:PUBLISH
X-WR-CALNAME:Age Concern Taranaki
X-ORIGINAL-URL:https://www.ageconcerntaranaki.org.nz
X-WR-CALDESC:Events for Age Concern Taranaki
REFRESH-INTERVAL;VALUE=DURATION:PT1H
X-Robots-Tag:noindex
X-PUBLISHED-TTL:PT1H
BEGIN:VTIMEZONE
TZID:UTC
BEGIN:STANDARD
TZOFFSETFROM:+0000
TZOFFSETTO:+0000
TZNAME:UTC
DTSTART:20240101T000000
END:STANDARD
END:VTIMEZONE
BEGIN:VEVENT
DTSTART;TZID=UTC:20251210T101500
DTEND;TZID=UTC:20251210T111500
DTSTAMP:20260420T142526
CREATED:20250420T124656Z
LAST-MODIFIED:20251124T204911Z
UID:10000406-1765361700-1765365300@www.ageconcerntaranaki.org.nz
SUMMARY:Steady As You Go - Manaia
DESCRIPTION:Steady As You Go – Manaia \nHeld every Wednesday at 10.15am excluding public holidays. \nGold Coin Donation \nTo register or for more information please contact our Steady As You Go Coordinator Andrea on 06 759 9196 or email info@ageconcerntaranaki.org.nz \n 
URL:https://www.ageconcerntaranaki.org.nz/event/steady-as-you-go-manaia/2025-12-10/
LOCATION:Gibson Hall Manaia\, 48 Tauhuri Street\,\, Manaia\, 4612\, New Zealand
CATEGORIES:Exercise Classes,Steady As You Go
ORGANIZER;CN="Age Concern Taranaki":MAILTO:info@ageconcerntaranaki.org.nz
END:VEVENT
BEGIN:VEVENT
DTSTART;TZID=UTC:20251210T103000
DTEND;TZID=UTC:20251210T113000
DTSTAMP:20260420T142526
CREATED:20250421T143903Z
LAST-MODIFIED:20250421T143903Z
UID:10001028-1765362600-1765366200@www.ageconcerntaranaki.org.nz
SUMMARY:Steady As You Go - Inglewood
DESCRIPTION:Steady As You Go – Inglewood \nHeld every Wednesday at 10.30am excluding public holidays. \nCost $3 \nTo register or for more information please contact our Steady As You Go Coordinator Andrea on 06 759 9196 or email info@ageconcerntaranaki.org.nz \n 
URL:https://www.ageconcerntaranaki.org.nz/event/steady-as-you-go-inglewood/2025-12-10/
LOCATION:Inglewood United Church\, 30 Brown Street\, Inglewood\, Taranaki\, New Zealand
CATEGORIES:Exercise Classes,Steady As You Go
ORGANIZER;CN="Age Concern Taranaki":MAILTO:info@ageconcerntaranaki.org.nz
END:VEVENT
END:VCALENDAR