BEGIN:VCALENDAR
VERSION:2.0
PRODID:-//Age Concern Taranaki - ECPv6.15.20//NONSGML v1.0//EN
CALSCALE:GREGORIAN
METHOD:PUBLISH
X-ORIGINAL-URL:https://www.ageconcerntaranaki.org.nz
X-WR-CALDESC:Events for Age Concern Taranaki
REFRESH-INTERVAL;VALUE=DURATION:PT1H
X-Robots-Tag:noindex
X-PUBLISHED-TTL:PT1H
BEGIN:VTIMEZONE
TZID:Pacific/Auckland
BEGIN:STANDARD
TZOFFSETFROM:+1300
TZOFFSETTO:+1200
TZNAME:NZST
DTSTART:20240406T140000
END:STANDARD
BEGIN:DAYLIGHT
TZOFFSETFROM:+1200
TZOFFSETTO:+1300
TZNAME:NZDT
DTSTART:20240928T140000
END:DAYLIGHT
BEGIN:STANDARD
TZOFFSETFROM:+1300
TZOFFSETTO:+1200
TZNAME:NZST
DTSTART:20250405T140000
END:STANDARD
BEGIN:DAYLIGHT
TZOFFSETFROM:+1200
TZOFFSETTO:+1300
TZNAME:NZDT
DTSTART:20250927T140000
END:DAYLIGHT
BEGIN:STANDARD
TZOFFSETFROM:+1300
TZOFFSETTO:+1200
TZNAME:NZST
DTSTART:20260404T140000
END:STANDARD
BEGIN:DAYLIGHT
TZOFFSETFROM:+1200
TZOFFSETTO:+1300
TZNAME:NZDT
DTSTART:20260926T140000
END:DAYLIGHT
END:VTIMEZONE
BEGIN:VEVENT
DTSTART;TZID=Pacific/Auckland:20251030T100000
DTEND;TZID=Pacific/Auckland:20251030T140000
DTSTAMP:20260420T072055
CREATED:20251022T004649Z
LAST-MODIFIED:20251022T004649Z
UID:10001182-1761818400-1761832800@www.ageconcerntaranaki.org.nz
SUMMARY:Staying Safe Driver Refresher Course
DESCRIPTION:Staying Safe – A Refresher Course for Older DriversJoin us for a free\, classroom-based course designed to help older drivers refresh their knowledge of road rules\, improve safety awareness\, and explore other transport options. Staying Safe supports continued confidence and independence behind the wheel. \n🗓 Date: Thursday 30 October 2025🕙 Time: 10:00am – 2:00pm📍 Venue: Northpoint Baptist Church\, 116 Mangati Road Bell Block \n🗓 Date: Monday 17 November 2025🕙 Time: 10:00am – 2:00pm📍 Venue: Presbyterian Church\, 35 Argyle Street\, Hawera \n🗓 Date: Wednesday 25 February 2025🕙 Time: 10:00am – 2:00pm📍 Venue: Centennial Restrooms\, Fenton Street Stratford \nSpaces are limited – register today!📞 Call 06 759 9196 or 0800 65 2 105📧 Email info@ageconcerntaranaki.org.nz
URL:https://www.ageconcerntaranaki.org.nz/event/staying-safe-driver-refresher-course-2/
LOCATION:Northpoint Church Bell Block\, 116 Mangati Road\, New Plymouth\, Bell Block\, 4312\, New Zealand
CATEGORIES:Education Courses,Staying Safe Driving
ATTACH;FMTTYPE=image/png:https://www.ageconcerntaranaki.org.nz/wp-content/uploads/2025/05/Staying-Safe-Poster-11th-June-2025_001.png
ORGANIZER;CN="Age Concern Taranaki":MAILTO:info@ageconcerntaranaki.org.nz
END:VEVENT
END:VCALENDAR