BEGIN:VCALENDAR
VERSION:2.0
PRODID:-//Age Concern Taranaki - ECPv6.15.20//NONSGML v1.0//EN
CALSCALE:GREGORIAN
METHOD:PUBLISH
X-WR-CALNAME:Age Concern Taranaki
X-ORIGINAL-URL:https://www.ageconcerntaranaki.org.nz
X-WR-CALDESC:Events for Age Concern Taranaki
REFRESH-INTERVAL;VALUE=DURATION:PT1H
X-Robots-Tag:noindex
X-PUBLISHED-TTL:PT1H
BEGIN:VTIMEZONE
TZID:UTC
BEGIN:STANDARD
TZOFFSETFROM:+0000
TZOFFSETTO:+0000
TZNAME:UTC
DTSTART:20250101T000000
END:STANDARD
END:VTIMEZONE
BEGIN:VEVENT
DTSTART;TZID=UTC:20260417T110000
DTEND;TZID=UTC:20260417T120000
DTSTAMP:20260420T070029
CREATED:20251124T204642Z
LAST-MODIFIED:20251124T204642Z
UID:10001586-1776423600-1776427200@www.ageconcerntaranaki.org.nz
SUMMARY:Steady As You Go - Hine Street
DESCRIPTION:Steady As You Go – Hine Street\, New Plymouth \nHeld every Friday at 11am excluding public holidays. \nCost: $3 per session \nTo register or for more information please contact our Steady As You Go Coordinator – Andrea on 06 759 9196 or email info@ageconcerntaranaki.org.nz \n 
URL:https://www.ageconcerntaranaki.org.nz/event/steady-as-you-go-hine-street-2/2026-04-17/
LOCATION:Disabled Citizens Craft Centre\, 83 Hine Street\, New Plymouth\, Taranaki\, 4312\, New Zealand
CATEGORIES:Exercise Classes,Steady As You Go
ORGANIZER;CN="Age Concern Taranaki":MAILTO:info@ageconcerntaranaki.org.nz
END:VEVENT
BEGIN:VEVENT
DTSTART;TZID=UTC:20260417T090000
DTEND;TZID=UTC:20260417T100000
DTSTAMP:20260420T070029
CREATED:20251124T210801Z
LAST-MODIFIED:20251124T210801Z
UID:10002062-1776416400-1776420000@www.ageconcerntaranaki.org.nz
SUMMARY:Steady As You Go - Stratford
DESCRIPTION:Steady As You Go – Stratford \nHeld every Friday at 9am excluding public holidays. \nCost: $3 per session \nTo register or for more information please contact our Steady As You Go Coordinator Andrea on 06 759 9196 or email info@ageconcerntaranaki.org.nz \n 
URL:https://www.ageconcerntaranaki.org.nz/event/steady-as-you-go-stratford-2/2026-04-17/
LOCATION:Senior Citizens Hall Stratford\, 53 Juliet Street\, Stratford\, New Zealand
CATEGORIES:Steady As You Go
ORGANIZER;CN="Age Concern Taranaki":MAILTO:info@ageconcerntaranaki.org.nz
END:VEVENT
BEGIN:VEVENT
DTSTART;TZID=UTC:20260416T100000
DTEND;TZID=UTC:20260416T110000
DTSTAMP:20260420T070029
CREATED:20251124T203614Z
LAST-MODIFIED:20251124T203614Z
UID:10001425-1776333600-1776337200@www.ageconcerntaranaki.org.nz
SUMMARY:Steady As You Go - Eltham
DESCRIPTION:Steady As You Go – Eltham \nHeld every Thursday at 10am excluding public holidays. \nCost: $3 per session \nTo register or for more information please contact our Steady As You Go Coordinator Andrea on 06 759 9196 or email info@ageconcerntaranaki.org.nz \n 
URL:https://www.ageconcerntaranaki.org.nz/event/steady-as-you-go-eltham-2/2026-04-16/
LOCATION:All Saints Anglican Church\, 88 King Edward Street\, Eltham\, New Zealand
CATEGORIES:Steady As You Go
ORGANIZER;CN="Age Concern Taranaki":MAILTO:info@ageconcerntaranaki.org.nz
END:VEVENT
BEGIN:VEVENT
DTSTART;TZID=UTC:20260415T103000
DTEND;TZID=UTC:20260415T113000
DTSTAMP:20260420T070029
CREATED:20251124T204824Z
LAST-MODIFIED:20251124T204824Z
UID:10001671-1776249000-1776252600@www.ageconcerntaranaki.org.nz
SUMMARY:Steady As You Go - Inglewood
DESCRIPTION:Steady As You Go – Inglewood \nHeld every Wednesday at 10.30am excluding public holidays. \nCost $3 \nTo register or for more information please contact our Steady As You Go Coordinator Andrea on 06 759 9196 or email info@ageconcerntaranaki.org.nz \n 
URL:https://www.ageconcerntaranaki.org.nz/event/steady-as-you-go-inglewood-2/2026-04-15/
LOCATION:Inglewood United Church\, 30 Brown Street\, Inglewood\, Taranaki\, New Zealand
CATEGORIES:Exercise Classes,Steady As You Go
ORGANIZER;CN="Age Concern Taranaki":MAILTO:info@ageconcerntaranaki.org.nz
END:VEVENT
BEGIN:VEVENT
DTSTART;TZID=UTC:20260415T101500
DTEND;TZID=UTC:20260415T111500
DTSTAMP:20260420T070029
CREATED:20251124T205136Z
LAST-MODIFIED:20251124T205136Z
UID:10001757-1776248100-1776251700@www.ageconcerntaranaki.org.nz
SUMMARY:Steady As You Go - Manaia
DESCRIPTION:Steady As You Go – Manaia \nHeld every Wednesday at 10.15am excluding public holidays. \nGold Coin Donation \nTo register or for more information please contact our Steady As You Go Coordinator Andrea on 06 759 9196 or email info@ageconcerntaranaki.org.nz \n 
URL:https://www.ageconcerntaranaki.org.nz/event/steady-as-you-go-manaia-2/2026-04-15/
LOCATION:Gibson Hall Manaia\, 48 Tauhuri Street\,\, Manaia\, 4612\, New Zealand
CATEGORIES:Exercise Classes,Steady As You Go
ORGANIZER;CN="Age Concern Taranaki":MAILTO:info@ageconcerntaranaki.org.nz
END:VEVENT
BEGIN:VEVENT
DTSTART;TZID=UTC:20260414T103000
DTEND;TZID=UTC:20260414T113000
DTSTAMP:20260420T070029
CREATED:20251124T210432Z
LAST-MODIFIED:20251124T210432Z
UID:10001983-1776162600-1776166200@www.ageconcerntaranaki.org.nz
SUMMARY:Steady As You Go - St Mary's Peace Lounge
DESCRIPTION:Steady As You Go – St Mary’s Peace Lounge \nHeld every Tuesday at 10.30am excluding public holidays. \nCost: $3 per session \nTo register or for more information please contact our Steady As You Go Coordinator – Andrea on 06 759 9196 or email info@ageconcerntaranaki.org.nz \n 
URL:https://www.ageconcerntaranaki.org.nz/event/steady-as-you-go-st-marys-peace-lounge-2/2026-04-14/
LOCATION:St Mary’s Peace Lounge\, 37 Vivian Street\, New Plymouth\, 4312\, New Zealand
CATEGORIES:Exercise Classes,Steady As You Go
ORGANIZER;CN="Age Concern Taranaki":MAILTO:info@ageconcerntaranaki.org.nz
END:VEVENT
BEGIN:VEVENT
DTSTART;TZID=UTC:20260414T101500
DTEND;TZID=UTC:20260414T111500
DTSTAMP:20260420T070029
CREATED:20251124T203843Z
LAST-MODIFIED:20251124T203843Z
UID:10001510-1776161700-1776165300@www.ageconcerntaranaki.org.nz
SUMMARY:Steady As You Go - Hawera
DESCRIPTION:10:15 at Presbyterian Centre\, Argyle Street\, Hawera – Every Tuesday excluding public holidays. \nImprove your balance and join a fun loving and happy group.  Bring a water bottle. \nKOHA – Gold coin donation.
URL:https://www.ageconcerntaranaki.org.nz/event/steady-as-you-go-hawera-2/2026-04-14/
LOCATION:Age Concern Taranaki Hawera Office\, Presbyterian Church
CATEGORIES:Exercise Classes,Steady As You Go
END:VEVENT
BEGIN:VEVENT
DTSTART;TZID=UTC:20260413T103000
DTEND;TZID=UTC:20260413T113000
DTSTAMP:20260420T070029
CREATED:20251124T210005Z
LAST-MODIFIED:20251124T210005Z
UID:10001907-1776076200-1776079800@www.ageconcerntaranaki.org.nz
SUMMARY:Steady As You Go - Ōpunkae
DESCRIPTION:Steady As You Go – Ōpunake \nHeld every Monday at 10am excluding public holidays. \nCost: $3 per session \nTo register or for more information please contact our Steady As You Go Coordinator – Andrea on 06 759 9196 or email info@ageconcerntaranaki.org.nz \n 
URL:https://www.ageconcerntaranaki.org.nz/event/steady-as-you-go-opunkae-2/2026-04-13/
LOCATION:Barnabas Centre\, 142 Tasman Street\, Opunake\, New Zealand
CATEGORIES:Exercise Classes,Steady As You Go
ORGANIZER;CN="Age Concern Taranaki":MAILTO:info@ageconcerntaranaki.org.nz
END:VEVENT
BEGIN:VEVENT
DTSTART;TZID=UTC:20260413T103000
DTEND;TZID=UTC:20260413T113000
DTSTAMP:20260420T070029
CREATED:20251124T203247Z
LAST-MODIFIED:20251124T203247Z
UID:10001336-1776076200-1776079800@www.ageconcerntaranaki.org.nz
SUMMARY:Steady As You Go - Bell Block
DESCRIPTION:Steady As You Go – Bell Block \nHeld every Monday at 10.30am excluding public holidays. \nCost: $3 per session \nTo register or for more information please contact our Steady As You Go Coordinator Andrea on 06 759 9196 or email info@ageconcerntaranaki.org.nz \n 
URL:https://www.ageconcerntaranaki.org.nz/event/steady-as-you-go-bell-block-3/2026-04-13/
LOCATION:Northpoint Church Bell Block\, 116 Mangati Road\, New Plymouth\, Bell Block\, 4312\, New Zealand
CATEGORIES:Steady As You Go
ORGANIZER;CN="Age Concern Taranaki":MAILTO:info@ageconcerntaranaki.org.nz
END:VEVENT
BEGIN:VEVENT
DTSTART;TZID=UTC:20260413T093000
DTEND;TZID=UTC:20260413T103000
DTSTAMP:20260420T070029
CREATED:20251124T205622Z
LAST-MODIFIED:20251124T205622Z
UID:10001830-1776072600-1776076200@www.ageconcerntaranaki.org.nz
SUMMARY:Steady As You Go - Ōkato
DESCRIPTION:Steady As You Go – Ōkato \nHeld every Monday at 9.30am excluding public holidays. \nCost: $3 per session \nTo register or for more information please contact our Steady As You Go Coordinator – Andrea on 06 759 9196 or email info@ageconcerntaranaki.org.nz \n 
URL:https://www.ageconcerntaranaki.org.nz/event/steady-as-you-go-okato-2/2026-04-13/
LOCATION:Hempton Hall\, 72 Carthew Street\, Ōkato\, Taranaki\, New Zealand
CATEGORIES:Exercise Classes,Steady As You Go
ORGANIZER;CN="Age Concern Taranaki":MAILTO:info@ageconcerntaranaki.org.nz
END:VEVENT
BEGIN:VEVENT
DTSTART;TZID=UTC:20260410T110000
DTEND;TZID=UTC:20260410T120000
DTSTAMP:20260420T070029
CREATED:20251124T204642Z
LAST-MODIFIED:20251124T204642Z
UID:10001585-1775818800-1775822400@www.ageconcerntaranaki.org.nz
SUMMARY:Steady As You Go - Hine Street
DESCRIPTION:Steady As You Go – Hine Street\, New Plymouth \nHeld every Friday at 11am excluding public holidays. \nCost: $3 per session \nTo register or for more information please contact our Steady As You Go Coordinator – Andrea on 06 759 9196 or email info@ageconcerntaranaki.org.nz \n 
URL:https://www.ageconcerntaranaki.org.nz/event/steady-as-you-go-hine-street-2/2026-04-10/
LOCATION:Disabled Citizens Craft Centre\, 83 Hine Street\, New Plymouth\, Taranaki\, 4312\, New Zealand
CATEGORIES:Exercise Classes,Steady As You Go
ORGANIZER;CN="Age Concern Taranaki":MAILTO:info@ageconcerntaranaki.org.nz
END:VEVENT
BEGIN:VEVENT
DTSTART;TZID=UTC:20260410T090000
DTEND;TZID=UTC:20260410T100000
DTSTAMP:20260420T070029
CREATED:20251124T210801Z
LAST-MODIFIED:20251124T210801Z
UID:10002061-1775811600-1775815200@www.ageconcerntaranaki.org.nz
SUMMARY:Steady As You Go - Stratford
DESCRIPTION:Steady As You Go – Stratford \nHeld every Friday at 9am excluding public holidays. \nCost: $3 per session \nTo register or for more information please contact our Steady As You Go Coordinator Andrea on 06 759 9196 or email info@ageconcerntaranaki.org.nz \n 
URL:https://www.ageconcerntaranaki.org.nz/event/steady-as-you-go-stratford-2/2026-04-10/
LOCATION:Senior Citizens Hall Stratford\, 53 Juliet Street\, Stratford\, New Zealand
CATEGORIES:Steady As You Go
ORGANIZER;CN="Age Concern Taranaki":MAILTO:info@ageconcerntaranaki.org.nz
END:VEVENT
BEGIN:VEVENT
DTSTART;TZID=UTC:20260409T100000
DTEND;TZID=UTC:20260409T110000
DTSTAMP:20260420T070029
CREATED:20251124T203614Z
LAST-MODIFIED:20251124T203614Z
UID:10001424-1775728800-1775732400@www.ageconcerntaranaki.org.nz
SUMMARY:Steady As You Go - Eltham
DESCRIPTION:Steady As You Go – Eltham \nHeld every Thursday at 10am excluding public holidays. \nCost: $3 per session \nTo register or for more information please contact our Steady As You Go Coordinator Andrea on 06 759 9196 or email info@ageconcerntaranaki.org.nz \n 
URL:https://www.ageconcerntaranaki.org.nz/event/steady-as-you-go-eltham-2/2026-04-09/
LOCATION:All Saints Anglican Church\, 88 King Edward Street\, Eltham\, New Zealand
CATEGORIES:Steady As You Go
ORGANIZER;CN="Age Concern Taranaki":MAILTO:info@ageconcerntaranaki.org.nz
END:VEVENT
BEGIN:VEVENT
DTSTART;TZID=UTC:20260408T103000
DTEND;TZID=UTC:20260408T113000
DTSTAMP:20260420T070029
CREATED:20251124T204824Z
LAST-MODIFIED:20251124T204824Z
UID:10001670-1775644200-1775647800@www.ageconcerntaranaki.org.nz
SUMMARY:Steady As You Go - Inglewood
DESCRIPTION:Steady As You Go – Inglewood \nHeld every Wednesday at 10.30am excluding public holidays. \nCost $3 \nTo register or for more information please contact our Steady As You Go Coordinator Andrea on 06 759 9196 or email info@ageconcerntaranaki.org.nz \n 
URL:https://www.ageconcerntaranaki.org.nz/event/steady-as-you-go-inglewood-2/2026-04-08/
LOCATION:Inglewood United Church\, 30 Brown Street\, Inglewood\, Taranaki\, New Zealand
CATEGORIES:Exercise Classes,Steady As You Go
ORGANIZER;CN="Age Concern Taranaki":MAILTO:info@ageconcerntaranaki.org.nz
END:VEVENT
BEGIN:VEVENT
DTSTART;TZID=UTC:20260408T101500
DTEND;TZID=UTC:20260408T111500
DTSTAMP:20260420T070029
CREATED:20251124T205136Z
LAST-MODIFIED:20251124T205136Z
UID:10001756-1775643300-1775646900@www.ageconcerntaranaki.org.nz
SUMMARY:Steady As You Go - Manaia
DESCRIPTION:Steady As You Go – Manaia \nHeld every Wednesday at 10.15am excluding public holidays. \nGold Coin Donation \nTo register or for more information please contact our Steady As You Go Coordinator Andrea on 06 759 9196 or email info@ageconcerntaranaki.org.nz \n 
URL:https://www.ageconcerntaranaki.org.nz/event/steady-as-you-go-manaia-2/2026-04-08/
LOCATION:Gibson Hall Manaia\, 48 Tauhuri Street\,\, Manaia\, 4612\, New Zealand
CATEGORIES:Exercise Classes,Steady As You Go
ORGANIZER;CN="Age Concern Taranaki":MAILTO:info@ageconcerntaranaki.org.nz
END:VEVENT
BEGIN:VEVENT
DTSTART;TZID=UTC:20260407T103000
DTEND;TZID=UTC:20260407T113000
DTSTAMP:20260420T070029
CREATED:20251124T210432Z
LAST-MODIFIED:20251124T210432Z
UID:10001982-1775557800-1775561400@www.ageconcerntaranaki.org.nz
SUMMARY:Steady As You Go - St Mary's Peace Lounge
DESCRIPTION:Steady As You Go – St Mary’s Peace Lounge \nHeld every Tuesday at 10.30am excluding public holidays. \nCost: $3 per session \nTo register or for more information please contact our Steady As You Go Coordinator – Andrea on 06 759 9196 or email info@ageconcerntaranaki.org.nz \n 
URL:https://www.ageconcerntaranaki.org.nz/event/steady-as-you-go-st-marys-peace-lounge-2/2026-04-07/
LOCATION:St Mary’s Peace Lounge\, 37 Vivian Street\, New Plymouth\, 4312\, New Zealand
CATEGORIES:Exercise Classes,Steady As You Go
ORGANIZER;CN="Age Concern Taranaki":MAILTO:info@ageconcerntaranaki.org.nz
END:VEVENT
BEGIN:VEVENT
DTSTART;TZID=UTC:20260407T101500
DTEND;TZID=UTC:20260407T111500
DTSTAMP:20260420T070029
CREATED:20251124T203843Z
LAST-MODIFIED:20251124T203843Z
UID:10001509-1775556900-1775560500@www.ageconcerntaranaki.org.nz
SUMMARY:Steady As You Go - Hawera
DESCRIPTION:10:15 at Presbyterian Centre\, Argyle Street\, Hawera – Every Tuesday excluding public holidays. \nImprove your balance and join a fun loving and happy group.  Bring a water bottle. \nKOHA – Gold coin donation.
URL:https://www.ageconcerntaranaki.org.nz/event/steady-as-you-go-hawera-2/2026-04-07/
LOCATION:Age Concern Taranaki Hawera Office\, Presbyterian Church
CATEGORIES:Exercise Classes,Steady As You Go
END:VEVENT
BEGIN:VEVENT
DTSTART;TZID=UTC:20260402T100000
DTEND;TZID=UTC:20260402T110000
DTSTAMP:20260420T070029
CREATED:20251124T203614Z
LAST-MODIFIED:20251124T203614Z
UID:10001423-1775124000-1775127600@www.ageconcerntaranaki.org.nz
SUMMARY:Steady As You Go - Eltham
DESCRIPTION:Steady As You Go – Eltham \nHeld every Thursday at 10am excluding public holidays. \nCost: $3 per session \nTo register or for more information please contact our Steady As You Go Coordinator Andrea on 06 759 9196 or email info@ageconcerntaranaki.org.nz \n 
URL:https://www.ageconcerntaranaki.org.nz/event/steady-as-you-go-eltham-2/2026-04-02/
LOCATION:All Saints Anglican Church\, 88 King Edward Street\, Eltham\, New Zealand
CATEGORIES:Steady As You Go
ORGANIZER;CN="Age Concern Taranaki":MAILTO:info@ageconcerntaranaki.org.nz
END:VEVENT
BEGIN:VEVENT
DTSTART;TZID=UTC:20260401T103000
DTEND;TZID=UTC:20260401T113000
DTSTAMP:20260420T070029
CREATED:20251124T204824Z
LAST-MODIFIED:20251124T204824Z
UID:10001669-1775039400-1775043000@www.ageconcerntaranaki.org.nz
SUMMARY:Steady As You Go - Inglewood
DESCRIPTION:Steady As You Go – Inglewood \nHeld every Wednesday at 10.30am excluding public holidays. \nCost $3 \nTo register or for more information please contact our Steady As You Go Coordinator Andrea on 06 759 9196 or email info@ageconcerntaranaki.org.nz \n 
URL:https://www.ageconcerntaranaki.org.nz/event/steady-as-you-go-inglewood-2/2026-04-01/
LOCATION:Inglewood United Church\, 30 Brown Street\, Inglewood\, Taranaki\, New Zealand
CATEGORIES:Exercise Classes,Steady As You Go
ORGANIZER;CN="Age Concern Taranaki":MAILTO:info@ageconcerntaranaki.org.nz
END:VEVENT
BEGIN:VEVENT
DTSTART;TZID=UTC:20260401T101500
DTEND;TZID=UTC:20260401T111500
DTSTAMP:20260420T070029
CREATED:20251124T205136Z
LAST-MODIFIED:20251124T205136Z
UID:10001755-1775038500-1775042100@www.ageconcerntaranaki.org.nz
SUMMARY:Steady As You Go - Manaia
DESCRIPTION:Steady As You Go – Manaia \nHeld every Wednesday at 10.15am excluding public holidays. \nGold Coin Donation \nTo register or for more information please contact our Steady As You Go Coordinator Andrea on 06 759 9196 or email info@ageconcerntaranaki.org.nz \n 
URL:https://www.ageconcerntaranaki.org.nz/event/steady-as-you-go-manaia-2/2026-04-01/
LOCATION:Gibson Hall Manaia\, 48 Tauhuri Street\,\, Manaia\, 4612\, New Zealand
CATEGORIES:Exercise Classes,Steady As You Go
ORGANIZER;CN="Age Concern Taranaki":MAILTO:info@ageconcerntaranaki.org.nz
END:VEVENT
BEGIN:VEVENT
DTSTART;TZID=UTC:20260331T103000
DTEND;TZID=UTC:20260331T113000
DTSTAMP:20260420T070029
CREATED:20251124T210432Z
LAST-MODIFIED:20251124T210432Z
UID:10001981-1774953000-1774956600@www.ageconcerntaranaki.org.nz
SUMMARY:Steady As You Go - St Mary's Peace Lounge
DESCRIPTION:Steady As You Go – St Mary’s Peace Lounge \nHeld every Tuesday at 10.30am excluding public holidays. \nCost: $3 per session \nTo register or for more information please contact our Steady As You Go Coordinator – Andrea on 06 759 9196 or email info@ageconcerntaranaki.org.nz \n 
URL:https://www.ageconcerntaranaki.org.nz/event/steady-as-you-go-st-marys-peace-lounge-2/2026-03-31/
LOCATION:St Mary’s Peace Lounge\, 37 Vivian Street\, New Plymouth\, 4312\, New Zealand
CATEGORIES:Exercise Classes,Steady As You Go
ORGANIZER;CN="Age Concern Taranaki":MAILTO:info@ageconcerntaranaki.org.nz
END:VEVENT
BEGIN:VEVENT
DTSTART;TZID=UTC:20260331T101500
DTEND;TZID=UTC:20260331T111500
DTSTAMP:20260420T070029
CREATED:20251124T203843Z
LAST-MODIFIED:20251124T203843Z
UID:10001508-1774952100-1774955700@www.ageconcerntaranaki.org.nz
SUMMARY:Steady As You Go - Hawera
DESCRIPTION:10:15 at Presbyterian Centre\, Argyle Street\, Hawera – Every Tuesday excluding public holidays. \nImprove your balance and join a fun loving and happy group.  Bring a water bottle. \nKOHA – Gold coin donation.
URL:https://www.ageconcerntaranaki.org.nz/event/steady-as-you-go-hawera-2/2026-03-31/
LOCATION:Age Concern Taranaki Hawera Office\, Presbyterian Church
CATEGORIES:Exercise Classes,Steady As You Go
END:VEVENT
BEGIN:VEVENT
DTSTART;TZID=UTC:20260330T103000
DTEND;TZID=UTC:20260330T113000
DTSTAMP:20260420T070029
CREATED:20251124T210005Z
LAST-MODIFIED:20251124T210005Z
UID:10001906-1774866600-1774870200@www.ageconcerntaranaki.org.nz
SUMMARY:Steady As You Go - Ōpunkae
DESCRIPTION:Steady As You Go – Ōpunake \nHeld every Monday at 10am excluding public holidays. \nCost: $3 per session \nTo register or for more information please contact our Steady As You Go Coordinator – Andrea on 06 759 9196 or email info@ageconcerntaranaki.org.nz \n 
URL:https://www.ageconcerntaranaki.org.nz/event/steady-as-you-go-opunkae-2/2026-03-30/
LOCATION:Barnabas Centre\, 142 Tasman Street\, Opunake\, New Zealand
CATEGORIES:Exercise Classes,Steady As You Go
ORGANIZER;CN="Age Concern Taranaki":MAILTO:info@ageconcerntaranaki.org.nz
END:VEVENT
BEGIN:VEVENT
DTSTART;TZID=UTC:20260330T103000
DTEND;TZID=UTC:20260330T113000
DTSTAMP:20260420T070029
CREATED:20251124T203247Z
LAST-MODIFIED:20251124T203247Z
UID:10001335-1774866600-1774870200@www.ageconcerntaranaki.org.nz
SUMMARY:Steady As You Go - Bell Block
DESCRIPTION:Steady As You Go – Bell Block \nHeld every Monday at 10.30am excluding public holidays. \nCost: $3 per session \nTo register or for more information please contact our Steady As You Go Coordinator Andrea on 06 759 9196 or email info@ageconcerntaranaki.org.nz \n 
URL:https://www.ageconcerntaranaki.org.nz/event/steady-as-you-go-bell-block-3/2026-03-30/
LOCATION:Northpoint Church Bell Block\, 116 Mangati Road\, New Plymouth\, Bell Block\, 4312\, New Zealand
CATEGORIES:Steady As You Go
ORGANIZER;CN="Age Concern Taranaki":MAILTO:info@ageconcerntaranaki.org.nz
END:VEVENT
BEGIN:VEVENT
DTSTART;TZID=UTC:20260330T093000
DTEND;TZID=UTC:20260330T103000
DTSTAMP:20260420T070029
CREATED:20251124T205622Z
LAST-MODIFIED:20251124T205622Z
UID:10001829-1774863000-1774866600@www.ageconcerntaranaki.org.nz
SUMMARY:Steady As You Go - Ōkato
DESCRIPTION:Steady As You Go – Ōkato \nHeld every Monday at 9.30am excluding public holidays. \nCost: $3 per session \nTo register or for more information please contact our Steady As You Go Coordinator – Andrea on 06 759 9196 or email info@ageconcerntaranaki.org.nz \n 
URL:https://www.ageconcerntaranaki.org.nz/event/steady-as-you-go-okato-2/2026-03-30/
LOCATION:Hempton Hall\, 72 Carthew Street\, Ōkato\, Taranaki\, New Zealand
CATEGORIES:Exercise Classes,Steady As You Go
ORGANIZER;CN="Age Concern Taranaki":MAILTO:info@ageconcerntaranaki.org.nz
END:VEVENT
BEGIN:VEVENT
DTSTART;TZID=UTC:20260327T110000
DTEND;TZID=UTC:20260327T120000
DTSTAMP:20260420T070029
CREATED:20251124T204642Z
LAST-MODIFIED:20251124T204642Z
UID:10001584-1774609200-1774612800@www.ageconcerntaranaki.org.nz
SUMMARY:Steady As You Go - Hine Street
DESCRIPTION:Steady As You Go – Hine Street\, New Plymouth \nHeld every Friday at 11am excluding public holidays. \nCost: $3 per session \nTo register or for more information please contact our Steady As You Go Coordinator – Andrea on 06 759 9196 or email info@ageconcerntaranaki.org.nz \n 
URL:https://www.ageconcerntaranaki.org.nz/event/steady-as-you-go-hine-street-2/2026-03-27/
LOCATION:Disabled Citizens Craft Centre\, 83 Hine Street\, New Plymouth\, Taranaki\, 4312\, New Zealand
CATEGORIES:Exercise Classes,Steady As You Go
ORGANIZER;CN="Age Concern Taranaki":MAILTO:info@ageconcerntaranaki.org.nz
END:VEVENT
BEGIN:VEVENT
DTSTART;TZID=UTC:20260327T090000
DTEND;TZID=UTC:20260327T100000
DTSTAMP:20260420T070029
CREATED:20251124T210801Z
LAST-MODIFIED:20251124T210801Z
UID:10002060-1774602000-1774605600@www.ageconcerntaranaki.org.nz
SUMMARY:Steady As You Go - Stratford
DESCRIPTION:Steady As You Go – Stratford \nHeld every Friday at 9am excluding public holidays. \nCost: $3 per session \nTo register or for more information please contact our Steady As You Go Coordinator Andrea on 06 759 9196 or email info@ageconcerntaranaki.org.nz \n 
URL:https://www.ageconcerntaranaki.org.nz/event/steady-as-you-go-stratford-2/2026-03-27/
LOCATION:Senior Citizens Hall Stratford\, 53 Juliet Street\, Stratford\, New Zealand
CATEGORIES:Steady As You Go
ORGANIZER;CN="Age Concern Taranaki":MAILTO:info@ageconcerntaranaki.org.nz
END:VEVENT
BEGIN:VEVENT
DTSTART;TZID=UTC:20260326T100000
DTEND;TZID=UTC:20260326T110000
DTSTAMP:20260420T070029
CREATED:20251124T203614Z
LAST-MODIFIED:20251124T203614Z
UID:10001422-1774519200-1774522800@www.ageconcerntaranaki.org.nz
SUMMARY:Steady As You Go - Eltham
DESCRIPTION:Steady As You Go – Eltham \nHeld every Thursday at 10am excluding public holidays. \nCost: $3 per session \nTo register or for more information please contact our Steady As You Go Coordinator Andrea on 06 759 9196 or email info@ageconcerntaranaki.org.nz \n 
URL:https://www.ageconcerntaranaki.org.nz/event/steady-as-you-go-eltham-2/2026-03-26/
LOCATION:All Saints Anglican Church\, 88 King Edward Street\, Eltham\, New Zealand
CATEGORIES:Steady As You Go
ORGANIZER;CN="Age Concern Taranaki":MAILTO:info@ageconcerntaranaki.org.nz
END:VEVENT
BEGIN:VEVENT
DTSTART;TZID=UTC:20260325T103000
DTEND;TZID=UTC:20260325T113000
DTSTAMP:20260420T070029
CREATED:20251124T204824Z
LAST-MODIFIED:20251124T204824Z
UID:10001668-1774434600-1774438200@www.ageconcerntaranaki.org.nz
SUMMARY:Steady As You Go - Inglewood
DESCRIPTION:Steady As You Go – Inglewood \nHeld every Wednesday at 10.30am excluding public holidays. \nCost $3 \nTo register or for more information please contact our Steady As You Go Coordinator Andrea on 06 759 9196 or email info@ageconcerntaranaki.org.nz \n 
URL:https://www.ageconcerntaranaki.org.nz/event/steady-as-you-go-inglewood-2/2026-03-25/
LOCATION:Inglewood United Church\, 30 Brown Street\, Inglewood\, Taranaki\, New Zealand
CATEGORIES:Exercise Classes,Steady As You Go
ORGANIZER;CN="Age Concern Taranaki":MAILTO:info@ageconcerntaranaki.org.nz
END:VEVENT
BEGIN:VEVENT
DTSTART;TZID=UTC:20260325T101500
DTEND;TZID=UTC:20260325T111500
DTSTAMP:20260420T070029
CREATED:20251124T205136Z
LAST-MODIFIED:20251124T205136Z
UID:10001754-1774433700-1774437300@www.ageconcerntaranaki.org.nz
SUMMARY:Steady As You Go - Manaia
DESCRIPTION:Steady As You Go – Manaia \nHeld every Wednesday at 10.15am excluding public holidays. \nGold Coin Donation \nTo register or for more information please contact our Steady As You Go Coordinator Andrea on 06 759 9196 or email info@ageconcerntaranaki.org.nz \n 
URL:https://www.ageconcerntaranaki.org.nz/event/steady-as-you-go-manaia-2/2026-03-25/
LOCATION:Gibson Hall Manaia\, 48 Tauhuri Street\,\, Manaia\, 4612\, New Zealand
CATEGORIES:Exercise Classes,Steady As You Go
ORGANIZER;CN="Age Concern Taranaki":MAILTO:info@ageconcerntaranaki.org.nz
END:VEVENT
END:VCALENDAR