BEGIN:VCALENDAR
VERSION:2.0
PRODID:-//Age Concern Taranaki - ECPv6.15.20//NONSGML v1.0//EN
CALSCALE:GREGORIAN
METHOD:PUBLISH
X-ORIGINAL-URL:https://www.ageconcerntaranaki.org.nz
X-WR-CALDESC:Events for Age Concern Taranaki
REFRESH-INTERVAL;VALUE=DURATION:PT1H
X-Robots-Tag:noindex
X-PUBLISHED-TTL:PT1H
BEGIN:VTIMEZONE
TZID:UTC
BEGIN:STANDARD
TZOFFSETFROM:+0000
TZOFFSETTO:+0000
TZNAME:UTC
DTSTART:20250101T000000
END:STANDARD
END:VTIMEZONE
BEGIN:VEVENT
DTSTART;TZID=UTC:20260515T100000
DTEND;TZID=UTC:20260515T120000
DTSTAMP:20260421T064922
CREATED:20251124T221516Z
LAST-MODIFIED:20260202T015217Z
UID:10002278-1778839200-1778846400@www.ageconcerntaranaki.org.nz
SUMMARY:Games and Craft Morning - Hāwera
DESCRIPTION:First and third Friday of the month excluding public holidays \n10:00 at Presbyterian Centre\, Argyle Street\, Hawera. \nCome along and enjoy a game of Rummy-O\, Scrabble\, or try a puzzle. \nOr enjoy the company of others while you complete your own crafts \nKOHA – $2 donation.
URL:https://www.ageconcerntaranaki.org.nz/event/games-and-craft-morning-hawera/2026-05-15/
LOCATION:Age Concern Taranaki Hawera Office\, Presbyterian Church
CATEGORIES:Games,Social Connection
END:VEVENT
BEGIN:VEVENT
DTSTART;TZID=UTC:20260619T100000
DTEND;TZID=UTC:20260619T120000
DTSTAMP:20260421T064922
CREATED:20251124T221516Z
LAST-MODIFIED:20260202T015217Z
UID:10002279-1781863200-1781870400@www.ageconcerntaranaki.org.nz
SUMMARY:Games and Craft Morning - Hāwera
DESCRIPTION:First and third Friday of the month excluding public holidays \n10:00 at Presbyterian Centre\, Argyle Street\, Hawera. \nCome along and enjoy a game of Rummy-O\, Scrabble\, or try a puzzle. \nOr enjoy the company of others while you complete your own crafts \nKOHA – $2 donation.
URL:https://www.ageconcerntaranaki.org.nz/event/games-and-craft-morning-hawera/2026-06-19/
LOCATION:Age Concern Taranaki Hawera Office\, Presbyterian Church
CATEGORIES:Games,Social Connection
END:VEVENT
BEGIN:VEVENT
DTSTART;TZID=UTC:20260717T100000
DTEND;TZID=UTC:20260717T120000
DTSTAMP:20260421T064922
CREATED:20251124T221516Z
LAST-MODIFIED:20260202T015217Z
UID:10002280-1784282400-1784289600@www.ageconcerntaranaki.org.nz
SUMMARY:Games and Craft Morning - Hāwera
DESCRIPTION:First and third Friday of the month excluding public holidays \n10:00 at Presbyterian Centre\, Argyle Street\, Hawera. \nCome along and enjoy a game of Rummy-O\, Scrabble\, or try a puzzle. \nOr enjoy the company of others while you complete your own crafts \nKOHA – $2 donation.
URL:https://www.ageconcerntaranaki.org.nz/event/games-and-craft-morning-hawera/2026-07-17/
LOCATION:Age Concern Taranaki Hawera Office\, Presbyterian Church
CATEGORIES:Games,Social Connection
END:VEVENT
BEGIN:VEVENT
DTSTART;TZID=UTC:20260821T100000
DTEND;TZID=UTC:20260821T120000
DTSTAMP:20260421T064922
CREATED:20251124T221516Z
LAST-MODIFIED:20260202T015217Z
UID:10002281-1787306400-1787313600@www.ageconcerntaranaki.org.nz
SUMMARY:Games and Craft Morning - Hāwera
DESCRIPTION:First and third Friday of the month excluding public holidays \n10:00 at Presbyterian Centre\, Argyle Street\, Hawera. \nCome along and enjoy a game of Rummy-O\, Scrabble\, or try a puzzle. \nOr enjoy the company of others while you complete your own crafts \nKOHA – $2 donation.
URL:https://www.ageconcerntaranaki.org.nz/event/games-and-craft-morning-hawera/2026-08-21/
LOCATION:Age Concern Taranaki Hawera Office\, Presbyterian Church
CATEGORIES:Games,Social Connection
END:VEVENT
BEGIN:VEVENT
DTSTART;TZID=UTC:20260918T100000
DTEND;TZID=UTC:20260918T120000
DTSTAMP:20260421T064922
CREATED:20251124T221516Z
LAST-MODIFIED:20260202T015217Z
UID:10002282-1789725600-1789732800@www.ageconcerntaranaki.org.nz
SUMMARY:Games and Craft Morning - Hāwera
DESCRIPTION:First and third Friday of the month excluding public holidays \n10:00 at Presbyterian Centre\, Argyle Street\, Hawera. \nCome along and enjoy a game of Rummy-O\, Scrabble\, or try a puzzle. \nOr enjoy the company of others while you complete your own crafts \nKOHA – $2 donation.
URL:https://www.ageconcerntaranaki.org.nz/event/games-and-craft-morning-hawera/2026-09-18/
LOCATION:Age Concern Taranaki Hawera Office\, Presbyterian Church
CATEGORIES:Games,Social Connection
END:VEVENT
BEGIN:VEVENT
DTSTART;TZID=UTC:20261016T100000
DTEND;TZID=UTC:20261016T120000
DTSTAMP:20260421T064922
CREATED:20251124T221516Z
LAST-MODIFIED:20260202T015217Z
UID:10002283-1792144800-1792152000@www.ageconcerntaranaki.org.nz
SUMMARY:Games and Craft Morning - Hāwera
DESCRIPTION:First and third Friday of the month excluding public holidays \n10:00 at Presbyterian Centre\, Argyle Street\, Hawera. \nCome along and enjoy a game of Rummy-O\, Scrabble\, or try a puzzle. \nOr enjoy the company of others while you complete your own crafts \nKOHA – $2 donation.
URL:https://www.ageconcerntaranaki.org.nz/event/games-and-craft-morning-hawera/2026-10-16/
LOCATION:Age Concern Taranaki Hawera Office\, Presbyterian Church
CATEGORIES:Games,Social Connection
END:VEVENT
BEGIN:VEVENT
DTSTART;TZID=UTC:20261120T100000
DTEND;TZID=UTC:20261120T120000
DTSTAMP:20260421T064922
CREATED:20251124T221516Z
LAST-MODIFIED:20260202T015217Z
UID:10002284-1795168800-1795176000@www.ageconcerntaranaki.org.nz
SUMMARY:Games and Craft Morning - Hāwera
DESCRIPTION:First and third Friday of the month excluding public holidays \n10:00 at Presbyterian Centre\, Argyle Street\, Hawera. \nCome along and enjoy a game of Rummy-O\, Scrabble\, or try a puzzle. \nOr enjoy the company of others while you complete your own crafts \nKOHA – $2 donation.
URL:https://www.ageconcerntaranaki.org.nz/event/games-and-craft-morning-hawera/2026-11-20/
LOCATION:Age Concern Taranaki Hawera Office\, Presbyterian Church
CATEGORIES:Games,Social Connection
END:VEVENT
END:VCALENDAR