BEGIN:VCALENDAR
VERSION:2.0
PRODID:-//Age Concern Taranaki - ECPv6.15.20//NONSGML v1.0//EN
CALSCALE:GREGORIAN
METHOD:PUBLISH
X-ORIGINAL-URL:https://www.ageconcerntaranaki.org.nz
X-WR-CALDESC:Events for Age Concern Taranaki
REFRESH-INTERVAL;VALUE=DURATION:PT1H
X-Robots-Tag:noindex
X-PUBLISHED-TTL:PT1H
BEGIN:VTIMEZONE
TZID:Pacific/Auckland
BEGIN:STANDARD
TZOFFSETFROM:+1300
TZOFFSETTO:+1200
TZNAME:NZST
DTSTART:20250405T140000
END:STANDARD
BEGIN:DAYLIGHT
TZOFFSETFROM:+1200
TZOFFSETTO:+1300
TZNAME:NZDT
DTSTART:20250927T140000
END:DAYLIGHT
BEGIN:STANDARD
TZOFFSETFROM:+1300
TZOFFSETTO:+1200
TZNAME:NZST
DTSTART:20260404T140000
END:STANDARD
BEGIN:DAYLIGHT
TZOFFSETFROM:+1200
TZOFFSETTO:+1300
TZNAME:NZDT
DTSTART:20260926T140000
END:DAYLIGHT
BEGIN:STANDARD
TZOFFSETFROM:+1300
TZOFFSETTO:+1200
TZNAME:NZST
DTSTART:20270403T140000
END:STANDARD
BEGIN:DAYLIGHT
TZOFFSETFROM:+1200
TZOFFSETTO:+1300
TZNAME:NZDT
DTSTART:20270925T140000
END:DAYLIGHT
END:VTIMEZONE
BEGIN:VTIMEZONE
TZID:UTC
BEGIN:STANDARD
TZOFFSETFROM:+0000
TZOFFSETTO:+0000
TZNAME:UTC
DTSTART:20240101T000000
END:STANDARD
END:VTIMEZONE
BEGIN:VEVENT
DTSTART;TZID=Pacific/Auckland:20260318T113000
DTEND;TZID=Pacific/Auckland:20260318T130000
DTSTAMP:20260422T225517
CREATED:20260222T214632Z
LAST-MODIFIED:20260222T214632Z
UID:10002688-1773833400-1773838800@www.ageconcerntaranaki.org.nz
SUMMARY:March Outing - North
DESCRIPTION:🚌 March North Monthly Outing – Lunch at Sunworld\n📅 Wednesday 18th March 2026 \n📍Sunworld Restaurant \n250 Devon Street East \nNew Plymouth \n🕒 Time: 11.30am \n💰 Cost: $22.90 per person \n📞 Bookings:Please book with: \n\n\nPauline or Robyn: 06 759 9196 \n\n\n📌 Bookings and payment required by Wednesday 11th March
URL:https://www.ageconcerntaranaki.org.nz/event/march-outing-north/
LOCATION:Sunworld Restaurant\, 250 Devon Street east\, New Plymouth\, New Zealand
CATEGORIES:Monthly Outings,Social Connection
ORGANIZER;CN="Age Concern Taranaki":MAILTO:info@ageconcerntaranaki.org.nz
END:VEVENT
BEGIN:VEVENT
DTSTART;TZID=Pacific/Auckland:20260311T083000
DTEND;TZID=Pacific/Auckland:20260311T153000
DTSTAMP:20260422T225517
CREATED:20260204T014105Z
LAST-MODIFIED:20260204T014105Z
UID:10002661-1773217800-1773243000@www.ageconcerntaranaki.org.nz
SUMMARY:March Outing - South
DESCRIPTION:🚌 March South Monthly Outing – Mystery North Bus Tour\n📅 Wednesday 11th March 2026 \nJoin us for a fun day out with our Mystery North Taranaki Bus Tour — where we’re going is a surprise! Enjoy great company\, scenic views\, and a relaxing day of exploration. \n🕘 Pick-Up Times & Locations \n\n\n8:45am – Hawera: Presbyterian Hall\, Argyle Street \n\n\n9:20am – Stratford: Bus Stop\, War Memorial\, Miranda Street \n\n\n🕒 Return Times (approx.) \n\n\nStratford: 3:00pm \n\n\nHawera: 3:30pm \n\n\n💰 Cost: $80 per person \n📞 Bookings:Please book with: \n\n\nKatrina: 027 228 5371 \n\n\nJulie: 027 264 3086 \n\n\n📌 Bookings and payment required by Thursday 26th February \nℹ️ Important Information: \n\n\nPlease bring your own water bottle \n\n\nSome easy walking will be involved \n\n\nWalkers can be stored on the bus \n\n\nYou will need to be able to hop onto the bus unassisted \n\n\nWe look forward to sharing this special mystery adventure with you! 😊
URL:https://www.ageconcerntaranaki.org.nz/event/march-outing-south/
LOCATION:Age Concern Taranaki Hawera Office\, Presbyterian Church
CATEGORIES:Monthly Outings,Social Connection
ATTACH;FMTTYPE=image/png:https://www.ageconcerntaranaki.org.nz/wp-content/uploads/2026/02/South-March-Outing.png
ORGANIZER;CN="Age Concern Taranaki":MAILTO:info@ageconcerntaranaki.org.nz
END:VEVENT
BEGIN:VEVENT
DTSTART;TZID=Pacific/Auckland:20260218T113000
DTEND;TZID=Pacific/Auckland:20260218T133000
DTSTAMP:20260422T225517
CREATED:20260202T023337Z
LAST-MODIFIED:20260202T023337Z
UID:10002648-1771414200-1771421400@www.ageconcerntaranaki.org.nz
SUMMARY:February Outing - New Plymouth
DESCRIPTION:Lunch at Good Home New Plymouth \n21 Ariki Street\, New Plymouth \nRegistration required: contact Pauline 06 759 9196
URL:https://www.ageconcerntaranaki.org.nz/event/february-outing-new-plymouth/
LOCATION:Good Home New Plymouth\, 21 Ariki Street\, New Plymouth\, New Zealand
CATEGORIES:Monthly Outings,Social Connection
END:VEVENT
BEGIN:VEVENT
DTSTART;TZID=Pacific/Auckland:20260202T120000
DTEND;TZID=Pacific/Auckland:20260202T133000
DTSTAMP:20260422T225517
CREATED:20260202T021718Z
LAST-MODIFIED:20260202T021718Z
UID:10002532-1770033600-1770039000@www.ageconcerntaranaki.org.nz
SUMMARY:February Outing - South
DESCRIPTION:Wednesday 11th February \n12noon \nSouth Taranaki Club \nCaledonia Street \nHawera \nRegister with Julie or Katrina 06 759 9196
URL:https://www.ageconcerntaranaki.org.nz/event/february-outing-south/
LOCATION:South Taranaki Club\, 43 Caledonia Street\, Hawera\, New Zealand
CATEGORIES:Monthly Outings,Social Connection
ORGANIZER;CN="Age Concern Taranaki":MAILTO:info@ageconcerntaranaki.org.nz
END:VEVENT
BEGIN:VEVENT
DTSTART;TZID=UTC:20250521T113000
DTEND;TZID=UTC:20250521T130000
DTSTAMP:20260422T225517
CREATED:20250420T142313Z
LAST-MODIFIED:20250420T142313Z
UID:10000684-1747827000-1747832400@www.ageconcerntaranaki.org.nz
SUMMARY:May Outing - New Plymouth
DESCRIPTION:May Monthly Outing – Oh we do like to sit beside the seaside! \nJoin us for our May Monthly Outing as we enjoy a delicious lunch and great company at Gusto. This is a wonderful opportunity to socialise\, relax\, and share a meal together. \n📅 Wednesday\, May 21st\, 2025⏰ 11:30 AM 📍 Gusto on Ocean View Parade\, Ngamotu Beachfront💲 On Menu \nFor more information or to register\, please contact Pauline at 06 759 9196. We look forward to seeing you there!
URL:https://www.ageconcerntaranaki.org.nz/event/may-outing-np/
LOCATION:Gusto\, 31 Ocean View Parade\,\, Port Taranaki\,\, Taranaki\, 4310\, New Zealand
CATEGORIES:Monthly Outings,Social Connection
END:VEVENT
BEGIN:VEVENT
DTSTART;TZID=UTC:20250421T000000
DTEND;TZID=UTC:20250421T000000
DTSTAMP:20260422T225517
CREATED:20250420T120840Z
LAST-MODIFIED:20250420T142614Z
UID:10000239-1745193600-1745193600@www.ageconcerntaranaki.org.nz
SUMMARY:May Outing - Lunch at Tika
DESCRIPTION:May Monthly Outing – Lunch at Tika! \nJoin us for our May Monthly Outing as we enjoy a delicious lunch and great company at Tika Cafe. This is a wonderful opportunity to socialise\, relax\, and share a meal together. \n📅 Wednesday\, May 21st\, 2025⏰ 12.00noon 📍 Tika Cafe\, 30 Nelson Street Hawera💲 $15 Roast Meal or purchase from the menu \nFor more information or to register\, please contact Estelle or Julie at 06 759 9196. We look forward to seeing you there!
URL:https://www.ageconcerntaranaki.org.nz/event/lunch-at-tika/
LOCATION:Tika Cafe – Hawera\, 30 Nelson Street\, Hawera\, New Zealand
CATEGORIES:Monthly Outings,Social Connection
ORGANIZER;CN="Age Concern Taranaki":MAILTO:info@ageconcerntaranaki.org.nz
END:VEVENT
BEGIN:VEVENT
DTSTART;TZID=UTC:20250416T123000
DTEND;TZID=UTC:20250416T140000
DTSTAMP:20260422T225517
CREATED:20250319T120831Z
LAST-MODIFIED:20250319T120831Z
UID:10000084-1744806600-1744812000@www.ageconcerntaranaki.org.nz
SUMMARY:April Outing
DESCRIPTION:April Monthly Outing – Lunch at The Fitz! \nJoin us for our April Monthly Outing as we enjoy a delicious roast meal and great company at The Fitz. This is a wonderful opportunity to socialise\, relax\, and share a meal together. \n📅 Wednesday\, April 16th\, 2025⏰ 12:30 PM (Please note the later start time)📍 The Fitz💲 $20 Roast Meal (Optional dessert\, tea & coffee available at an additional cost) \nFor more information or to arrange transport\, please contact Pauline at 06 759 9196. We look forward to seeing you there!
URL:https://www.ageconcerntaranaki.org.nz/event/april-outing/
LOCATION:The Fitz\, 601 Devon Street East\, New Plymouth\, 4312\, New Zealand
CATEGORIES:Monthly Outings,Social Connection
END:VEVENT
END:VCALENDAR