BEGIN:VCALENDAR
VERSION:2.0
PRODID:-//Age Concern Taranaki - ECPv6.15.20//NONSGML v1.0//EN
CALSCALE:GREGORIAN
METHOD:PUBLISH
X-WR-CALNAME:Age Concern Taranaki
X-ORIGINAL-URL:https://www.ageconcerntaranaki.org.nz
X-WR-CALDESC:Events for Age Concern Taranaki
REFRESH-INTERVAL;VALUE=DURATION:PT1H
X-Robots-Tag:noindex
X-PUBLISHED-TTL:PT1H
BEGIN:VTIMEZONE
TZID:Pacific/Auckland
BEGIN:STANDARD
TZOFFSETFROM:+1300
TZOFFSETTO:+1200
TZNAME:NZST
DTSTART:20250405T140000
END:STANDARD
BEGIN:DAYLIGHT
TZOFFSETFROM:+1200
TZOFFSETTO:+1300
TZNAME:NZDT
DTSTART:20250927T140000
END:DAYLIGHT
BEGIN:STANDARD
TZOFFSETFROM:+1300
TZOFFSETTO:+1200
TZNAME:NZST
DTSTART:20260404T140000
END:STANDARD
BEGIN:DAYLIGHT
TZOFFSETFROM:+1200
TZOFFSETTO:+1300
TZNAME:NZDT
DTSTART:20260926T140000
END:DAYLIGHT
BEGIN:STANDARD
TZOFFSETFROM:+1300
TZOFFSETTO:+1200
TZNAME:NZST
DTSTART:20270403T140000
END:STANDARD
BEGIN:DAYLIGHT
TZOFFSETFROM:+1200
TZOFFSETTO:+1300
TZNAME:NZDT
DTSTART:20270925T140000
END:DAYLIGHT
END:VTIMEZONE
BEGIN:VTIMEZONE
TZID:UTC
BEGIN:STANDARD
TZOFFSETFROM:+0000
TZOFFSETTO:+0000
TZNAME:UTC
DTSTART:20250101T000000
END:STANDARD
END:VTIMEZONE
BEGIN:VEVENT
DTSTART;TZID=Pacific/Auckland:20260603T101500
DTEND;TZID=Pacific/Auckland:20260603T113000
DTSTAMP:20260421T234845
CREATED:20260202T022025Z
LAST-MODIFIED:20260222T212851Z
UID:10002550-1780481700-1780486200@www.ageconcerntaranaki.org.nz
SUMMARY:Music and Movement - Hawera
DESCRIPTION:Held every Wednesday 10.15am \nCome and enjoy a morning of music and movement with Katrina. \nExercise in a fun and safe environment to great music from the 60’s. \nBring a water bottle. \n$2 per session
URL:https://www.ageconcerntaranaki.org.nz/event/music-and-movement-hawera/2026-06-03/
LOCATION:Age Concern Taranaki Hawera Office\, Presbyterian Church
CATEGORIES:Music Groups,Social Connection
ORGANIZER;CN="Age Concern Taranaki":MAILTO:info@ageconcerntaranaki.org.nz
END:VEVENT
BEGIN:VEVENT
DTSTART;TZID=UTC:20260603T133000
DTEND;TZID=UTC:20260603T153000
DTSTAMP:20260421T234845
CREATED:20260222T220848Z
LAST-MODIFIED:20260222T220848Z
UID:10002694-1780493400-1780500600@www.ageconcerntaranaki.org.nz
SUMMARY:Music and Movement Inglewood
DESCRIPTION:Inglewood Music and Movement – Connect & Enjoy! ☕👫🎶 \nJoin us at Age Concern Taranaki’s Inglewood Music and Movement\, a friendly gathering where you can meet new people\, enjoy great company\, and have a wonderful time! \n📅 When? 1st Wednesday of every month🕜 Time? 1:30 PM – 3:30 PM📍 Where? Marinoto\, 72 Matai Street\, Inglewood \nWhat’s in store?🎶music\, rhythm\, movement stimulate coordination and memories☕ Enjoy a lovely afternoon tea🤝 Make new friends in a relaxed\, welcoming atmosphere \nCome along\, bring a friend\, and be part of this wonderful community gathering!
URL:https://www.ageconcerntaranaki.org.nz/event/inglewood-music-and-movement/2026-06-03/
LOCATION:Marinoto Inglewood\, 72 Matai Street\, Inglewood\, Taranaki\, New Zealand
CATEGORIES:Music Groups,Social Afternoons,Social Connection
ORGANIZER;CN="Age Concern Taranaki":MAILTO:info@ageconcerntaranaki.org.nz
END:VEVENT
BEGIN:VEVENT
DTSTART;TZID=UTC:20260605T130000
DTEND;TZID=UTC:20260605T153000
DTSTAMP:20260421T234845
CREATED:20251124T215159Z
LAST-MODIFIED:20260323T220856Z
UID:10002148-1780664400-1780673400@www.ageconcerntaranaki.org.nz
SUMMARY:Waitara Waiata & Wellbeing
DESCRIPTION:🎶 Waiata & Wellbeing – Waitara’s Music & Movement Group! 💃 \nNau mai\, haere mai! Join us for Waiata & Wellbeing\, a vibrant music and movement group in Waitara\, welcoming Kaumātua\, older people\, whānau\, and friends. Whether you love to sing\, play\, dance\, or just enjoy the rhythm\, this is a space to connect\, have fun\, and stay active! \n🎤 Sing along to well-loved songs🎸 Try an instrument or bring your own💃 Move & groove with fun\, easy exercises☕ Enjoy good company & a cuppa🎶 Feel the joy of music in a supportive\, uplifting space \n📍 Where? Senior Citizens Hall\, 3 Warre Street\, Waitara📅 When? 1pm – 3.30pm📞 Contact Age Concern Taranaki to learn more \nCome along\, bring your whānau\, and let’s celebrate the power of music together! 🎶✨
URL:https://www.ageconcerntaranaki.org.nz/event/waitara-waiata-wellbeing-2/2026-06-05/
LOCATION:Senior Citizens Hall Waitara\, 3 Warre Street\, Waitara\, Taranaki
CATEGORIES:Music Groups,Social Connection
ORGANIZER;CN="Age Concern Taranaki":MAILTO:info@ageconcerntaranaki.org.nz
END:VEVENT
BEGIN:VEVENT
DTSTART;TZID=UTC:20260610T093000
DTEND;TZID=UTC:20260610T113000
DTSTAMP:20260421T234845
CREATED:20251124T215856Z
LAST-MODIFIED:20260202T021231Z
UID:10002206-1781083800-1781091000@www.ageconcerntaranaki.org.nz
SUMMARY:Warm Up Wednesday
DESCRIPTION:Warm Up Wednesday 9.30am-11.30am \nEvery 2nd and 4th Wednesday of the month. \nSinging\, instruments\, movement and fun. \nEnjoy a light spoons and tunes treat on the day served at 10.45am \n  \nGold Coin Donation
URL:https://www.ageconcerntaranaki.org.nz/event/warm-up-wednesday-3/2026-06-10/
LOCATION:Age Concern Taranaki New Plymouth Office\, 33 Liardet Street\, New Plymouth\, 4312\, New Zealand
CATEGORIES:Music Groups,Social Connection
ORGANIZER;CN="Age Concern Taranaki":MAILTO:info@ageconcerntaranaki.org.nz
END:VEVENT
BEGIN:VEVENT
DTSTART;TZID=Pacific/Auckland:20260610T101500
DTEND;TZID=Pacific/Auckland:20260610T113000
DTSTAMP:20260421T234845
CREATED:20260202T022025Z
LAST-MODIFIED:20260222T212851Z
UID:10002551-1781086500-1781091000@www.ageconcerntaranaki.org.nz
SUMMARY:Music and Movement - Hawera
DESCRIPTION:Held every Wednesday 10.15am \nCome and enjoy a morning of music and movement with Katrina. \nExercise in a fun and safe environment to great music from the 60’s. \nBring a water bottle. \n$2 per session
URL:https://www.ageconcerntaranaki.org.nz/event/music-and-movement-hawera/2026-06-10/
LOCATION:Age Concern Taranaki Hawera Office\, Presbyterian Church
CATEGORIES:Music Groups,Social Connection
ORGANIZER;CN="Age Concern Taranaki":MAILTO:info@ageconcerntaranaki.org.nz
END:VEVENT
BEGIN:VEVENT
DTSTART;TZID=UTC:20260612T103000
DTEND;TZID=UTC:20260612T113000
DTSTAMP:20260421T234845
CREATED:20260202T002800Z
LAST-MODIFIED:20260202T002800Z
UID:10002420-1781260200-1781263800@www.ageconcerntaranaki.org.nz
SUMMARY:Stratford Chirpy Fridays - Music and Sing-a-long
DESCRIPTION:Occurs on Second and fourth Friday of the month \n10:30am Senior Citizens Hall\,  \n53 Juliet Street\, Stratford. \nMorning Coffee / Tea will be provided\, please join us to make or meet with friends\, socialise\, relax and sing the Friday away! \nKOHA will be appreciated
URL:https://www.ageconcerntaranaki.org.nz/event/stratford-chirpy-fridays-music-and-sing-a-long/2026-06-12/
LOCATION:Senior Citizens Hall Stratford\, 53 Juliet Street\, Stratford\, New Zealand
CATEGORIES:Music Groups,Social Connection
ORGANIZER;CN="Age Concern Taranaki":MAILTO:info@ageconcerntaranaki.org.nz
END:VEVENT
BEGIN:VEVENT
DTSTART;TZID=UTC:20260612T130000
DTEND;TZID=UTC:20260612T153000
DTSTAMP:20260421T234845
CREATED:20251124T215159Z
LAST-MODIFIED:20260323T220856Z
UID:10002149-1781269200-1781278200@www.ageconcerntaranaki.org.nz
SUMMARY:Waitara Waiata & Wellbeing
DESCRIPTION:🎶 Waiata & Wellbeing – Waitara’s Music & Movement Group! 💃 \nNau mai\, haere mai! Join us for Waiata & Wellbeing\, a vibrant music and movement group in Waitara\, welcoming Kaumātua\, older people\, whānau\, and friends. Whether you love to sing\, play\, dance\, or just enjoy the rhythm\, this is a space to connect\, have fun\, and stay active! \n🎤 Sing along to well-loved songs🎸 Try an instrument or bring your own💃 Move & groove with fun\, easy exercises☕ Enjoy good company & a cuppa🎶 Feel the joy of music in a supportive\, uplifting space \n📍 Where? Senior Citizens Hall\, 3 Warre Street\, Waitara📅 When? 1pm – 3.30pm📞 Contact Age Concern Taranaki to learn more \nCome along\, bring your whānau\, and let’s celebrate the power of music together! 🎶✨
URL:https://www.ageconcerntaranaki.org.nz/event/waitara-waiata-wellbeing-2/2026-06-12/
LOCATION:Senior Citizens Hall Waitara\, 3 Warre Street\, Waitara\, Taranaki
CATEGORIES:Music Groups,Social Connection
ORGANIZER;CN="Age Concern Taranaki":MAILTO:info@ageconcerntaranaki.org.nz
END:VEVENT
BEGIN:VEVENT
DTSTART;TZID=Pacific/Auckland:20260617T101500
DTEND;TZID=Pacific/Auckland:20260617T113000
DTSTAMP:20260421T234845
CREATED:20260202T022025Z
LAST-MODIFIED:20260222T212851Z
UID:10002552-1781691300-1781695800@www.ageconcerntaranaki.org.nz
SUMMARY:Music and Movement - Hawera
DESCRIPTION:Held every Wednesday 10.15am \nCome and enjoy a morning of music and movement with Katrina. \nExercise in a fun and safe environment to great music from the 60’s. \nBring a water bottle. \n$2 per session
URL:https://www.ageconcerntaranaki.org.nz/event/music-and-movement-hawera/2026-06-17/
LOCATION:Age Concern Taranaki Hawera Office\, Presbyterian Church
CATEGORIES:Music Groups,Social Connection
ORGANIZER;CN="Age Concern Taranaki":MAILTO:info@ageconcerntaranaki.org.nz
END:VEVENT
BEGIN:VEVENT
DTSTART;TZID=UTC:20260619T130000
DTEND;TZID=UTC:20260619T153000
DTSTAMP:20260421T234845
CREATED:20251124T215159Z
LAST-MODIFIED:20260323T220856Z
UID:10002150-1781874000-1781883000@www.ageconcerntaranaki.org.nz
SUMMARY:Waitara Waiata & Wellbeing
DESCRIPTION:🎶 Waiata & Wellbeing – Waitara’s Music & Movement Group! 💃 \nNau mai\, haere mai! Join us for Waiata & Wellbeing\, a vibrant music and movement group in Waitara\, welcoming Kaumātua\, older people\, whānau\, and friends. Whether you love to sing\, play\, dance\, or just enjoy the rhythm\, this is a space to connect\, have fun\, and stay active! \n🎤 Sing along to well-loved songs🎸 Try an instrument or bring your own💃 Move & groove with fun\, easy exercises☕ Enjoy good company & a cuppa🎶 Feel the joy of music in a supportive\, uplifting space \n📍 Where? Senior Citizens Hall\, 3 Warre Street\, Waitara📅 When? 1pm – 3.30pm📞 Contact Age Concern Taranaki to learn more \nCome along\, bring your whānau\, and let’s celebrate the power of music together! 🎶✨
URL:https://www.ageconcerntaranaki.org.nz/event/waitara-waiata-wellbeing-2/2026-06-19/
LOCATION:Senior Citizens Hall Waitara\, 3 Warre Street\, Waitara\, Taranaki
CATEGORIES:Music Groups,Social Connection
ORGANIZER;CN="Age Concern Taranaki":MAILTO:info@ageconcerntaranaki.org.nz
END:VEVENT
BEGIN:VEVENT
DTSTART;TZID=UTC:20260624T093000
DTEND;TZID=UTC:20260624T113000
DTSTAMP:20260421T234845
CREATED:20251124T215705Z
LAST-MODIFIED:20260202T021125Z
UID:10002185-1782293400-1782300600@www.ageconcerntaranaki.org.nz
SUMMARY:Warm Up Wednesday
DESCRIPTION:Warm Up Wednesday 9.30am-11.30am \nEvery 2nd and 4th Wednesday of the month. \nSinging\, instruments\, movement and fun. \nEnjoy a light spoons and tunes treat on the day served at 10.45am \n  \nGold Coin Donation
URL:https://www.ageconcerntaranaki.org.nz/event/warm-up-wednesday-2/2026-06-24/
LOCATION:Age Concern Taranaki New Plymouth Office\, 33 Liardet Street\, New Plymouth\, 4312\, New Zealand
CATEGORIES:Music Groups,Social Connection
ORGANIZER;CN="Age Concern Taranaki":MAILTO:info@ageconcerntaranaki.org.nz
END:VEVENT
BEGIN:VEVENT
DTSTART;TZID=Pacific/Auckland:20260624T101500
DTEND;TZID=Pacific/Auckland:20260624T113000
DTSTAMP:20260421T234845
CREATED:20260202T022025Z
LAST-MODIFIED:20260222T212851Z
UID:10002553-1782296100-1782300600@www.ageconcerntaranaki.org.nz
SUMMARY:Music and Movement - Hawera
DESCRIPTION:Held every Wednesday 10.15am \nCome and enjoy a morning of music and movement with Katrina. \nExercise in a fun and safe environment to great music from the 60’s. \nBring a water bottle. \n$2 per session
URL:https://www.ageconcerntaranaki.org.nz/event/music-and-movement-hawera/2026-06-24/
LOCATION:Age Concern Taranaki Hawera Office\, Presbyterian Church
CATEGORIES:Music Groups,Social Connection
ORGANIZER;CN="Age Concern Taranaki":MAILTO:info@ageconcerntaranaki.org.nz
END:VEVENT
BEGIN:VEVENT
DTSTART;TZID=UTC:20260626T103000
DTEND;TZID=UTC:20260626T113000
DTSTAMP:20260421T234845
CREATED:20260202T003124Z
LAST-MODIFIED:20260202T003124Z
UID:10002449-1782469800-1782473400@www.ageconcerntaranaki.org.nz
SUMMARY:Stratford Chirpy Fridays - Music and Sing-a-long
DESCRIPTION:Occurs on Second and fourth Friday of the month \n10:30am Senior Citizens Hall\,  \n53 Juliet Street\, Stratford. \nMorning Coffee / Tea will be provided\, please join us to make or meet with friends\, socialise\, relax and sing the Friday away! \nKOHA will be appreciated
URL:https://www.ageconcerntaranaki.org.nz/event/stratford-chirpy-fridays-music-and-sing-a-long-2/2026-06-26/
LOCATION:Senior Citizens Hall Stratford\, 53 Juliet Street\, Stratford\, New Zealand
CATEGORIES:Music Groups,Social Connection
ORGANIZER;CN="Age Concern Taranaki":MAILTO:info@ageconcerntaranaki.org.nz
END:VEVENT
BEGIN:VEVENT
DTSTART;TZID=UTC:20260626T130000
DTEND;TZID=UTC:20260626T153000
DTSTAMP:20260421T234845
CREATED:20251124T215159Z
LAST-MODIFIED:20260323T220856Z
UID:10002151-1782478800-1782487800@www.ageconcerntaranaki.org.nz
SUMMARY:Waitara Waiata & Wellbeing
DESCRIPTION:🎶 Waiata & Wellbeing – Waitara’s Music & Movement Group! 💃 \nNau mai\, haere mai! Join us for Waiata & Wellbeing\, a vibrant music and movement group in Waitara\, welcoming Kaumātua\, older people\, whānau\, and friends. Whether you love to sing\, play\, dance\, or just enjoy the rhythm\, this is a space to connect\, have fun\, and stay active! \n🎤 Sing along to well-loved songs🎸 Try an instrument or bring your own💃 Move & groove with fun\, easy exercises☕ Enjoy good company & a cuppa🎶 Feel the joy of music in a supportive\, uplifting space \n📍 Where? Senior Citizens Hall\, 3 Warre Street\, Waitara📅 When? 1pm – 3.30pm📞 Contact Age Concern Taranaki to learn more \nCome along\, bring your whānau\, and let’s celebrate the power of music together! 🎶✨
URL:https://www.ageconcerntaranaki.org.nz/event/waitara-waiata-wellbeing-2/2026-06-26/
LOCATION:Senior Citizens Hall Waitara\, 3 Warre Street\, Waitara\, Taranaki
CATEGORIES:Music Groups,Social Connection
ORGANIZER;CN="Age Concern Taranaki":MAILTO:info@ageconcerntaranaki.org.nz
END:VEVENT
END:VCALENDAR