BEGIN:VCALENDAR
VERSION:2.0
PRODID:-//Age Concern Taranaki - ECPv6.15.20//NONSGML v1.0//EN
CALSCALE:GREGORIAN
METHOD:PUBLISH
X-ORIGINAL-URL:https://www.ageconcerntaranaki.org.nz
X-WR-CALDESC:Events for Age Concern Taranaki
REFRESH-INTERVAL;VALUE=DURATION:PT1H
X-Robots-Tag:noindex
X-PUBLISHED-TTL:PT1H
BEGIN:VTIMEZONE
TZID:UTC
BEGIN:STANDARD
TZOFFSETFROM:+0000
TZOFFSETTO:+0000
TZNAME:UTC
DTSTART:20250101T000000
END:STANDARD
END:VTIMEZONE
BEGIN:VEVENT
DTSTART;TZID=UTC:20260710T103000
DTEND;TZID=UTC:20260710T113000
DTSTAMP:20260422T222439
CREATED:20260202T002800Z
LAST-MODIFIED:20260202T002800Z
UID:10002421-1783679400-1783683000@www.ageconcerntaranaki.org.nz
SUMMARY:Stratford Chirpy Fridays - Music and Sing-a-long
DESCRIPTION:Occurs on Second and fourth Friday of the month \n10:30am Senior Citizens Hall\,  \n53 Juliet Street\, Stratford. \nMorning Coffee / Tea will be provided\, please join us to make or meet with friends\, socialise\, relax and sing the Friday away! \nKOHA will be appreciated
URL:https://www.ageconcerntaranaki.org.nz/event/stratford-chirpy-fridays-music-and-sing-a-long/2026-07-10/
LOCATION:Senior Citizens Hall Stratford\, 53 Juliet Street\, Stratford\, New Zealand
CATEGORIES:Music Groups,Social Connection
ORGANIZER;CN="Age Concern Taranaki":MAILTO:info@ageconcerntaranaki.org.nz
END:VEVENT
END:VCALENDAR