BEGIN:VCALENDAR
VERSION:2.0
PRODID:-//Age Concern Taranaki - ECPv6.15.20//NONSGML v1.0//EN
CALSCALE:GREGORIAN
METHOD:PUBLISH
X-WR-CALNAME:Age Concern Taranaki
X-ORIGINAL-URL:https://www.ageconcerntaranaki.org.nz
X-WR-CALDESC:Events for Age Concern Taranaki
REFRESH-INTERVAL;VALUE=DURATION:PT1H
X-Robots-Tag:noindex
X-PUBLISHED-TTL:PT1H
BEGIN:VTIMEZONE
TZID:Pacific/Auckland
BEGIN:STANDARD
TZOFFSETFROM:+1300
TZOFFSETTO:+1200
TZNAME:NZST
DTSTART:20250405T140000
END:STANDARD
BEGIN:DAYLIGHT
TZOFFSETFROM:+1200
TZOFFSETTO:+1300
TZNAME:NZDT
DTSTART:20250927T140000
END:DAYLIGHT
BEGIN:STANDARD
TZOFFSETFROM:+1300
TZOFFSETTO:+1200
TZNAME:NZST
DTSTART:20260404T140000
END:STANDARD
BEGIN:DAYLIGHT
TZOFFSETFROM:+1200
TZOFFSETTO:+1300
TZNAME:NZDT
DTSTART:20260926T140000
END:DAYLIGHT
BEGIN:STANDARD
TZOFFSETFROM:+1300
TZOFFSETTO:+1200
TZNAME:NZST
DTSTART:20270403T140000
END:STANDARD
BEGIN:DAYLIGHT
TZOFFSETFROM:+1200
TZOFFSETTO:+1300
TZNAME:NZDT
DTSTART:20270925T140000
END:DAYLIGHT
END:VTIMEZONE
BEGIN:VEVENT
DTSTART;TZID=Pacific/Auckland:20260501T101500
DTEND;TZID=Pacific/Auckland:20260501T110000
DTSTAMP:20260425T065654
CREATED:20260202T022948Z
LAST-MODIFIED:20260202T022948Z
UID:10002640-1777630500-1777633200@www.ageconcerntaranaki.org.nz
SUMMARY:Drop in Social - Stratford
DESCRIPTION:Held the 1st Friday of every month. \nCome and have a casual cuppa and meet new friends
URL:https://www.ageconcerntaranaki.org.nz/event/drop-in-social-stratford/2026-05-01/
LOCATION:Senior Citizens Hall Stratford\, 53 Juliet Street\, Stratford\, New Zealand
CATEGORIES:Coffee Morning Groups,Social Connection
ORGANIZER;CN="Age Concern Taranaki":MAILTO:info@ageconcerntaranaki.org.nz
END:VEVENT
BEGIN:VEVENT
DTSTART;TZID=Pacific/Auckland:20260605T101500
DTEND;TZID=Pacific/Auckland:20260605T110000
DTSTAMP:20260425T065654
CREATED:20260202T022948Z
LAST-MODIFIED:20260202T022948Z
UID:10002641-1780654500-1780657200@www.ageconcerntaranaki.org.nz
SUMMARY:Drop in Social - Stratford
DESCRIPTION:Held the 1st Friday of every month. \nCome and have a casual cuppa and meet new friends
URL:https://www.ageconcerntaranaki.org.nz/event/drop-in-social-stratford/2026-06-05/
LOCATION:Senior Citizens Hall Stratford\, 53 Juliet Street\, Stratford\, New Zealand
CATEGORIES:Coffee Morning Groups,Social Connection
ORGANIZER;CN="Age Concern Taranaki":MAILTO:info@ageconcerntaranaki.org.nz
END:VEVENT
BEGIN:VEVENT
DTSTART;TZID=Pacific/Auckland:20260703T101500
DTEND;TZID=Pacific/Auckland:20260703T110000
DTSTAMP:20260425T065654
CREATED:20260202T022948Z
LAST-MODIFIED:20260202T022948Z
UID:10002642-1783073700-1783076400@www.ageconcerntaranaki.org.nz
SUMMARY:Drop in Social - Stratford
DESCRIPTION:Held the 1st Friday of every month. \nCome and have a casual cuppa and meet new friends
URL:https://www.ageconcerntaranaki.org.nz/event/drop-in-social-stratford/2026-07-03/
LOCATION:Senior Citizens Hall Stratford\, 53 Juliet Street\, Stratford\, New Zealand
CATEGORIES:Coffee Morning Groups,Social Connection
ORGANIZER;CN="Age Concern Taranaki":MAILTO:info@ageconcerntaranaki.org.nz
END:VEVENT
BEGIN:VEVENT
DTSTART;TZID=Pacific/Auckland:20260807T101500
DTEND;TZID=Pacific/Auckland:20260807T110000
DTSTAMP:20260425T065654
CREATED:20260202T022948Z
LAST-MODIFIED:20260202T022948Z
UID:10002643-1786097700-1786100400@www.ageconcerntaranaki.org.nz
SUMMARY:Drop in Social - Stratford
DESCRIPTION:Held the 1st Friday of every month. \nCome and have a casual cuppa and meet new friends
URL:https://www.ageconcerntaranaki.org.nz/event/drop-in-social-stratford/2026-08-07/
LOCATION:Senior Citizens Hall Stratford\, 53 Juliet Street\, Stratford\, New Zealand
CATEGORIES:Coffee Morning Groups,Social Connection
ORGANIZER;CN="Age Concern Taranaki":MAILTO:info@ageconcerntaranaki.org.nz
END:VEVENT
BEGIN:VEVENT
DTSTART;TZID=Pacific/Auckland:20260904T101500
DTEND;TZID=Pacific/Auckland:20260904T110000
DTSTAMP:20260425T065654
CREATED:20260202T022948Z
LAST-MODIFIED:20260202T022948Z
UID:10002644-1788516900-1788519600@www.ageconcerntaranaki.org.nz
SUMMARY:Drop in Social - Stratford
DESCRIPTION:Held the 1st Friday of every month. \nCome and have a casual cuppa and meet new friends
URL:https://www.ageconcerntaranaki.org.nz/event/drop-in-social-stratford/2026-09-04/
LOCATION:Senior Citizens Hall Stratford\, 53 Juliet Street\, Stratford\, New Zealand
CATEGORIES:Coffee Morning Groups,Social Connection
ORGANIZER;CN="Age Concern Taranaki":MAILTO:info@ageconcerntaranaki.org.nz
END:VEVENT
BEGIN:VEVENT
DTSTART;TZID=Pacific/Auckland:20261002T101500
DTEND;TZID=Pacific/Auckland:20261002T110000
DTSTAMP:20260425T065654
CREATED:20260202T022948Z
LAST-MODIFIED:20260202T022948Z
UID:10002645-1790936100-1790938800@www.ageconcerntaranaki.org.nz
SUMMARY:Drop in Social - Stratford
DESCRIPTION:Held the 1st Friday of every month. \nCome and have a casual cuppa and meet new friends
URL:https://www.ageconcerntaranaki.org.nz/event/drop-in-social-stratford/2026-10-02/
LOCATION:Senior Citizens Hall Stratford\, 53 Juliet Street\, Stratford\, New Zealand
CATEGORIES:Coffee Morning Groups,Social Connection
ORGANIZER;CN="Age Concern Taranaki":MAILTO:info@ageconcerntaranaki.org.nz
END:VEVENT
BEGIN:VEVENT
DTSTART;TZID=Pacific/Auckland:20261106T101500
DTEND;TZID=Pacific/Auckland:20261106T110000
DTSTAMP:20260425T065654
CREATED:20260202T022948Z
LAST-MODIFIED:20260202T022948Z
UID:10002646-1793960100-1793962800@www.ageconcerntaranaki.org.nz
SUMMARY:Drop in Social - Stratford
DESCRIPTION:Held the 1st Friday of every month. \nCome and have a casual cuppa and meet new friends
URL:https://www.ageconcerntaranaki.org.nz/event/drop-in-social-stratford/2026-11-06/
LOCATION:Senior Citizens Hall Stratford\, 53 Juliet Street\, Stratford\, New Zealand
CATEGORIES:Coffee Morning Groups,Social Connection
ORGANIZER;CN="Age Concern Taranaki":MAILTO:info@ageconcerntaranaki.org.nz
END:VEVENT
BEGIN:VEVENT
DTSTART;TZID=Pacific/Auckland:20261204T101500
DTEND;TZID=Pacific/Auckland:20261204T110000
DTSTAMP:20260425T065654
CREATED:20260202T022948Z
LAST-MODIFIED:20260202T022948Z
UID:10002647-1796379300-1796382000@www.ageconcerntaranaki.org.nz
SUMMARY:Drop in Social - Stratford
DESCRIPTION:Held the 1st Friday of every month. \nCome and have a casual cuppa and meet new friends
URL:https://www.ageconcerntaranaki.org.nz/event/drop-in-social-stratford/2026-12-04/
LOCATION:Senior Citizens Hall Stratford\, 53 Juliet Street\, Stratford\, New Zealand
CATEGORIES:Coffee Morning Groups,Social Connection
ORGANIZER;CN="Age Concern Taranaki":MAILTO:info@ageconcerntaranaki.org.nz
END:VEVENT
END:VCALENDAR