BEGIN:VCALENDAR
VERSION:2.0
PRODID:-//Age Concern Taranaki - ECPv6.15.20//NONSGML v1.0//EN
CALSCALE:GREGORIAN
METHOD:PUBLISH
X-ORIGINAL-URL:https://www.ageconcerntaranaki.org.nz
X-WR-CALDESC:Events for Age Concern Taranaki
REFRESH-INTERVAL;VALUE=DURATION:PT1H
X-Robots-Tag:noindex
X-PUBLISHED-TTL:PT1H
BEGIN:VTIMEZONE
TZID:UTC
BEGIN:STANDARD
TZOFFSETFROM:+0000
TZOFFSETTO:+0000
TZNAME:UTC
DTSTART:20240101T000000
END:STANDARD
END:VTIMEZONE
BEGIN:VEVENT
DTSTART;TZID=UTC:20250424T100000
DTEND;TZID=UTC:20250424T120000
DTSTAMP:20260420T114211
CREATED:20250420T144518Z
LAST-MODIFIED:20250420T144518Z
UID:10000719-1745488800-1745496000@www.ageconcerntaranaki.org.nz
SUMMARY:Healthy Active Ageing Forum & Expo
DESCRIPTION:Join us to hear practical friendly advice from health professionals. \nAn opportunity to connect with community support services and learn ways to keep yourself moving. \n*Free Entry \n*Event & Stalls 10am-12pm \n*Speakers 10.20am-11.40am \n\nContact Hilary Blackstock 021 480 180 hilary.blackstock@sporttaranaki.org.nz
URL:https://www.ageconcerntaranaki.org.nz/event/healthy-active-ageing-forum-expo/
LOCATION:Hawera Community Centre\, 66 Albion Street\, Hawera\, New Zealand
CATEGORIES:Forums & Expos
ORGANIZER;CN="Sport Taranaki":MAILTO:hilary.blackstock.org.nz
END:VEVENT
END:VCALENDAR