BEGIN:VCALENDAR
VERSION:2.0
PRODID:-//Age Concern Taranaki - ECPv6.15.20//NONSGML v1.0//EN
CALSCALE:GREGORIAN
METHOD:PUBLISH
X-WR-CALNAME:Age Concern Taranaki
X-ORIGINAL-URL:https://www.ageconcerntaranaki.org.nz
X-WR-CALDESC:Events for Age Concern Taranaki
REFRESH-INTERVAL;VALUE=DURATION:PT1H
X-Robots-Tag:noindex
X-PUBLISHED-TTL:PT1H
BEGIN:VTIMEZONE
TZID:UTC
BEGIN:STANDARD
TZOFFSETFROM:+0000
TZOFFSETTO:+0000
TZNAME:UTC
DTSTART:20240101T000000
END:STANDARD
END:VTIMEZONE
BEGIN:VTIMEZONE
TZID:Pacific/Auckland
BEGIN:STANDARD
TZOFFSETFROM:+1300
TZOFFSETTO:+1200
TZNAME:NZST
DTSTART:20250405T140000
END:STANDARD
BEGIN:DAYLIGHT
TZOFFSETFROM:+1200
TZOFFSETTO:+1300
TZNAME:NZDT
DTSTART:20250927T140000
END:DAYLIGHT
BEGIN:STANDARD
TZOFFSETFROM:+1300
TZOFFSETTO:+1200
TZNAME:NZST
DTSTART:20260404T140000
END:STANDARD
BEGIN:DAYLIGHT
TZOFFSETFROM:+1200
TZOFFSETTO:+1300
TZNAME:NZDT
DTSTART:20260926T140000
END:DAYLIGHT
BEGIN:STANDARD
TZOFFSETFROM:+1300
TZOFFSETTO:+1200
TZNAME:NZST
DTSTART:20270403T140000
END:STANDARD
BEGIN:DAYLIGHT
TZOFFSETFROM:+1200
TZOFFSETTO:+1300
TZNAME:NZDT
DTSTART:20270925T140000
END:DAYLIGHT
END:VTIMEZONE
BEGIN:VEVENT
DTSTART;TZID=UTC:20260217T111500
DTEND;TZID=UTC:20260217T120000
DTSTAMP:20260421T072726
CREATED:20260202T020654Z
LAST-MODIFIED:20260202T020654Z
UID:10002521-1771326900-1771329600@www.ageconcerntaranaki.org.nz
SUMMARY:Social Drop In - Hawera
DESCRIPTION:11am at Presbyterian Centre\, Argyle Street\, Hawera – please join us for a cuppa and make or meet with friends\, socialise and relax. \n  \nHeld the First and Third Tuesday of the month
URL:https://www.ageconcerntaranaki.org.nz/event/social-drop-in-hawera-4/2026-02-17/
LOCATION:Age Concern Taranaki Hawera Office\, Presbyterian Church
CATEGORIES:Coffee Morning Groups,Social Connection
ORGANIZER;CN="Age Concern Taranaki":MAILTO:info@ageconcerntaranaki.org.nz
END:VEVENT
BEGIN:VEVENT
DTSTART;TZID=UTC:20260217T101500
DTEND;TZID=UTC:20260217T111500
DTSTAMP:20260421T072726
CREATED:20251124T203843Z
LAST-MODIFIED:20251124T203843Z
UID:10001502-1771323300-1771326900@www.ageconcerntaranaki.org.nz
SUMMARY:Steady As You Go - Hawera
DESCRIPTION:10:15 at Presbyterian Centre\, Argyle Street\, Hawera – Every Tuesday excluding public holidays. \nImprove your balance and join a fun loving and happy group.  Bring a water bottle. \nKOHA – Gold coin donation.
URL:https://www.ageconcerntaranaki.org.nz/event/steady-as-you-go-hawera-2/2026-02-17/
LOCATION:Age Concern Taranaki Hawera Office\, Presbyterian Church
CATEGORIES:Exercise Classes,Steady As You Go
END:VEVENT
BEGIN:VEVENT
DTSTART;TZID=UTC:20260212T103000
DTEND;TZID=UTC:20260212T120000
DTSTAMP:20260421T072726
CREATED:20260202T001747Z
LAST-MODIFIED:20260202T001747Z
UID:10002326-1770892200-1770897600@www.ageconcerntaranaki.org.nz
SUMMARY:Camelia Cafe / Coffee Morning
DESCRIPTION:10:30 at Presbyterian Centre\, Argyle Street\, Hawera – Drop in\, make friends\, socialise and take part in robust discussions. \nKOHA – Gold coin donation. \n  \nPhone us to check in which dates we have Guest Speakers \n 
URL:https://www.ageconcerntaranaki.org.nz/event/camelia-cafe-coffee-morning-2/2026-02-12/
LOCATION:Age Concern Taranaki Hawera Office\, Presbyterian Church
CATEGORIES:Coffee Morning Groups,Social Connection
END:VEVENT
BEGIN:VEVENT
DTSTART;TZID=Pacific/Auckland:20260211T101500
DTEND;TZID=Pacific/Auckland:20260211T113000
DTSTAMP:20260421T072726
CREATED:20260202T022025Z
LAST-MODIFIED:20260222T212851Z
UID:10002534-1770804900-1770809400@www.ageconcerntaranaki.org.nz
SUMMARY:Music and Movement - Hawera
DESCRIPTION:Held every Wednesday 10.15am \nCome and enjoy a morning of music and movement with Katrina. \nExercise in a fun and safe environment to great music from the 60’s. \nBring a water bottle. \n$2 per session
URL:https://www.ageconcerntaranaki.org.nz/event/music-and-movement-hawera/2026-02-11/
LOCATION:Age Concern Taranaki Hawera Office\, Presbyterian Church
CATEGORIES:Music Groups,Social Connection
ORGANIZER;CN="Age Concern Taranaki":MAILTO:info@ageconcerntaranaki.org.nz
END:VEVENT
BEGIN:VEVENT
DTSTART;TZID=UTC:20260210T101500
DTEND;TZID=UTC:20260210T111500
DTSTAMP:20260421T072726
CREATED:20251124T203843Z
LAST-MODIFIED:20251124T203843Z
UID:10001501-1770718500-1770722100@www.ageconcerntaranaki.org.nz
SUMMARY:Steady As You Go - Hawera
DESCRIPTION:10:15 at Presbyterian Centre\, Argyle Street\, Hawera – Every Tuesday excluding public holidays. \nImprove your balance and join a fun loving and happy group.  Bring a water bottle. \nKOHA – Gold coin donation.
URL:https://www.ageconcerntaranaki.org.nz/event/steady-as-you-go-hawera-2/2026-02-10/
LOCATION:Age Concern Taranaki Hawera Office\, Presbyterian Church
CATEGORIES:Exercise Classes,Steady As You Go
END:VEVENT
BEGIN:VEVENT
DTSTART;TZID=UTC:20260206T100000
DTEND;TZID=UTC:20260206T120000
DTSTAMP:20260421T072726
CREATED:20251124T222045Z
LAST-MODIFIED:20260202T014354Z
UID:10002296-1770372000-1770379200@www.ageconcerntaranaki.org.nz
SUMMARY:Games and Craft Morning - Hāwera
DESCRIPTION:First and third Friday of the month excluding public holidays \n10:00 at Presbyterian Centre\, Argyle Street\, Hawera. \nCome along and enjoy a game of Rummy-O\, Scrabble\, or try a puzzle. \nOr enjoy the company of others while you complete your own crafts \nKOHA – $2 donation.
URL:https://www.ageconcerntaranaki.org.nz/event/games-and-craft-morning-hawera-2/2026-02-06/
LOCATION:Age Concern Taranaki Hawera Office\, Presbyterian Church
CATEGORIES:Coffee Morning Groups,Social Connection
END:VEVENT
BEGIN:VEVENT
DTSTART;TZID=UTC:20260205T103000
DTEND;TZID=UTC:20260205T120000
DTSTAMP:20260421T072726
CREATED:20260202T001747Z
LAST-MODIFIED:20260202T001747Z
UID:10002325-1770287400-1770292800@www.ageconcerntaranaki.org.nz
SUMMARY:Camelia Cafe / Coffee Morning
DESCRIPTION:10:30 at Presbyterian Centre\, Argyle Street\, Hawera – Drop in\, make friends\, socialise and take part in robust discussions. \nKOHA – Gold coin donation. \n  \nPhone us to check in which dates we have Guest Speakers \n 
URL:https://www.ageconcerntaranaki.org.nz/event/camelia-cafe-coffee-morning-2/2026-02-05/
LOCATION:Age Concern Taranaki Hawera Office\, Presbyterian Church
CATEGORIES:Coffee Morning Groups,Social Connection
END:VEVENT
BEGIN:VEVENT
DTSTART;TZID=Pacific/Auckland:20260204T101500
DTEND;TZID=Pacific/Auckland:20260204T113000
DTSTAMP:20260421T072726
CREATED:20260202T022025Z
LAST-MODIFIED:20260222T212851Z
UID:10002533-1770200100-1770204600@www.ageconcerntaranaki.org.nz
SUMMARY:Music and Movement - Hawera
DESCRIPTION:Held every Wednesday 10.15am \nCome and enjoy a morning of music and movement with Katrina. \nExercise in a fun and safe environment to great music from the 60’s. \nBring a water bottle. \n$2 per session
URL:https://www.ageconcerntaranaki.org.nz/event/music-and-movement-hawera/2026-02-04/
LOCATION:Age Concern Taranaki Hawera Office\, Presbyterian Church
CATEGORIES:Music Groups,Social Connection
ORGANIZER;CN="Age Concern Taranaki":MAILTO:info@ageconcerntaranaki.org.nz
END:VEVENT
BEGIN:VEVENT
DTSTART;TZID=UTC:20260203T111500
DTEND;TZID=UTC:20260203T120000
DTSTAMP:20260421T072726
CREATED:20260202T020254Z
LAST-MODIFIED:20260202T020254Z
UID:10002490-1770117300-1770120000@www.ageconcerntaranaki.org.nz
SUMMARY:Social Drop In - Hawera
DESCRIPTION:11am at Presbyterian Centre\, Argyle Street\, Hawera – please join us for a cuppa and make or meet with friends\, socialise and relax. \n  \nHeld the First and Third Tuesday of the month
URL:https://www.ageconcerntaranaki.org.nz/event/social-drop-in-hawera-3/2026-02-03/
LOCATION:Age Concern Taranaki Hawera Office\, Presbyterian Church
CATEGORIES:Coffee Morning Groups,Social Connection
ORGANIZER;CN="Age Concern Taranaki":MAILTO:info@ageconcerntaranaki.org.nz
END:VEVENT
BEGIN:VEVENT
DTSTART;TZID=UTC:20260203T101500
DTEND;TZID=UTC:20260203T111500
DTSTAMP:20260421T072726
CREATED:20251124T203843Z
LAST-MODIFIED:20251124T203843Z
UID:10001500-1770113700-1770117300@www.ageconcerntaranaki.org.nz
SUMMARY:Steady As You Go - Hawera
DESCRIPTION:10:15 at Presbyterian Centre\, Argyle Street\, Hawera – Every Tuesday excluding public holidays. \nImprove your balance and join a fun loving and happy group.  Bring a water bottle. \nKOHA – Gold coin donation.
URL:https://www.ageconcerntaranaki.org.nz/event/steady-as-you-go-hawera-2/2026-02-03/
LOCATION:Age Concern Taranaki Hawera Office\, Presbyterian Church
CATEGORIES:Exercise Classes,Steady As You Go
END:VEVENT
BEGIN:VEVENT
DTSTART;TZID=UTC:20260127T101500
DTEND;TZID=UTC:20260127T111500
DTSTAMP:20260421T072726
CREATED:20251124T203843Z
LAST-MODIFIED:20251124T203843Z
UID:10001499-1769508900-1769512500@www.ageconcerntaranaki.org.nz
SUMMARY:Steady As You Go - Hawera
DESCRIPTION:10:15 at Presbyterian Centre\, Argyle Street\, Hawera – Every Tuesday excluding public holidays. \nImprove your balance and join a fun loving and happy group.  Bring a water bottle. \nKOHA – Gold coin donation.
URL:https://www.ageconcerntaranaki.org.nz/event/steady-as-you-go-hawera-2/2026-01-27/
LOCATION:Age Concern Taranaki Hawera Office\, Presbyterian Church
CATEGORIES:Exercise Classes,Steady As You Go
END:VEVENT
BEGIN:VEVENT
DTSTART;TZID=UTC:20260120T101500
DTEND;TZID=UTC:20260120T111500
DTSTAMP:20260421T072726
CREATED:20251124T203843Z
LAST-MODIFIED:20251124T203843Z
UID:10001498-1768904100-1768907700@www.ageconcerntaranaki.org.nz
SUMMARY:Steady As You Go - Hawera
DESCRIPTION:10:15 at Presbyterian Centre\, Argyle Street\, Hawera – Every Tuesday excluding public holidays. \nImprove your balance and join a fun loving and happy group.  Bring a water bottle. \nKOHA – Gold coin donation.
URL:https://www.ageconcerntaranaki.org.nz/event/steady-as-you-go-hawera-2/2026-01-20/
LOCATION:Age Concern Taranaki Hawera Office\, Presbyterian Church
CATEGORIES:Exercise Classes,Steady As You Go
END:VEVENT
BEGIN:VEVENT
DTSTART;TZID=UTC:20260116T100000
DTEND;TZID=UTC:20260116T120000
DTSTAMP:20260421T072726
CREATED:20251124T221516Z
LAST-MODIFIED:20260202T015217Z
UID:10002274-1768557600-1768564800@www.ageconcerntaranaki.org.nz
SUMMARY:Games and Craft Morning - Hāwera
DESCRIPTION:First and third Friday of the month excluding public holidays \n10:00 at Presbyterian Centre\, Argyle Street\, Hawera. \nCome along and enjoy a game of Rummy-O\, Scrabble\, or try a puzzle. \nOr enjoy the company of others while you complete your own crafts \nKOHA – $2 donation.
URL:https://www.ageconcerntaranaki.org.nz/event/games-and-craft-morning-hawera/2026-01-16/
LOCATION:Age Concern Taranaki Hawera Office\, Presbyterian Church
CATEGORIES:Games,Social Connection
END:VEVENT
BEGIN:VEVENT
DTSTART;TZID=UTC:20260113T101500
DTEND;TZID=UTC:20260113T111500
DTSTAMP:20260421T072726
CREATED:20251124T203843Z
LAST-MODIFIED:20251124T203843Z
UID:10001497-1768299300-1768302900@www.ageconcerntaranaki.org.nz
SUMMARY:Steady As You Go - Hawera
DESCRIPTION:10:15 at Presbyterian Centre\, Argyle Street\, Hawera – Every Tuesday excluding public holidays. \nImprove your balance and join a fun loving and happy group.  Bring a water bottle. \nKOHA – Gold coin donation.
URL:https://www.ageconcerntaranaki.org.nz/event/steady-as-you-go-hawera-2/2026-01-13/
LOCATION:Age Concern Taranaki Hawera Office\, Presbyterian Church
CATEGORIES:Exercise Classes,Steady As You Go
END:VEVENT
BEGIN:VEVENT
DTSTART;TZID=UTC:20251219T100000
DTEND;TZID=UTC:20251219T120000
DTSTAMP:20260421T072726
CREATED:20250806T010415Z
LAST-MODIFIED:20250806T011858Z
UID:10001080-1766138400-1766145600@www.ageconcerntaranaki.org.nz
SUMMARY:Games and Craft Morning - Hāwera
DESCRIPTION:10:30 at Presbyterian Centre\, Argyle Street\, Hawera. Drop in\, make new friends\, learn new games and enjoy the company. \nKOHA – Gold coin donation.
URL:https://www.ageconcerntaranaki.org.nz/event/games-and-craft-morning-2-2/2025-12-19/
LOCATION:Age Concern Taranaki Hawera Office\, Presbyterian Church
CATEGORIES:Coffee Morning Groups,Social Connection
END:VEVENT
BEGIN:VEVENT
DTSTART;TZID=UTC:20251218T103000
DTEND;TZID=UTC:20251218T120000
DTSTAMP:20260421T072726
CREATED:20250806T001301Z
LAST-MODIFIED:20250806T001303Z
UID:10000238-1766053800-1766059200@www.ageconcerntaranaki.org.nz
SUMMARY:Camelia Cafe / Coffee Morning
DESCRIPTION:10:30 at Presbyterian Centre\, Argyle Street\, Hawera – Drop in\, make friends\, socialise and take part in robust discussions. \nKOHA – Gold coin donation. \n  \nPhone us to check in which dates we have Guest Speakers \n 
URL:https://www.ageconcerntaranaki.org.nz/event/camelia-cafe-coffee-morning-3/2025-12-18/
LOCATION:Age Concern Taranaki Hawera Office\, Presbyterian Church
CATEGORIES:Coffee Morning Groups,Social Connection
END:VEVENT
BEGIN:VEVENT
DTSTART;TZID=UTC:20251216T101500
DTEND;TZID=UTC:20251216T111500
DTSTAMP:20260421T072726
CREATED:20250414T122933Z
LAST-MODIFIED:20250414T122933Z
UID:10000203-1765880100-1765883700@www.ageconcerntaranaki.org.nz
SUMMARY:Steady As You Go - Hawera
DESCRIPTION:10:15 at Presbyterian Centre\, Argyle Street\, Hawera – Improve your balance and join a fun loving and happy group.  Bring a water bottle. \nKOHA – Gold coin donation.
URL:https://www.ageconcerntaranaki.org.nz/event/steady-as-you-go-hawera/2025-12-16/
LOCATION:Age Concern Taranaki Hawera Office\, Presbyterian Church
CATEGORIES:Exercise Classes,Steady As You Go
END:VEVENT
BEGIN:VEVENT
DTSTART;TZID=UTC:20251211T103000
DTEND;TZID=UTC:20251211T120000
DTSTAMP:20260421T072726
CREATED:20250806T001301Z
LAST-MODIFIED:20250806T001303Z
UID:10000237-1765449000-1765454400@www.ageconcerntaranaki.org.nz
SUMMARY:Camelia Cafe / Coffee Morning
DESCRIPTION:10:30 at Presbyterian Centre\, Argyle Street\, Hawera – Drop in\, make friends\, socialise and take part in robust discussions. \nKOHA – Gold coin donation. \n  \nPhone us to check in which dates we have Guest Speakers \n 
URL:https://www.ageconcerntaranaki.org.nz/event/camelia-cafe-coffee-morning-3/2025-12-11/
LOCATION:Age Concern Taranaki Hawera Office\, Presbyterian Church
CATEGORIES:Coffee Morning Groups,Social Connection
END:VEVENT
BEGIN:VEVENT
DTSTART;TZID=UTC:20251209T101500
DTEND;TZID=UTC:20251209T111500
DTSTAMP:20260421T072726
CREATED:20250414T122933Z
LAST-MODIFIED:20250414T122933Z
UID:10000202-1765275300-1765278900@www.ageconcerntaranaki.org.nz
SUMMARY:Steady As You Go - Hawera
DESCRIPTION:10:15 at Presbyterian Centre\, Argyle Street\, Hawera – Improve your balance and join a fun loving and happy group.  Bring a water bottle. \nKOHA – Gold coin donation.
URL:https://www.ageconcerntaranaki.org.nz/event/steady-as-you-go-hawera/2025-12-09/
LOCATION:Age Concern Taranaki Hawera Office\, Presbyterian Church
CATEGORIES:Exercise Classes,Steady As You Go
END:VEVENT
BEGIN:VEVENT
DTSTART;TZID=UTC:20251205T100000
DTEND;TZID=UTC:20251205T120000
DTSTAMP:20260421T072726
CREATED:20250806T010159Z
LAST-MODIFIED:20250806T010201Z
UID:10001076-1764928800-1764936000@www.ageconcerntaranaki.org.nz
SUMMARY:Games and Craft Morning - Hāwera
DESCRIPTION:10:30 at Presbyterian Centre\, Argyle Street\, Hawera. Drop in\, make new friends\, learn new games and enjoy the company. \nKOHA – Gold coin donation.
URL:https://www.ageconcerntaranaki.org.nz/event/games-and-craft-morning-3/2025-12-05/
LOCATION:Age Concern Taranaki Hawera Office\, Presbyterian Church
CATEGORIES:Coffee Morning Groups,Social Connection
ORGANIZER;CN="Age Concern Taranaki":MAILTO:info@ageconcerntaranaki.org.nz
END:VEVENT
BEGIN:VEVENT
DTSTART;TZID=UTC:20251204T103000
DTEND;TZID=UTC:20251204T120000
DTSTAMP:20260421T072726
CREATED:20250806T001301Z
LAST-MODIFIED:20250806T001303Z
UID:10000236-1764844200-1764849600@www.ageconcerntaranaki.org.nz
SUMMARY:Camelia Cafe / Coffee Morning
DESCRIPTION:10:30 at Presbyterian Centre\, Argyle Street\, Hawera – Drop in\, make friends\, socialise and take part in robust discussions. \nKOHA – Gold coin donation. \n  \nPhone us to check in which dates we have Guest Speakers \n 
URL:https://www.ageconcerntaranaki.org.nz/event/camelia-cafe-coffee-morning-3/2025-12-04/
LOCATION:Age Concern Taranaki Hawera Office\, Presbyterian Church
CATEGORIES:Coffee Morning Groups,Social Connection
END:VEVENT
BEGIN:VEVENT
DTSTART;TZID=UTC:20251202T110000
DTEND;TZID=UTC:20251202T120000
DTSTAMP:20260421T072726
CREATED:20250420T123311Z
LAST-MODIFIED:20250420T123311Z
UID:10000274-1764673200-1764676800@www.ageconcerntaranaki.org.nz
SUMMARY:Social Drop In - Hawera
DESCRIPTION:11am at Presbyterian Centre\, Argyle Street\, Hawera – please join us for a cuppa and make or meet with friends\, socialise and relax. \n  \nHeld the First and Third Tuesday of the month
URL:https://www.ageconcerntaranaki.org.nz/event/social-drop-in-hawera-2/2025-12-02/
LOCATION:Age Concern Taranaki Hawera Office\, Presbyterian Church
CATEGORIES:Coffee Morning Groups,Social Connection
ORGANIZER;CN="Age Concern Taranaki":MAILTO:info@ageconcerntaranaki.org.nz
END:VEVENT
BEGIN:VEVENT
DTSTART;TZID=UTC:20251202T110000
DTEND;TZID=UTC:20251202T120000
DTSTAMP:20260421T072726
CREATED:20250420T123120Z
LAST-MODIFIED:20250421T140303Z
UID:10000265-1764673200-1764676800@www.ageconcerntaranaki.org.nz
SUMMARY:Social Drop In - Hawera
DESCRIPTION:11am at Presbyterian Centre\, Argyle Street\, Hawera – please join us for a cuppa and make or meet with friends\, socialise and relax. \n  \nHeld the First and Third Tuesday of the month
URL:https://www.ageconcerntaranaki.org.nz/event/social-drop-in-hawera/2025-12-02/
LOCATION:Age Concern Taranaki Hawera Office\, Presbyterian Church
CATEGORIES:Coffee Morning Groups,Social Connection
ORGANIZER;CN="Age Concern Taranaki":MAILTO:info@ageconcerntaranaki.org.nz
END:VEVENT
BEGIN:VEVENT
DTSTART;TZID=UTC:20251202T101500
DTEND;TZID=UTC:20251202T111500
DTSTAMP:20260421T072726
CREATED:20250414T122933Z
LAST-MODIFIED:20250414T122933Z
UID:10000201-1764670500-1764674100@www.ageconcerntaranaki.org.nz
SUMMARY:Steady As You Go - Hawera
DESCRIPTION:10:15 at Presbyterian Centre\, Argyle Street\, Hawera – Improve your balance and join a fun loving and happy group.  Bring a water bottle. \nKOHA – Gold coin donation.
URL:https://www.ageconcerntaranaki.org.nz/event/steady-as-you-go-hawera/2025-12-02/
LOCATION:Age Concern Taranaki Hawera Office\, Presbyterian Church
CATEGORIES:Exercise Classes,Steady As You Go
END:VEVENT
BEGIN:VEVENT
DTSTART;TZID=UTC:20251127T103000
DTEND;TZID=UTC:20251127T120000
DTSTAMP:20260421T072726
CREATED:20250806T001301Z
LAST-MODIFIED:20250806T001303Z
UID:10000235-1764239400-1764244800@www.ageconcerntaranaki.org.nz
SUMMARY:Camelia Cafe / Coffee Morning
DESCRIPTION:10:30 at Presbyterian Centre\, Argyle Street\, Hawera – Drop in\, make friends\, socialise and take part in robust discussions. \nKOHA – Gold coin donation. \n  \nPhone us to check in which dates we have Guest Speakers \n 
URL:https://www.ageconcerntaranaki.org.nz/event/camelia-cafe-coffee-morning-3/2025-11-27/
LOCATION:Age Concern Taranaki Hawera Office\, Presbyterian Church
CATEGORIES:Coffee Morning Groups,Social Connection
END:VEVENT
BEGIN:VEVENT
DTSTART;TZID=UTC:20251125T101500
DTEND;TZID=UTC:20251125T111500
DTSTAMP:20260421T072726
CREATED:20250414T122933Z
LAST-MODIFIED:20250414T122933Z
UID:10000200-1764065700-1764069300@www.ageconcerntaranaki.org.nz
SUMMARY:Steady As You Go - Hawera
DESCRIPTION:10:15 at Presbyterian Centre\, Argyle Street\, Hawera – Improve your balance and join a fun loving and happy group.  Bring a water bottle. \nKOHA – Gold coin donation.
URL:https://www.ageconcerntaranaki.org.nz/event/steady-as-you-go-hawera/2025-11-25/
LOCATION:Age Concern Taranaki Hawera Office\, Presbyterian Church
CATEGORIES:Exercise Classes,Steady As You Go
END:VEVENT
BEGIN:VEVENT
DTSTART;TZID=UTC:20251121T100000
DTEND;TZID=UTC:20251121T120000
DTSTAMP:20260421T072726
CREATED:20250806T010415Z
LAST-MODIFIED:20250806T011858Z
UID:10001079-1763719200-1763726400@www.ageconcerntaranaki.org.nz
SUMMARY:Games and Craft Morning - Hāwera
DESCRIPTION:10:30 at Presbyterian Centre\, Argyle Street\, Hawera. Drop in\, make new friends\, learn new games and enjoy the company. \nKOHA – Gold coin donation.
URL:https://www.ageconcerntaranaki.org.nz/event/games-and-craft-morning-2-2/2025-11-21/
LOCATION:Age Concern Taranaki Hawera Office\, Presbyterian Church
CATEGORIES:Coffee Morning Groups,Social Connection
END:VEVENT
BEGIN:VEVENT
DTSTART;TZID=UTC:20251120T103000
DTEND;TZID=UTC:20251120T120000
DTSTAMP:20260421T072726
CREATED:20250806T001301Z
LAST-MODIFIED:20250806T001303Z
UID:10000234-1763634600-1763640000@www.ageconcerntaranaki.org.nz
SUMMARY:Camelia Cafe / Coffee Morning
DESCRIPTION:10:30 at Presbyterian Centre\, Argyle Street\, Hawera – Drop in\, make friends\, socialise and take part in robust discussions. \nKOHA – Gold coin donation. \n  \nPhone us to check in which dates we have Guest Speakers \n 
URL:https://www.ageconcerntaranaki.org.nz/event/camelia-cafe-coffee-morning-3/2025-11-20/
LOCATION:Age Concern Taranaki Hawera Office\, Presbyterian Church
CATEGORIES:Coffee Morning Groups,Social Connection
END:VEVENT
BEGIN:VEVENT
DTSTART;TZID=UTC:20251118T101500
DTEND;TZID=UTC:20251118T111500
DTSTAMP:20260421T072726
CREATED:20250414T122933Z
LAST-MODIFIED:20250414T122933Z
UID:10000199-1763460900-1763464500@www.ageconcerntaranaki.org.nz
SUMMARY:Steady As You Go - Hawera
DESCRIPTION:10:15 at Presbyterian Centre\, Argyle Street\, Hawera – Improve your balance and join a fun loving and happy group.  Bring a water bottle. \nKOHA – Gold coin donation.
URL:https://www.ageconcerntaranaki.org.nz/event/steady-as-you-go-hawera/2025-11-18/
LOCATION:Age Concern Taranaki Hawera Office\, Presbyterian Church
CATEGORIES:Exercise Classes,Steady As You Go
END:VEVENT
BEGIN:VEVENT
DTSTART;TZID=UTC:20251113T103000
DTEND;TZID=UTC:20251113T120000
DTSTAMP:20260421T072726
CREATED:20250806T001301Z
LAST-MODIFIED:20250806T001303Z
UID:10000233-1763029800-1763035200@www.ageconcerntaranaki.org.nz
SUMMARY:Camelia Cafe / Coffee Morning
DESCRIPTION:10:30 at Presbyterian Centre\, Argyle Street\, Hawera – Drop in\, make friends\, socialise and take part in robust discussions. \nKOHA – Gold coin donation. \n  \nPhone us to check in which dates we have Guest Speakers \n 
URL:https://www.ageconcerntaranaki.org.nz/event/camelia-cafe-coffee-morning-3/2025-11-13/
LOCATION:Age Concern Taranaki Hawera Office\, Presbyterian Church
CATEGORIES:Coffee Morning Groups,Social Connection
END:VEVENT
END:VCALENDAR