BEGIN:VCALENDAR
VERSION:2.0
PRODID:-//Age Concern Taranaki - ECPv6.15.20//NONSGML v1.0//EN
CALSCALE:GREGORIAN
METHOD:PUBLISH
X-WR-CALNAME:Age Concern Taranaki
X-ORIGINAL-URL:https://www.ageconcerntaranaki.org.nz
X-WR-CALDESC:Events for Age Concern Taranaki
REFRESH-INTERVAL;VALUE=DURATION:PT1H
X-Robots-Tag:noindex
X-PUBLISHED-TTL:PT1H
BEGIN:VTIMEZONE
TZID:UTC
BEGIN:STANDARD
TZOFFSETFROM:+0000
TZOFFSETTO:+0000
TZNAME:UTC
DTSTART:20240101T000000
END:STANDARD
END:VTIMEZONE
BEGIN:VEVENT
DTSTART;TZID=UTC:20250410T093000
DTEND;TZID=UTC:20250410T113000
DTSTAMP:20260424T052045
CREATED:20250319T114456Z
LAST-MODIFIED:20250421T140524Z
UID:10000047-1744277400-1744284600@www.ageconcerntaranaki.org.nz
SUMMARY:Drop In Cafe
DESCRIPTION: Connection\, Conversation & Community! \nJoin us at our Drop-In Café for a warm and welcoming morning of socialising\, laughter\, and great company over a delicious morning tea. Meet new friends\, enjoy engaging conversations\, and hear from inspiring guest speakers. \nGuest Speakers and Celebrations \n1st May     NPDC Parking Officers\, information on new meters\, fees & other information \n 8th May    Celebrating MOTHER’S DAY  Bring a photo to share if you wish\,  Mum’s the Word \n22nd May Join us for a “ Pink Ribbon Breakfast “ – Support this worthy cause with proceeds to NZ Breast Cancer Foundation \n29th May  Guest Speaker –  Julia Kennedy  –  Health & Disability Advocacy Service                                                                                                                                                             
URL:https://www.ageconcerntaranaki.org.nz/event/drop-in-cafe/2025-04-10/
LOCATION:Age Concern Taranaki New Plymouth Office\, 33 Liardet Street\, New Plymouth\, 4312\, New Zealand
CATEGORIES:Coffee Morning Groups,Social Connection
ORGANIZER;CN="Age Concern Taranaki":MAILTO:info@ageconcerntaranaki.org.nz
END:VEVENT
BEGIN:VEVENT
DTSTART;TZID=UTC:20250409T093000
DTEND;TZID=UTC:20250409T110000
DTSTAMP:20260424T052045
CREATED:20250319T113408Z
LAST-MODIFIED:20250319T113408Z
UID:10000041-1744191000-1744196400@www.ageconcerntaranaki.org.nz
SUMMARY:Spoons and Tunes
DESCRIPTION:Come along for a joyful session of Spoons & Tunes\, where great tunes\, yummy fruit and ice cream\, and fun come together! This engaging and interactive event is a great way to stay\, meet new people\, and enjoy the power of music in a welcoming environment. No musical experience needed—just bring your enthusiasm!
URL:https://www.ageconcerntaranaki.org.nz/event/spoons-and-tunes/2025-04-09/
LOCATION:Age Concern Taranaki New Plymouth Office\, 33 Liardet Street\, New Plymouth\, 4312\, New Zealand
CATEGORIES:Music Groups,Social Connection
ORGANIZER;CN="Age Concern Taranaki":MAILTO:info@ageconcerntaranaki.org.nz
END:VEVENT
BEGIN:VEVENT
DTSTART;TZID=UTC:20250403T093000
DTEND;TZID=UTC:20250403T113000
DTSTAMP:20260424T052045
CREATED:20250319T114456Z
LAST-MODIFIED:20250421T140524Z
UID:10000046-1743672600-1743679800@www.ageconcerntaranaki.org.nz
SUMMARY:Drop In Cafe
DESCRIPTION: Connection\, Conversation & Community! \nJoin us at our Drop-In Café for a warm and welcoming morning of socialising\, laughter\, and great company over a delicious morning tea. Meet new friends\, enjoy engaging conversations\, and hear from inspiring guest speakers. \nGuest Speakers and Celebrations \n1st May     NPDC Parking Officers\, information on new meters\, fees & other information \n 8th May    Celebrating MOTHER’S DAY  Bring a photo to share if you wish\,  Mum’s the Word \n22nd May Join us for a “ Pink Ribbon Breakfast “ – Support this worthy cause with proceeds to NZ Breast Cancer Foundation \n29th May  Guest Speaker –  Julia Kennedy  –  Health & Disability Advocacy Service                                                                                                                                                             
URL:https://www.ageconcerntaranaki.org.nz/event/drop-in-cafe/2025-04-03/
LOCATION:Age Concern Taranaki New Plymouth Office\, 33 Liardet Street\, New Plymouth\, 4312\, New Zealand
CATEGORIES:Coffee Morning Groups,Social Connection
ORGANIZER;CN="Age Concern Taranaki":MAILTO:info@ageconcerntaranaki.org.nz
END:VEVENT
BEGIN:VEVENT
DTSTART;TZID=UTC:20250327T093000
DTEND;TZID=UTC:20250327T113000
DTSTAMP:20260424T052045
CREATED:20250319T114456Z
LAST-MODIFIED:20250421T140524Z
UID:10000045-1743067800-1743075000@www.ageconcerntaranaki.org.nz
SUMMARY:Drop In Cafe
DESCRIPTION: Connection\, Conversation & Community! \nJoin us at our Drop-In Café for a warm and welcoming morning of socialising\, laughter\, and great company over a delicious morning tea. Meet new friends\, enjoy engaging conversations\, and hear from inspiring guest speakers. \nGuest Speakers and Celebrations \n1st May     NPDC Parking Officers\, information on new meters\, fees & other information \n 8th May    Celebrating MOTHER’S DAY  Bring a photo to share if you wish\,  Mum’s the Word \n22nd May Join us for a “ Pink Ribbon Breakfast “ – Support this worthy cause with proceeds to NZ Breast Cancer Foundation \n29th May  Guest Speaker –  Julia Kennedy  –  Health & Disability Advocacy Service                                                                                                                                                             
URL:https://www.ageconcerntaranaki.org.nz/event/drop-in-cafe/2025-03-27/
LOCATION:Age Concern Taranaki New Plymouth Office\, 33 Liardet Street\, New Plymouth\, 4312\, New Zealand
CATEGORIES:Coffee Morning Groups,Social Connection
ORGANIZER;CN="Age Concern Taranaki":MAILTO:info@ageconcerntaranaki.org.nz
END:VEVENT
BEGIN:VEVENT
DTSTART;TZID=UTC:20250320T093000
DTEND;TZID=UTC:20250320T113000
DTSTAMP:20260424T052045
CREATED:20250319T114456Z
LAST-MODIFIED:20250421T140524Z
UID:10000044-1742463000-1742470200@www.ageconcerntaranaki.org.nz
SUMMARY:Drop In Cafe
DESCRIPTION: Connection\, Conversation & Community! \nJoin us at our Drop-In Café for a warm and welcoming morning of socialising\, laughter\, and great company over a delicious morning tea. Meet new friends\, enjoy engaging conversations\, and hear from inspiring guest speakers. \nGuest Speakers and Celebrations \n1st May     NPDC Parking Officers\, information on new meters\, fees & other information \n 8th May    Celebrating MOTHER’S DAY  Bring a photo to share if you wish\,  Mum’s the Word \n22nd May Join us for a “ Pink Ribbon Breakfast “ – Support this worthy cause with proceeds to NZ Breast Cancer Foundation \n29th May  Guest Speaker –  Julia Kennedy  –  Health & Disability Advocacy Service                                                                                                                                                             
URL:https://www.ageconcerntaranaki.org.nz/event/drop-in-cafe/2025-03-20/
LOCATION:Age Concern Taranaki New Plymouth Office\, 33 Liardet Street\, New Plymouth\, 4312\, New Zealand
CATEGORIES:Coffee Morning Groups,Social Connection
ORGANIZER;CN="Age Concern Taranaki":MAILTO:info@ageconcerntaranaki.org.nz
END:VEVENT
END:VCALENDAR