BEGIN:VCALENDAR
VERSION:2.0
PRODID:-//Age Concern Taranaki - ECPv6.15.20//NONSGML v1.0//EN
CALSCALE:GREGORIAN
METHOD:PUBLISH
X-WR-CALNAME:Age Concern Taranaki
X-ORIGINAL-URL:https://www.ageconcerntaranaki.org.nz
X-WR-CALDESC:Events for Age Concern Taranaki
REFRESH-INTERVAL;VALUE=DURATION:PT1H
X-Robots-Tag:noindex
X-PUBLISHED-TTL:PT1H
BEGIN:VTIMEZONE
TZID:UTC
BEGIN:STANDARD
TZOFFSETFROM:+0000
TZOFFSETTO:+0000
TZNAME:UTC
DTSTART:20240101T000000
END:STANDARD
END:VTIMEZONE
BEGIN:VEVENT
DTSTART;TZID=UTC:20260416T100000
DTEND;TZID=UTC:20260416T110000
DTSTAMP:20260422T025117
CREATED:20251124T203614Z
LAST-MODIFIED:20251124T203614Z
UID:10001425-1776333600-1776337200@www.ageconcerntaranaki.org.nz
SUMMARY:Steady As You Go - Eltham
DESCRIPTION:Steady As You Go – Eltham \nHeld every Thursday at 10am excluding public holidays. \nCost: $3 per session \nTo register or for more information please contact our Steady As You Go Coordinator Andrea on 06 759 9196 or email info@ageconcerntaranaki.org.nz \n 
URL:https://www.ageconcerntaranaki.org.nz/event/steady-as-you-go-eltham-2/2026-04-16/
LOCATION:All Saints Anglican Church\, 88 King Edward Street\, Eltham\, New Zealand
CATEGORIES:Steady As You Go
ORGANIZER;CN="Age Concern Taranaki":MAILTO:info@ageconcerntaranaki.org.nz
END:VEVENT
BEGIN:VEVENT
DTSTART;TZID=UTC:20260409T100000
DTEND;TZID=UTC:20260409T110000
DTSTAMP:20260422T025117
CREATED:20251124T203614Z
LAST-MODIFIED:20251124T203614Z
UID:10001424-1775728800-1775732400@www.ageconcerntaranaki.org.nz
SUMMARY:Steady As You Go - Eltham
DESCRIPTION:Steady As You Go – Eltham \nHeld every Thursday at 10am excluding public holidays. \nCost: $3 per session \nTo register or for more information please contact our Steady As You Go Coordinator Andrea on 06 759 9196 or email info@ageconcerntaranaki.org.nz \n 
URL:https://www.ageconcerntaranaki.org.nz/event/steady-as-you-go-eltham-2/2026-04-09/
LOCATION:All Saints Anglican Church\, 88 King Edward Street\, Eltham\, New Zealand
CATEGORIES:Steady As You Go
ORGANIZER;CN="Age Concern Taranaki":MAILTO:info@ageconcerntaranaki.org.nz
END:VEVENT
BEGIN:VEVENT
DTSTART;TZID=UTC:20260402T100000
DTEND;TZID=UTC:20260402T110000
DTSTAMP:20260422T025117
CREATED:20251124T203614Z
LAST-MODIFIED:20251124T203614Z
UID:10001423-1775124000-1775127600@www.ageconcerntaranaki.org.nz
SUMMARY:Steady As You Go - Eltham
DESCRIPTION:Steady As You Go – Eltham \nHeld every Thursday at 10am excluding public holidays. \nCost: $3 per session \nTo register or for more information please contact our Steady As You Go Coordinator Andrea on 06 759 9196 or email info@ageconcerntaranaki.org.nz \n 
URL:https://www.ageconcerntaranaki.org.nz/event/steady-as-you-go-eltham-2/2026-04-02/
LOCATION:All Saints Anglican Church\, 88 King Edward Street\, Eltham\, New Zealand
CATEGORIES:Steady As You Go
ORGANIZER;CN="Age Concern Taranaki":MAILTO:info@ageconcerntaranaki.org.nz
END:VEVENT
BEGIN:VEVENT
DTSTART;TZID=UTC:20260326T100000
DTEND;TZID=UTC:20260326T110000
DTSTAMP:20260422T025117
CREATED:20251124T203614Z
LAST-MODIFIED:20251124T203614Z
UID:10001422-1774519200-1774522800@www.ageconcerntaranaki.org.nz
SUMMARY:Steady As You Go - Eltham
DESCRIPTION:Steady As You Go – Eltham \nHeld every Thursday at 10am excluding public holidays. \nCost: $3 per session \nTo register or for more information please contact our Steady As You Go Coordinator Andrea on 06 759 9196 or email info@ageconcerntaranaki.org.nz \n 
URL:https://www.ageconcerntaranaki.org.nz/event/steady-as-you-go-eltham-2/2026-03-26/
LOCATION:All Saints Anglican Church\, 88 King Edward Street\, Eltham\, New Zealand
CATEGORIES:Steady As You Go
ORGANIZER;CN="Age Concern Taranaki":MAILTO:info@ageconcerntaranaki.org.nz
END:VEVENT
BEGIN:VEVENT
DTSTART;TZID=UTC:20260319T100000
DTEND;TZID=UTC:20260319T110000
DTSTAMP:20260422T025117
CREATED:20251124T203614Z
LAST-MODIFIED:20251124T203614Z
UID:10001421-1773914400-1773918000@www.ageconcerntaranaki.org.nz
SUMMARY:Steady As You Go - Eltham
DESCRIPTION:Steady As You Go – Eltham \nHeld every Thursday at 10am excluding public holidays. \nCost: $3 per session \nTo register or for more information please contact our Steady As You Go Coordinator Andrea on 06 759 9196 or email info@ageconcerntaranaki.org.nz \n 
URL:https://www.ageconcerntaranaki.org.nz/event/steady-as-you-go-eltham-2/2026-03-19/
LOCATION:All Saints Anglican Church\, 88 King Edward Street\, Eltham\, New Zealand
CATEGORIES:Steady As You Go
ORGANIZER;CN="Age Concern Taranaki":MAILTO:info@ageconcerntaranaki.org.nz
END:VEVENT
BEGIN:VEVENT
DTSTART;TZID=UTC:20260312T100000
DTEND;TZID=UTC:20260312T110000
DTSTAMP:20260422T025117
CREATED:20251124T203614Z
LAST-MODIFIED:20251124T203614Z
UID:10001420-1773309600-1773313200@www.ageconcerntaranaki.org.nz
SUMMARY:Steady As You Go - Eltham
DESCRIPTION:Steady As You Go – Eltham \nHeld every Thursday at 10am excluding public holidays. \nCost: $3 per session \nTo register or for more information please contact our Steady As You Go Coordinator Andrea on 06 759 9196 or email info@ageconcerntaranaki.org.nz \n 
URL:https://www.ageconcerntaranaki.org.nz/event/steady-as-you-go-eltham-2/2026-03-12/
LOCATION:All Saints Anglican Church\, 88 King Edward Street\, Eltham\, New Zealand
CATEGORIES:Steady As You Go
ORGANIZER;CN="Age Concern Taranaki":MAILTO:info@ageconcerntaranaki.org.nz
END:VEVENT
BEGIN:VEVENT
DTSTART;TZID=UTC:20260305T100000
DTEND;TZID=UTC:20260305T110000
DTSTAMP:20260422T025117
CREATED:20251124T203614Z
LAST-MODIFIED:20251124T203614Z
UID:10001419-1772704800-1772708400@www.ageconcerntaranaki.org.nz
SUMMARY:Steady As You Go - Eltham
DESCRIPTION:Steady As You Go – Eltham \nHeld every Thursday at 10am excluding public holidays. \nCost: $3 per session \nTo register or for more information please contact our Steady As You Go Coordinator Andrea on 06 759 9196 or email info@ageconcerntaranaki.org.nz \n 
URL:https://www.ageconcerntaranaki.org.nz/event/steady-as-you-go-eltham-2/2026-03-05/
LOCATION:All Saints Anglican Church\, 88 King Edward Street\, Eltham\, New Zealand
CATEGORIES:Steady As You Go
ORGANIZER;CN="Age Concern Taranaki":MAILTO:info@ageconcerntaranaki.org.nz
END:VEVENT
BEGIN:VEVENT
DTSTART;TZID=UTC:20260226T100000
DTEND;TZID=UTC:20260226T110000
DTSTAMP:20260422T025117
CREATED:20251124T203614Z
LAST-MODIFIED:20251124T203614Z
UID:10001418-1772100000-1772103600@www.ageconcerntaranaki.org.nz
SUMMARY:Steady As You Go - Eltham
DESCRIPTION:Steady As You Go – Eltham \nHeld every Thursday at 10am excluding public holidays. \nCost: $3 per session \nTo register or for more information please contact our Steady As You Go Coordinator Andrea on 06 759 9196 or email info@ageconcerntaranaki.org.nz \n 
URL:https://www.ageconcerntaranaki.org.nz/event/steady-as-you-go-eltham-2/2026-02-26/
LOCATION:All Saints Anglican Church\, 88 King Edward Street\, Eltham\, New Zealand
CATEGORIES:Steady As You Go
ORGANIZER;CN="Age Concern Taranaki":MAILTO:info@ageconcerntaranaki.org.nz
END:VEVENT
BEGIN:VEVENT
DTSTART;TZID=UTC:20260219T100000
DTEND;TZID=UTC:20260219T110000
DTSTAMP:20260422T025117
CREATED:20251124T203614Z
LAST-MODIFIED:20251124T203614Z
UID:10001417-1771495200-1771498800@www.ageconcerntaranaki.org.nz
SUMMARY:Steady As You Go - Eltham
DESCRIPTION:Steady As You Go – Eltham \nHeld every Thursday at 10am excluding public holidays. \nCost: $3 per session \nTo register or for more information please contact our Steady As You Go Coordinator Andrea on 06 759 9196 or email info@ageconcerntaranaki.org.nz \n 
URL:https://www.ageconcerntaranaki.org.nz/event/steady-as-you-go-eltham-2/2026-02-19/
LOCATION:All Saints Anglican Church\, 88 King Edward Street\, Eltham\, New Zealand
CATEGORIES:Steady As You Go
ORGANIZER;CN="Age Concern Taranaki":MAILTO:info@ageconcerntaranaki.org.nz
END:VEVENT
BEGIN:VEVENT
DTSTART;TZID=UTC:20260212T100000
DTEND;TZID=UTC:20260212T110000
DTSTAMP:20260422T025117
CREATED:20251124T203614Z
LAST-MODIFIED:20251124T203614Z
UID:10001416-1770890400-1770894000@www.ageconcerntaranaki.org.nz
SUMMARY:Steady As You Go - Eltham
DESCRIPTION:Steady As You Go – Eltham \nHeld every Thursday at 10am excluding public holidays. \nCost: $3 per session \nTo register or for more information please contact our Steady As You Go Coordinator Andrea on 06 759 9196 or email info@ageconcerntaranaki.org.nz \n 
URL:https://www.ageconcerntaranaki.org.nz/event/steady-as-you-go-eltham-2/2026-02-12/
LOCATION:All Saints Anglican Church\, 88 King Edward Street\, Eltham\, New Zealand
CATEGORIES:Steady As You Go
ORGANIZER;CN="Age Concern Taranaki":MAILTO:info@ageconcerntaranaki.org.nz
END:VEVENT
BEGIN:VEVENT
DTSTART;TZID=UTC:20251218T100000
DTEND;TZID=UTC:20251218T110000
DTSTAMP:20260422T025117
CREATED:20250807T012621Z
LAST-MODIFIED:20250807T012621Z
UID:10001181-1766052000-1766055600@www.ageconcerntaranaki.org.nz
SUMMARY:Steady As You Go - Eltham
DESCRIPTION:Steady As You Go – Eltham \nHeld every Thursday at 10am excluding public holidays. \nCost: $3 per session \nTo register or for more information please contact our Steady As You Go Coordinator Andrea on 06 759 9196 or email info@ageconcerntaranaki.org.nz \n 
URL:https://www.ageconcerntaranaki.org.nz/event/steady-as-you-go-eltham/2025-12-18/
LOCATION:All Saints Anglican Church\, 88 King Edward Street\, Eltham\, New Zealand
CATEGORIES:Steady As You Go
ORGANIZER;CN="Age Concern Taranaki":MAILTO:info@ageconcerntaranaki.org.nz
END:VEVENT
BEGIN:VEVENT
DTSTART;TZID=UTC:20251211T100000
DTEND;TZID=UTC:20251211T110000
DTSTAMP:20260422T025117
CREATED:20250807T012621Z
LAST-MODIFIED:20250807T012621Z
UID:10001180-1765447200-1765450800@www.ageconcerntaranaki.org.nz
SUMMARY:Steady As You Go - Eltham
DESCRIPTION:Steady As You Go – Eltham \nHeld every Thursday at 10am excluding public holidays. \nCost: $3 per session \nTo register or for more information please contact our Steady As You Go Coordinator Andrea on 06 759 9196 or email info@ageconcerntaranaki.org.nz \n 
URL:https://www.ageconcerntaranaki.org.nz/event/steady-as-you-go-eltham/2025-12-11/
LOCATION:All Saints Anglican Church\, 88 King Edward Street\, Eltham\, New Zealand
CATEGORIES:Steady As You Go
ORGANIZER;CN="Age Concern Taranaki":MAILTO:info@ageconcerntaranaki.org.nz
END:VEVENT
BEGIN:VEVENT
DTSTART;TZID=UTC:20251204T100000
DTEND;TZID=UTC:20251204T110000
DTSTAMP:20260422T025117
CREATED:20250807T012621Z
LAST-MODIFIED:20250807T012621Z
UID:10001179-1764842400-1764846000@www.ageconcerntaranaki.org.nz
SUMMARY:Steady As You Go - Eltham
DESCRIPTION:Steady As You Go – Eltham \nHeld every Thursday at 10am excluding public holidays. \nCost: $3 per session \nTo register or for more information please contact our Steady As You Go Coordinator Andrea on 06 759 9196 or email info@ageconcerntaranaki.org.nz \n 
URL:https://www.ageconcerntaranaki.org.nz/event/steady-as-you-go-eltham/2025-12-04/
LOCATION:All Saints Anglican Church\, 88 King Edward Street\, Eltham\, New Zealand
CATEGORIES:Steady As You Go
ORGANIZER;CN="Age Concern Taranaki":MAILTO:info@ageconcerntaranaki.org.nz
END:VEVENT
BEGIN:VEVENT
DTSTART;TZID=UTC:20251127T100000
DTEND;TZID=UTC:20251127T110000
DTSTAMP:20260422T025117
CREATED:20250807T012621Z
LAST-MODIFIED:20250807T012621Z
UID:10001178-1764237600-1764241200@www.ageconcerntaranaki.org.nz
SUMMARY:Steady As You Go - Eltham
DESCRIPTION:Steady As You Go – Eltham \nHeld every Thursday at 10am excluding public holidays. \nCost: $3 per session \nTo register or for more information please contact our Steady As You Go Coordinator Andrea on 06 759 9196 or email info@ageconcerntaranaki.org.nz \n 
URL:https://www.ageconcerntaranaki.org.nz/event/steady-as-you-go-eltham/2025-11-27/
LOCATION:All Saints Anglican Church\, 88 King Edward Street\, Eltham\, New Zealand
CATEGORIES:Steady As You Go
ORGANIZER;CN="Age Concern Taranaki":MAILTO:info@ageconcerntaranaki.org.nz
END:VEVENT
BEGIN:VEVENT
DTSTART;TZID=UTC:20251120T100000
DTEND;TZID=UTC:20251120T110000
DTSTAMP:20260422T025117
CREATED:20250807T012621Z
LAST-MODIFIED:20250807T012621Z
UID:10001177-1763632800-1763636400@www.ageconcerntaranaki.org.nz
SUMMARY:Steady As You Go - Eltham
DESCRIPTION:Steady As You Go – Eltham \nHeld every Thursday at 10am excluding public holidays. \nCost: $3 per session \nTo register or for more information please contact our Steady As You Go Coordinator Andrea on 06 759 9196 or email info@ageconcerntaranaki.org.nz \n 
URL:https://www.ageconcerntaranaki.org.nz/event/steady-as-you-go-eltham/2025-11-20/
LOCATION:All Saints Anglican Church\, 88 King Edward Street\, Eltham\, New Zealand
CATEGORIES:Steady As You Go
ORGANIZER;CN="Age Concern Taranaki":MAILTO:info@ageconcerntaranaki.org.nz
END:VEVENT
BEGIN:VEVENT
DTSTART;TZID=UTC:20251113T100000
DTEND;TZID=UTC:20251113T110000
DTSTAMP:20260422T025117
CREATED:20250807T012621Z
LAST-MODIFIED:20250807T012621Z
UID:10001176-1763028000-1763031600@www.ageconcerntaranaki.org.nz
SUMMARY:Steady As You Go - Eltham
DESCRIPTION:Steady As You Go – Eltham \nHeld every Thursday at 10am excluding public holidays. \nCost: $3 per session \nTo register or for more information please contact our Steady As You Go Coordinator Andrea on 06 759 9196 or email info@ageconcerntaranaki.org.nz \n 
URL:https://www.ageconcerntaranaki.org.nz/event/steady-as-you-go-eltham/2025-11-13/
LOCATION:All Saints Anglican Church\, 88 King Edward Street\, Eltham\, New Zealand
CATEGORIES:Steady As You Go
ORGANIZER;CN="Age Concern Taranaki":MAILTO:info@ageconcerntaranaki.org.nz
END:VEVENT
BEGIN:VEVENT
DTSTART;TZID=UTC:20251106T100000
DTEND;TZID=UTC:20251106T110000
DTSTAMP:20260422T025117
CREATED:20250807T012621Z
LAST-MODIFIED:20250807T012621Z
UID:10001175-1762423200-1762426800@www.ageconcerntaranaki.org.nz
SUMMARY:Steady As You Go - Eltham
DESCRIPTION:Steady As You Go – Eltham \nHeld every Thursday at 10am excluding public holidays. \nCost: $3 per session \nTo register or for more information please contact our Steady As You Go Coordinator Andrea on 06 759 9196 or email info@ageconcerntaranaki.org.nz \n 
URL:https://www.ageconcerntaranaki.org.nz/event/steady-as-you-go-eltham/2025-11-06/
LOCATION:All Saints Anglican Church\, 88 King Edward Street\, Eltham\, New Zealand
CATEGORIES:Steady As You Go
ORGANIZER;CN="Age Concern Taranaki":MAILTO:info@ageconcerntaranaki.org.nz
END:VEVENT
BEGIN:VEVENT
DTSTART;TZID=UTC:20251030T100000
DTEND;TZID=UTC:20251030T110000
DTSTAMP:20260422T025117
CREATED:20250807T012621Z
LAST-MODIFIED:20250807T012621Z
UID:10001174-1761818400-1761822000@www.ageconcerntaranaki.org.nz
SUMMARY:Steady As You Go - Eltham
DESCRIPTION:Steady As You Go – Eltham \nHeld every Thursday at 10am excluding public holidays. \nCost: $3 per session \nTo register or for more information please contact our Steady As You Go Coordinator Andrea on 06 759 9196 or email info@ageconcerntaranaki.org.nz \n 
URL:https://www.ageconcerntaranaki.org.nz/event/steady-as-you-go-eltham/2025-10-30/
LOCATION:All Saints Anglican Church\, 88 King Edward Street\, Eltham\, New Zealand
CATEGORIES:Steady As You Go
ORGANIZER;CN="Age Concern Taranaki":MAILTO:info@ageconcerntaranaki.org.nz
END:VEVENT
BEGIN:VEVENT
DTSTART;TZID=UTC:20251023T100000
DTEND;TZID=UTC:20251023T110000
DTSTAMP:20260422T025117
CREATED:20250807T012621Z
LAST-MODIFIED:20250807T012621Z
UID:10001173-1761213600-1761217200@www.ageconcerntaranaki.org.nz
SUMMARY:Steady As You Go - Eltham
DESCRIPTION:Steady As You Go – Eltham \nHeld every Thursday at 10am excluding public holidays. \nCost: $3 per session \nTo register or for more information please contact our Steady As You Go Coordinator Andrea on 06 759 9196 or email info@ageconcerntaranaki.org.nz \n 
URL:https://www.ageconcerntaranaki.org.nz/event/steady-as-you-go-eltham/2025-10-23/
LOCATION:All Saints Anglican Church\, 88 King Edward Street\, Eltham\, New Zealand
CATEGORIES:Steady As You Go
ORGANIZER;CN="Age Concern Taranaki":MAILTO:info@ageconcerntaranaki.org.nz
END:VEVENT
BEGIN:VEVENT
DTSTART;TZID=UTC:20251016T100000
DTEND;TZID=UTC:20251016T110000
DTSTAMP:20260422T025117
CREATED:20250807T012621Z
LAST-MODIFIED:20250807T012621Z
UID:10001172-1760608800-1760612400@www.ageconcerntaranaki.org.nz
SUMMARY:Steady As You Go - Eltham
DESCRIPTION:Steady As You Go – Eltham \nHeld every Thursday at 10am excluding public holidays. \nCost: $3 per session \nTo register or for more information please contact our Steady As You Go Coordinator Andrea on 06 759 9196 or email info@ageconcerntaranaki.org.nz \n 
URL:https://www.ageconcerntaranaki.org.nz/event/steady-as-you-go-eltham/2025-10-16/
LOCATION:All Saints Anglican Church\, 88 King Edward Street\, Eltham\, New Zealand
CATEGORIES:Steady As You Go
ORGANIZER;CN="Age Concern Taranaki":MAILTO:info@ageconcerntaranaki.org.nz
END:VEVENT
BEGIN:VEVENT
DTSTART;TZID=UTC:20251009T100000
DTEND;TZID=UTC:20251009T110000
DTSTAMP:20260422T025117
CREATED:20250807T012621Z
LAST-MODIFIED:20250807T012621Z
UID:10001171-1760004000-1760007600@www.ageconcerntaranaki.org.nz
SUMMARY:Steady As You Go - Eltham
DESCRIPTION:Steady As You Go – Eltham \nHeld every Thursday at 10am excluding public holidays. \nCost: $3 per session \nTo register or for more information please contact our Steady As You Go Coordinator Andrea on 06 759 9196 or email info@ageconcerntaranaki.org.nz \n 
URL:https://www.ageconcerntaranaki.org.nz/event/steady-as-you-go-eltham/2025-10-09/
LOCATION:All Saints Anglican Church\, 88 King Edward Street\, Eltham\, New Zealand
CATEGORIES:Steady As You Go
ORGANIZER;CN="Age Concern Taranaki":MAILTO:info@ageconcerntaranaki.org.nz
END:VEVENT
BEGIN:VEVENT
DTSTART;TZID=UTC:20251002T100000
DTEND;TZID=UTC:20251002T110000
DTSTAMP:20260422T025117
CREATED:20250807T012621Z
LAST-MODIFIED:20250807T012621Z
UID:10001170-1759399200-1759402800@www.ageconcerntaranaki.org.nz
SUMMARY:Steady As You Go - Eltham
DESCRIPTION:Steady As You Go – Eltham \nHeld every Thursday at 10am excluding public holidays. \nCost: $3 per session \nTo register or for more information please contact our Steady As You Go Coordinator Andrea on 06 759 9196 or email info@ageconcerntaranaki.org.nz \n 
URL:https://www.ageconcerntaranaki.org.nz/event/steady-as-you-go-eltham/2025-10-02/
LOCATION:All Saints Anglican Church\, 88 King Edward Street\, Eltham\, New Zealand
CATEGORIES:Steady As You Go
ORGANIZER;CN="Age Concern Taranaki":MAILTO:info@ageconcerntaranaki.org.nz
END:VEVENT
BEGIN:VEVENT
DTSTART;TZID=UTC:20250925T100000
DTEND;TZID=UTC:20250925T110000
DTSTAMP:20260422T025117
CREATED:20250807T012621Z
LAST-MODIFIED:20250807T012621Z
UID:10001169-1758794400-1758798000@www.ageconcerntaranaki.org.nz
SUMMARY:Steady As You Go - Eltham
DESCRIPTION:Steady As You Go – Eltham \nHeld every Thursday at 10am excluding public holidays. \nCost: $3 per session \nTo register or for more information please contact our Steady As You Go Coordinator Andrea on 06 759 9196 or email info@ageconcerntaranaki.org.nz \n 
URL:https://www.ageconcerntaranaki.org.nz/event/steady-as-you-go-eltham/2025-09-25/
LOCATION:All Saints Anglican Church\, 88 King Edward Street\, Eltham\, New Zealand
CATEGORIES:Steady As You Go
ORGANIZER;CN="Age Concern Taranaki":MAILTO:info@ageconcerntaranaki.org.nz
END:VEVENT
BEGIN:VEVENT
DTSTART;TZID=UTC:20250918T100000
DTEND;TZID=UTC:20250918T110000
DTSTAMP:20260422T025117
CREATED:20250807T012621Z
LAST-MODIFIED:20250807T012621Z
UID:10001168-1758189600-1758193200@www.ageconcerntaranaki.org.nz
SUMMARY:Steady As You Go - Eltham
DESCRIPTION:Steady As You Go – Eltham \nHeld every Thursday at 10am excluding public holidays. \nCost: $3 per session \nTo register or for more information please contact our Steady As You Go Coordinator Andrea on 06 759 9196 or email info@ageconcerntaranaki.org.nz \n 
URL:https://www.ageconcerntaranaki.org.nz/event/steady-as-you-go-eltham/2025-09-18/
LOCATION:All Saints Anglican Church\, 88 King Edward Street\, Eltham\, New Zealand
CATEGORIES:Steady As You Go
ORGANIZER;CN="Age Concern Taranaki":MAILTO:info@ageconcerntaranaki.org.nz
END:VEVENT
BEGIN:VEVENT
DTSTART;TZID=UTC:20250911T100000
DTEND;TZID=UTC:20250911T110000
DTSTAMP:20260422T025117
CREATED:20250807T012621Z
LAST-MODIFIED:20250807T012621Z
UID:10001167-1757584800-1757588400@www.ageconcerntaranaki.org.nz
SUMMARY:Steady As You Go - Eltham
DESCRIPTION:Steady As You Go – Eltham \nHeld every Thursday at 10am excluding public holidays. \nCost: $3 per session \nTo register or for more information please contact our Steady As You Go Coordinator Andrea on 06 759 9196 or email info@ageconcerntaranaki.org.nz \n 
URL:https://www.ageconcerntaranaki.org.nz/event/steady-as-you-go-eltham/2025-09-11/
LOCATION:All Saints Anglican Church\, 88 King Edward Street\, Eltham\, New Zealand
CATEGORIES:Steady As You Go
ORGANIZER;CN="Age Concern Taranaki":MAILTO:info@ageconcerntaranaki.org.nz
END:VEVENT
BEGIN:VEVENT
DTSTART;TZID=UTC:20250904T100000
DTEND;TZID=UTC:20250904T110000
DTSTAMP:20260422T025117
CREATED:20250807T012621Z
LAST-MODIFIED:20250807T012621Z
UID:10001166-1756980000-1756983600@www.ageconcerntaranaki.org.nz
SUMMARY:Steady As You Go - Eltham
DESCRIPTION:Steady As You Go – Eltham \nHeld every Thursday at 10am excluding public holidays. \nCost: $3 per session \nTo register or for more information please contact our Steady As You Go Coordinator Andrea on 06 759 9196 or email info@ageconcerntaranaki.org.nz \n 
URL:https://www.ageconcerntaranaki.org.nz/event/steady-as-you-go-eltham/2025-09-04/
LOCATION:All Saints Anglican Church\, 88 King Edward Street\, Eltham\, New Zealand
CATEGORIES:Steady As You Go
ORGANIZER;CN="Age Concern Taranaki":MAILTO:info@ageconcerntaranaki.org.nz
END:VEVENT
BEGIN:VEVENT
DTSTART;TZID=UTC:20250828T100000
DTEND;TZID=UTC:20250828T110000
DTSTAMP:20260422T025117
CREATED:20250807T012621Z
LAST-MODIFIED:20250807T012621Z
UID:10001165-1756375200-1756378800@www.ageconcerntaranaki.org.nz
SUMMARY:Steady As You Go - Eltham
DESCRIPTION:Steady As You Go – Eltham \nHeld every Thursday at 10am excluding public holidays. \nCost: $3 per session \nTo register or for more information please contact our Steady As You Go Coordinator Andrea on 06 759 9196 or email info@ageconcerntaranaki.org.nz \n 
URL:https://www.ageconcerntaranaki.org.nz/event/steady-as-you-go-eltham/2025-08-28/
LOCATION:All Saints Anglican Church\, 88 King Edward Street\, Eltham\, New Zealand
CATEGORIES:Steady As You Go
ORGANIZER;CN="Age Concern Taranaki":MAILTO:info@ageconcerntaranaki.org.nz
END:VEVENT
BEGIN:VEVENT
DTSTART;TZID=UTC:20250821T100000
DTEND;TZID=UTC:20250821T110000
DTSTAMP:20260422T025117
CREATED:20250807T012621Z
LAST-MODIFIED:20250807T012621Z
UID:10001164-1755770400-1755774000@www.ageconcerntaranaki.org.nz
SUMMARY:Steady As You Go - Eltham
DESCRIPTION:Steady As You Go – Eltham \nHeld every Thursday at 10am excluding public holidays. \nCost: $3 per session \nTo register or for more information please contact our Steady As You Go Coordinator Andrea on 06 759 9196 or email info@ageconcerntaranaki.org.nz \n 
URL:https://www.ageconcerntaranaki.org.nz/event/steady-as-you-go-eltham/2025-08-21/
LOCATION:All Saints Anglican Church\, 88 King Edward Street\, Eltham\, New Zealand
CATEGORIES:Steady As You Go
ORGANIZER;CN="Age Concern Taranaki":MAILTO:info@ageconcerntaranaki.org.nz
END:VEVENT
BEGIN:VEVENT
DTSTART;TZID=UTC:20250814T100000
DTEND;TZID=UTC:20250814T110000
DTSTAMP:20260422T025117
CREATED:20250807T012621Z
LAST-MODIFIED:20250807T012621Z
UID:10001163-1755165600-1755169200@www.ageconcerntaranaki.org.nz
SUMMARY:Steady As You Go - Eltham
DESCRIPTION:Steady As You Go – Eltham \nHeld every Thursday at 10am excluding public holidays. \nCost: $3 per session \nTo register or for more information please contact our Steady As You Go Coordinator Andrea on 06 759 9196 or email info@ageconcerntaranaki.org.nz \n 
URL:https://www.ageconcerntaranaki.org.nz/event/steady-as-you-go-eltham/2025-08-14/
LOCATION:All Saints Anglican Church\, 88 King Edward Street\, Eltham\, New Zealand
CATEGORIES:Steady As You Go
ORGANIZER;CN="Age Concern Taranaki":MAILTO:info@ageconcerntaranaki.org.nz
END:VEVENT
BEGIN:VEVENT
DTSTART;TZID=UTC:20250807T100000
DTEND;TZID=UTC:20250807T110000
DTSTAMP:20260422T025117
CREATED:20250807T012621Z
LAST-MODIFIED:20250807T012621Z
UID:10001162-1754560800-1754564400@www.ageconcerntaranaki.org.nz
SUMMARY:Steady As You Go - Eltham
DESCRIPTION:Steady As You Go – Eltham \nHeld every Thursday at 10am excluding public holidays. \nCost: $3 per session \nTo register or for more information please contact our Steady As You Go Coordinator Andrea on 06 759 9196 or email info@ageconcerntaranaki.org.nz \n 
URL:https://www.ageconcerntaranaki.org.nz/event/steady-as-you-go-eltham/2025-08-07/
LOCATION:All Saints Anglican Church\, 88 King Edward Street\, Eltham\, New Zealand
CATEGORIES:Steady As You Go
ORGANIZER;CN="Age Concern Taranaki":MAILTO:info@ageconcerntaranaki.org.nz
END:VEVENT
END:VCALENDAR