BEGIN:VCALENDAR
VERSION:2.0
PRODID:-//Age Concern Taranaki - ECPv6.15.20//NONSGML v1.0//EN
CALSCALE:GREGORIAN
METHOD:PUBLISH
X-WR-CALNAME:Age Concern Taranaki
X-ORIGINAL-URL:https://www.ageconcerntaranaki.org.nz
X-WR-CALDESC:Events for Age Concern Taranaki
REFRESH-INTERVAL;VALUE=DURATION:PT1H
X-Robots-Tag:noindex
X-PUBLISHED-TTL:PT1H
BEGIN:VTIMEZONE
TZID:UTC
BEGIN:STANDARD
TZOFFSETFROM:+0000
TZOFFSETTO:+0000
TZNAME:UTC
DTSTART:20240101T000000
END:STANDARD
END:VTIMEZONE
BEGIN:VEVENT
DTSTART;TZID=UTC:20250918T100000
DTEND;TZID=UTC:20250918T110000
DTSTAMP:20260423T123548
CREATED:20250807T012621Z
LAST-MODIFIED:20250807T012621Z
UID:10001168-1758189600-1758193200@www.ageconcerntaranaki.org.nz
SUMMARY:Steady As You Go - Eltham
DESCRIPTION:Steady As You Go – Eltham \nHeld every Thursday at 10am excluding public holidays. \nCost: $3 per session \nTo register or for more information please contact our Steady As You Go Coordinator Andrea on 06 759 9196 or email info@ageconcerntaranaki.org.nz \n 
URL:https://www.ageconcerntaranaki.org.nz/event/steady-as-you-go-eltham/2025-09-18/
LOCATION:All Saints Anglican Church\, 88 King Edward Street\, Eltham\, New Zealand
CATEGORIES:Steady As You Go
ORGANIZER;CN="Age Concern Taranaki":MAILTO:info@ageconcerntaranaki.org.nz
END:VEVENT
BEGIN:VEVENT
DTSTART;TZID=UTC:20250911T100000
DTEND;TZID=UTC:20250911T110000
DTSTAMP:20260423T123548
CREATED:20250807T012621Z
LAST-MODIFIED:20250807T012621Z
UID:10001167-1757584800-1757588400@www.ageconcerntaranaki.org.nz
SUMMARY:Steady As You Go - Eltham
DESCRIPTION:Steady As You Go – Eltham \nHeld every Thursday at 10am excluding public holidays. \nCost: $3 per session \nTo register or for more information please contact our Steady As You Go Coordinator Andrea on 06 759 9196 or email info@ageconcerntaranaki.org.nz \n 
URL:https://www.ageconcerntaranaki.org.nz/event/steady-as-you-go-eltham/2025-09-11/
LOCATION:All Saints Anglican Church\, 88 King Edward Street\, Eltham\, New Zealand
CATEGORIES:Steady As You Go
ORGANIZER;CN="Age Concern Taranaki":MAILTO:info@ageconcerntaranaki.org.nz
END:VEVENT
BEGIN:VEVENT
DTSTART;TZID=UTC:20250904T100000
DTEND;TZID=UTC:20250904T110000
DTSTAMP:20260423T123548
CREATED:20250807T012621Z
LAST-MODIFIED:20250807T012621Z
UID:10001166-1756980000-1756983600@www.ageconcerntaranaki.org.nz
SUMMARY:Steady As You Go - Eltham
DESCRIPTION:Steady As You Go – Eltham \nHeld every Thursday at 10am excluding public holidays. \nCost: $3 per session \nTo register or for more information please contact our Steady As You Go Coordinator Andrea on 06 759 9196 or email info@ageconcerntaranaki.org.nz \n 
URL:https://www.ageconcerntaranaki.org.nz/event/steady-as-you-go-eltham/2025-09-04/
LOCATION:All Saints Anglican Church\, 88 King Edward Street\, Eltham\, New Zealand
CATEGORIES:Steady As You Go
ORGANIZER;CN="Age Concern Taranaki":MAILTO:info@ageconcerntaranaki.org.nz
END:VEVENT
BEGIN:VEVENT
DTSTART;TZID=UTC:20250828T100000
DTEND;TZID=UTC:20250828T110000
DTSTAMP:20260423T123548
CREATED:20250807T012621Z
LAST-MODIFIED:20250807T012621Z
UID:10001165-1756375200-1756378800@www.ageconcerntaranaki.org.nz
SUMMARY:Steady As You Go - Eltham
DESCRIPTION:Steady As You Go – Eltham \nHeld every Thursday at 10am excluding public holidays. \nCost: $3 per session \nTo register or for more information please contact our Steady As You Go Coordinator Andrea on 06 759 9196 or email info@ageconcerntaranaki.org.nz \n 
URL:https://www.ageconcerntaranaki.org.nz/event/steady-as-you-go-eltham/2025-08-28/
LOCATION:All Saints Anglican Church\, 88 King Edward Street\, Eltham\, New Zealand
CATEGORIES:Steady As You Go
ORGANIZER;CN="Age Concern Taranaki":MAILTO:info@ageconcerntaranaki.org.nz
END:VEVENT
BEGIN:VEVENT
DTSTART;TZID=UTC:20250821T100000
DTEND;TZID=UTC:20250821T110000
DTSTAMP:20260423T123548
CREATED:20250807T012621Z
LAST-MODIFIED:20250807T012621Z
UID:10001164-1755770400-1755774000@www.ageconcerntaranaki.org.nz
SUMMARY:Steady As You Go - Eltham
DESCRIPTION:Steady As You Go – Eltham \nHeld every Thursday at 10am excluding public holidays. \nCost: $3 per session \nTo register or for more information please contact our Steady As You Go Coordinator Andrea on 06 759 9196 or email info@ageconcerntaranaki.org.nz \n 
URL:https://www.ageconcerntaranaki.org.nz/event/steady-as-you-go-eltham/2025-08-21/
LOCATION:All Saints Anglican Church\, 88 King Edward Street\, Eltham\, New Zealand
CATEGORIES:Steady As You Go
ORGANIZER;CN="Age Concern Taranaki":MAILTO:info@ageconcerntaranaki.org.nz
END:VEVENT
BEGIN:VEVENT
DTSTART;TZID=UTC:20250814T100000
DTEND;TZID=UTC:20250814T110000
DTSTAMP:20260423T123548
CREATED:20250807T012621Z
LAST-MODIFIED:20250807T012621Z
UID:10001163-1755165600-1755169200@www.ageconcerntaranaki.org.nz
SUMMARY:Steady As You Go - Eltham
DESCRIPTION:Steady As You Go – Eltham \nHeld every Thursday at 10am excluding public holidays. \nCost: $3 per session \nTo register or for more information please contact our Steady As You Go Coordinator Andrea on 06 759 9196 or email info@ageconcerntaranaki.org.nz \n 
URL:https://www.ageconcerntaranaki.org.nz/event/steady-as-you-go-eltham/2025-08-14/
LOCATION:All Saints Anglican Church\, 88 King Edward Street\, Eltham\, New Zealand
CATEGORIES:Steady As You Go
ORGANIZER;CN="Age Concern Taranaki":MAILTO:info@ageconcerntaranaki.org.nz
END:VEVENT
BEGIN:VEVENT
DTSTART;TZID=UTC:20250807T100000
DTEND;TZID=UTC:20250807T110000
DTSTAMP:20260423T123548
CREATED:20250807T012621Z
LAST-MODIFIED:20250807T012621Z
UID:10001162-1754560800-1754564400@www.ageconcerntaranaki.org.nz
SUMMARY:Steady As You Go - Eltham
DESCRIPTION:Steady As You Go – Eltham \nHeld every Thursday at 10am excluding public holidays. \nCost: $3 per session \nTo register or for more information please contact our Steady As You Go Coordinator Andrea on 06 759 9196 or email info@ageconcerntaranaki.org.nz \n 
URL:https://www.ageconcerntaranaki.org.nz/event/steady-as-you-go-eltham/2025-08-07/
LOCATION:All Saints Anglican Church\, 88 King Edward Street\, Eltham\, New Zealand
CATEGORIES:Steady As You Go
ORGANIZER;CN="Age Concern Taranaki":MAILTO:info@ageconcerntaranaki.org.nz
END:VEVENT
BEGIN:VEVENT
DTSTART;TZID=UTC:20250731T100000
DTEND;TZID=UTC:20250731T110000
DTSTAMP:20260423T123548
CREATED:20250807T012621Z
LAST-MODIFIED:20250807T012621Z
UID:10001161-1753956000-1753959600@www.ageconcerntaranaki.org.nz
SUMMARY:Steady As You Go - Eltham
DESCRIPTION:Steady As You Go – Eltham \nHeld every Thursday at 10am excluding public holidays. \nCost: $3 per session \nTo register or for more information please contact our Steady As You Go Coordinator Andrea on 06 759 9196 or email info@ageconcerntaranaki.org.nz \n 
URL:https://www.ageconcerntaranaki.org.nz/event/steady-as-you-go-eltham/2025-07-31/
LOCATION:All Saints Anglican Church\, 88 King Edward Street\, Eltham\, New Zealand
CATEGORIES:Steady As You Go
ORGANIZER;CN="Age Concern Taranaki":MAILTO:info@ageconcerntaranaki.org.nz
END:VEVENT
BEGIN:VEVENT
DTSTART;TZID=UTC:20250724T100000
DTEND;TZID=UTC:20250724T110000
DTSTAMP:20260423T123548
CREATED:20250807T012621Z
LAST-MODIFIED:20250807T012621Z
UID:10001160-1753351200-1753354800@www.ageconcerntaranaki.org.nz
SUMMARY:Steady As You Go - Eltham
DESCRIPTION:Steady As You Go – Eltham \nHeld every Thursday at 10am excluding public holidays. \nCost: $3 per session \nTo register or for more information please contact our Steady As You Go Coordinator Andrea on 06 759 9196 or email info@ageconcerntaranaki.org.nz \n 
URL:https://www.ageconcerntaranaki.org.nz/event/steady-as-you-go-eltham/2025-07-24/
LOCATION:All Saints Anglican Church\, 88 King Edward Street\, Eltham\, New Zealand
CATEGORIES:Steady As You Go
ORGANIZER;CN="Age Concern Taranaki":MAILTO:info@ageconcerntaranaki.org.nz
END:VEVENT
BEGIN:VEVENT
DTSTART;TZID=UTC:20250717T100000
DTEND;TZID=UTC:20250717T110000
DTSTAMP:20260423T123548
CREATED:20250807T012621Z
LAST-MODIFIED:20250807T012621Z
UID:10001159-1752746400-1752750000@www.ageconcerntaranaki.org.nz
SUMMARY:Steady As You Go - Eltham
DESCRIPTION:Steady As You Go – Eltham \nHeld every Thursday at 10am excluding public holidays. \nCost: $3 per session \nTo register or for more information please contact our Steady As You Go Coordinator Andrea on 06 759 9196 or email info@ageconcerntaranaki.org.nz \n 
URL:https://www.ageconcerntaranaki.org.nz/event/steady-as-you-go-eltham/2025-07-17/
LOCATION:All Saints Anglican Church\, 88 King Edward Street\, Eltham\, New Zealand
CATEGORIES:Steady As You Go
ORGANIZER;CN="Age Concern Taranaki":MAILTO:info@ageconcerntaranaki.org.nz
END:VEVENT
BEGIN:VEVENT
DTSTART;TZID=UTC:20250710T100000
DTEND;TZID=UTC:20250710T110000
DTSTAMP:20260423T123548
CREATED:20250807T012621Z
LAST-MODIFIED:20250807T012621Z
UID:10001158-1752141600-1752145200@www.ageconcerntaranaki.org.nz
SUMMARY:Steady As You Go - Eltham
DESCRIPTION:Steady As You Go – Eltham \nHeld every Thursday at 10am excluding public holidays. \nCost: $3 per session \nTo register or for more information please contact our Steady As You Go Coordinator Andrea on 06 759 9196 or email info@ageconcerntaranaki.org.nz \n 
URL:https://www.ageconcerntaranaki.org.nz/event/steady-as-you-go-eltham/2025-07-10/
LOCATION:All Saints Anglican Church\, 88 King Edward Street\, Eltham\, New Zealand
CATEGORIES:Steady As You Go
ORGANIZER;CN="Age Concern Taranaki":MAILTO:info@ageconcerntaranaki.org.nz
END:VEVENT
BEGIN:VEVENT
DTSTART;TZID=UTC:20250703T100000
DTEND;TZID=UTC:20250703T110000
DTSTAMP:20260423T123548
CREATED:20250807T012621Z
LAST-MODIFIED:20250807T012621Z
UID:10001157-1751536800-1751540400@www.ageconcerntaranaki.org.nz
SUMMARY:Steady As You Go - Eltham
DESCRIPTION:Steady As You Go – Eltham \nHeld every Thursday at 10am excluding public holidays. \nCost: $3 per session \nTo register or for more information please contact our Steady As You Go Coordinator Andrea on 06 759 9196 or email info@ageconcerntaranaki.org.nz \n 
URL:https://www.ageconcerntaranaki.org.nz/event/steady-as-you-go-eltham/2025-07-03/
LOCATION:All Saints Anglican Church\, 88 King Edward Street\, Eltham\, New Zealand
CATEGORIES:Steady As You Go
ORGANIZER;CN="Age Concern Taranaki":MAILTO:info@ageconcerntaranaki.org.nz
END:VEVENT
BEGIN:VEVENT
DTSTART;TZID=UTC:20250626T100000
DTEND;TZID=UTC:20250626T110000
DTSTAMP:20260423T123548
CREATED:20250807T012621Z
LAST-MODIFIED:20250807T012621Z
UID:10001156-1750932000-1750935600@www.ageconcerntaranaki.org.nz
SUMMARY:Steady As You Go - Eltham
DESCRIPTION:Steady As You Go – Eltham \nHeld every Thursday at 10am excluding public holidays. \nCost: $3 per session \nTo register or for more information please contact our Steady As You Go Coordinator Andrea on 06 759 9196 or email info@ageconcerntaranaki.org.nz \n 
URL:https://www.ageconcerntaranaki.org.nz/event/steady-as-you-go-eltham/2025-06-26/
LOCATION:All Saints Anglican Church\, 88 King Edward Street\, Eltham\, New Zealand
CATEGORIES:Steady As You Go
ORGANIZER;CN="Age Concern Taranaki":MAILTO:info@ageconcerntaranaki.org.nz
END:VEVENT
BEGIN:VEVENT
DTSTART;TZID=UTC:20250619T100000
DTEND;TZID=UTC:20250619T110000
DTSTAMP:20260423T123548
CREATED:20250807T012621Z
LAST-MODIFIED:20250807T012621Z
UID:10001155-1750327200-1750330800@www.ageconcerntaranaki.org.nz
SUMMARY:Steady As You Go - Eltham
DESCRIPTION:Steady As You Go – Eltham \nHeld every Thursday at 10am excluding public holidays. \nCost: $3 per session \nTo register or for more information please contact our Steady As You Go Coordinator Andrea on 06 759 9196 or email info@ageconcerntaranaki.org.nz \n 
URL:https://www.ageconcerntaranaki.org.nz/event/steady-as-you-go-eltham/2025-06-19/
LOCATION:All Saints Anglican Church\, 88 King Edward Street\, Eltham\, New Zealand
CATEGORIES:Steady As You Go
ORGANIZER;CN="Age Concern Taranaki":MAILTO:info@ageconcerntaranaki.org.nz
END:VEVENT
BEGIN:VEVENT
DTSTART;TZID=UTC:20250612T100000
DTEND;TZID=UTC:20250612T110000
DTSTAMP:20260423T123548
CREATED:20250807T012621Z
LAST-MODIFIED:20250807T012621Z
UID:10001154-1749722400-1749726000@www.ageconcerntaranaki.org.nz
SUMMARY:Steady As You Go - Eltham
DESCRIPTION:Steady As You Go – Eltham \nHeld every Thursday at 10am excluding public holidays. \nCost: $3 per session \nTo register or for more information please contact our Steady As You Go Coordinator Andrea on 06 759 9196 or email info@ageconcerntaranaki.org.nz \n 
URL:https://www.ageconcerntaranaki.org.nz/event/steady-as-you-go-eltham/2025-06-12/
LOCATION:All Saints Anglican Church\, 88 King Edward Street\, Eltham\, New Zealand
CATEGORIES:Steady As You Go
ORGANIZER;CN="Age Concern Taranaki":MAILTO:info@ageconcerntaranaki.org.nz
END:VEVENT
BEGIN:VEVENT
DTSTART;TZID=UTC:20250605T100000
DTEND;TZID=UTC:20250605T110000
DTSTAMP:20260423T123548
CREATED:20250807T012621Z
LAST-MODIFIED:20250807T012621Z
UID:10001153-1749117600-1749121200@www.ageconcerntaranaki.org.nz
SUMMARY:Steady As You Go - Eltham
DESCRIPTION:Steady As You Go – Eltham \nHeld every Thursday at 10am excluding public holidays. \nCost: $3 per session \nTo register or for more information please contact our Steady As You Go Coordinator Andrea on 06 759 9196 or email info@ageconcerntaranaki.org.nz \n 
URL:https://www.ageconcerntaranaki.org.nz/event/steady-as-you-go-eltham/2025-06-05/
LOCATION:All Saints Anglican Church\, 88 King Edward Street\, Eltham\, New Zealand
CATEGORIES:Steady As You Go
ORGANIZER;CN="Age Concern Taranaki":MAILTO:info@ageconcerntaranaki.org.nz
END:VEVENT
BEGIN:VEVENT
DTSTART;TZID=UTC:20250529T100000
DTEND;TZID=UTC:20250529T110000
DTSTAMP:20260423T123548
CREATED:20250807T012621Z
LAST-MODIFIED:20250807T012621Z
UID:10001152-1748512800-1748516400@www.ageconcerntaranaki.org.nz
SUMMARY:Steady As You Go - Eltham
DESCRIPTION:Steady As You Go – Eltham \nHeld every Thursday at 10am excluding public holidays. \nCost: $3 per session \nTo register or for more information please contact our Steady As You Go Coordinator Andrea on 06 759 9196 or email info@ageconcerntaranaki.org.nz \n 
URL:https://www.ageconcerntaranaki.org.nz/event/steady-as-you-go-eltham/2025-05-29/
LOCATION:All Saints Anglican Church\, 88 King Edward Street\, Eltham\, New Zealand
CATEGORIES:Steady As You Go
ORGANIZER;CN="Age Concern Taranaki":MAILTO:info@ageconcerntaranaki.org.nz
END:VEVENT
BEGIN:VEVENT
DTSTART;TZID=UTC:20250522T100000
DTEND;TZID=UTC:20250522T110000
DTSTAMP:20260423T123548
CREATED:20250807T012621Z
LAST-MODIFIED:20250807T012621Z
UID:10001151-1747908000-1747911600@www.ageconcerntaranaki.org.nz
SUMMARY:Steady As You Go - Eltham
DESCRIPTION:Steady As You Go – Eltham \nHeld every Thursday at 10am excluding public holidays. \nCost: $3 per session \nTo register or for more information please contact our Steady As You Go Coordinator Andrea on 06 759 9196 or email info@ageconcerntaranaki.org.nz \n 
URL:https://www.ageconcerntaranaki.org.nz/event/steady-as-you-go-eltham/2025-05-22/
LOCATION:All Saints Anglican Church\, 88 King Edward Street\, Eltham\, New Zealand
CATEGORIES:Steady As You Go
ORGANIZER;CN="Age Concern Taranaki":MAILTO:info@ageconcerntaranaki.org.nz
END:VEVENT
BEGIN:VEVENT
DTSTART;TZID=UTC:20250515T100000
DTEND;TZID=UTC:20250515T110000
DTSTAMP:20260423T123548
CREATED:20250807T012621Z
LAST-MODIFIED:20250807T012621Z
UID:10001150-1747303200-1747306800@www.ageconcerntaranaki.org.nz
SUMMARY:Steady As You Go - Eltham
DESCRIPTION:Steady As You Go – Eltham \nHeld every Thursday at 10am excluding public holidays. \nCost: $3 per session \nTo register or for more information please contact our Steady As You Go Coordinator Andrea on 06 759 9196 or email info@ageconcerntaranaki.org.nz \n 
URL:https://www.ageconcerntaranaki.org.nz/event/steady-as-you-go-eltham/2025-05-15/
LOCATION:All Saints Anglican Church\, 88 King Edward Street\, Eltham\, New Zealand
CATEGORIES:Steady As You Go
ORGANIZER;CN="Age Concern Taranaki":MAILTO:info@ageconcerntaranaki.org.nz
END:VEVENT
BEGIN:VEVENT
DTSTART;TZID=UTC:20250508T100000
DTEND;TZID=UTC:20250508T110000
DTSTAMP:20260423T123548
CREATED:20250807T012621Z
LAST-MODIFIED:20250807T012621Z
UID:10001149-1746698400-1746702000@www.ageconcerntaranaki.org.nz
SUMMARY:Steady As You Go - Eltham
DESCRIPTION:Steady As You Go – Eltham \nHeld every Thursday at 10am excluding public holidays. \nCost: $3 per session \nTo register or for more information please contact our Steady As You Go Coordinator Andrea on 06 759 9196 or email info@ageconcerntaranaki.org.nz \n 
URL:https://www.ageconcerntaranaki.org.nz/event/steady-as-you-go-eltham/2025-05-08/
LOCATION:All Saints Anglican Church\, 88 King Edward Street\, Eltham\, New Zealand
CATEGORIES:Steady As You Go
ORGANIZER;CN="Age Concern Taranaki":MAILTO:info@ageconcerntaranaki.org.nz
END:VEVENT
BEGIN:VEVENT
DTSTART;TZID=UTC:20250501T100000
DTEND;TZID=UTC:20250501T110000
DTSTAMP:20260423T123548
CREATED:20250807T012621Z
LAST-MODIFIED:20250807T012621Z
UID:10001148-1746093600-1746097200@www.ageconcerntaranaki.org.nz
SUMMARY:Steady As You Go - Eltham
DESCRIPTION:Steady As You Go – Eltham \nHeld every Thursday at 10am excluding public holidays. \nCost: $3 per session \nTo register or for more information please contact our Steady As You Go Coordinator Andrea on 06 759 9196 or email info@ageconcerntaranaki.org.nz \n 
URL:https://www.ageconcerntaranaki.org.nz/event/steady-as-you-go-eltham/2025-05-01/
LOCATION:All Saints Anglican Church\, 88 King Edward Street\, Eltham\, New Zealand
CATEGORIES:Steady As You Go
ORGANIZER;CN="Age Concern Taranaki":MAILTO:info@ageconcerntaranaki.org.nz
END:VEVENT
BEGIN:VEVENT
DTSTART;TZID=UTC:20250424T100000
DTEND;TZID=UTC:20250424T110000
DTSTAMP:20260423T123548
CREATED:20250807T012621Z
LAST-MODIFIED:20250807T012621Z
UID:10001147-1745488800-1745492400@www.ageconcerntaranaki.org.nz
SUMMARY:Steady As You Go - Eltham
DESCRIPTION:Steady As You Go – Eltham \nHeld every Thursday at 10am excluding public holidays. \nCost: $3 per session \nTo register or for more information please contact our Steady As You Go Coordinator Andrea on 06 759 9196 or email info@ageconcerntaranaki.org.nz \n 
URL:https://www.ageconcerntaranaki.org.nz/event/steady-as-you-go-eltham/2025-04-24/
LOCATION:All Saints Anglican Church\, 88 King Edward Street\, Eltham\, New Zealand
CATEGORIES:Steady As You Go
ORGANIZER;CN="Age Concern Taranaki":MAILTO:info@ageconcerntaranaki.org.nz
END:VEVENT
BEGIN:VEVENT
DTSTART;TZID=UTC:20250417T100000
DTEND;TZID=UTC:20250417T110000
DTSTAMP:20260423T123548
CREATED:20250807T012621Z
LAST-MODIFIED:20250807T012621Z
UID:10001146-1744884000-1744887600@www.ageconcerntaranaki.org.nz
SUMMARY:Steady As You Go - Eltham
DESCRIPTION:Steady As You Go – Eltham \nHeld every Thursday at 10am excluding public holidays. \nCost: $3 per session \nTo register or for more information please contact our Steady As You Go Coordinator Andrea on 06 759 9196 or email info@ageconcerntaranaki.org.nz \n 
URL:https://www.ageconcerntaranaki.org.nz/event/steady-as-you-go-eltham/2025-04-17/
LOCATION:All Saints Anglican Church\, 88 King Edward Street\, Eltham\, New Zealand
CATEGORIES:Steady As You Go
ORGANIZER;CN="Age Concern Taranaki":MAILTO:info@ageconcerntaranaki.org.nz
END:VEVENT
BEGIN:VEVENT
DTSTART;TZID=UTC:20250410T100000
DTEND;TZID=UTC:20250410T110000
DTSTAMP:20260423T123548
CREATED:20250807T012621Z
LAST-MODIFIED:20250807T012621Z
UID:10001145-1744279200-1744282800@www.ageconcerntaranaki.org.nz
SUMMARY:Steady As You Go - Eltham
DESCRIPTION:Steady As You Go – Eltham \nHeld every Thursday at 10am excluding public holidays. \nCost: $3 per session \nTo register or for more information please contact our Steady As You Go Coordinator Andrea on 06 759 9196 or email info@ageconcerntaranaki.org.nz \n 
URL:https://www.ageconcerntaranaki.org.nz/event/steady-as-you-go-eltham/2025-04-10/
LOCATION:All Saints Anglican Church\, 88 King Edward Street\, Eltham\, New Zealand
CATEGORIES:Steady As You Go
ORGANIZER;CN="Age Concern Taranaki":MAILTO:info@ageconcerntaranaki.org.nz
END:VEVENT
BEGIN:VEVENT
DTSTART;TZID=UTC:20250403T100000
DTEND;TZID=UTC:20250403T110000
DTSTAMP:20260423T123548
CREATED:20250807T012621Z
LAST-MODIFIED:20250807T012621Z
UID:10001144-1743674400-1743678000@www.ageconcerntaranaki.org.nz
SUMMARY:Steady As You Go - Eltham
DESCRIPTION:Steady As You Go – Eltham \nHeld every Thursday at 10am excluding public holidays. \nCost: $3 per session \nTo register or for more information please contact our Steady As You Go Coordinator Andrea on 06 759 9196 or email info@ageconcerntaranaki.org.nz \n 
URL:https://www.ageconcerntaranaki.org.nz/event/steady-as-you-go-eltham/2025-04-03/
LOCATION:All Saints Anglican Church\, 88 King Edward Street\, Eltham\, New Zealand
CATEGORIES:Steady As You Go
ORGANIZER;CN="Age Concern Taranaki":MAILTO:info@ageconcerntaranaki.org.nz
END:VEVENT
BEGIN:VEVENT
DTSTART;TZID=UTC:20250327T100000
DTEND;TZID=UTC:20250327T110000
DTSTAMP:20260423T123548
CREATED:20250807T012621Z
LAST-MODIFIED:20250807T012621Z
UID:10001143-1743069600-1743073200@www.ageconcerntaranaki.org.nz
SUMMARY:Steady As You Go - Eltham
DESCRIPTION:Steady As You Go – Eltham \nHeld every Thursday at 10am excluding public holidays. \nCost: $3 per session \nTo register or for more information please contact our Steady As You Go Coordinator Andrea on 06 759 9196 or email info@ageconcerntaranaki.org.nz \n 
URL:https://www.ageconcerntaranaki.org.nz/event/steady-as-you-go-eltham/2025-03-27/
LOCATION:All Saints Anglican Church\, 88 King Edward Street\, Eltham\, New Zealand
CATEGORIES:Steady As You Go
ORGANIZER;CN="Age Concern Taranaki":MAILTO:info@ageconcerntaranaki.org.nz
END:VEVENT
BEGIN:VEVENT
DTSTART;TZID=UTC:20250320T100000
DTEND;TZID=UTC:20250320T110000
DTSTAMP:20260423T123548
CREATED:20250807T012621Z
LAST-MODIFIED:20250807T012621Z
UID:10001142-1742464800-1742468400@www.ageconcerntaranaki.org.nz
SUMMARY:Steady As You Go - Eltham
DESCRIPTION:Steady As You Go – Eltham \nHeld every Thursday at 10am excluding public holidays. \nCost: $3 per session \nTo register or for more information please contact our Steady As You Go Coordinator Andrea on 06 759 9196 or email info@ageconcerntaranaki.org.nz \n 
URL:https://www.ageconcerntaranaki.org.nz/event/steady-as-you-go-eltham/2025-03-20/
LOCATION:All Saints Anglican Church\, 88 King Edward Street\, Eltham\, New Zealand
CATEGORIES:Steady As You Go
ORGANIZER;CN="Age Concern Taranaki":MAILTO:info@ageconcerntaranaki.org.nz
END:VEVENT
BEGIN:VEVENT
DTSTART;TZID=UTC:20250313T100000
DTEND;TZID=UTC:20250313T110000
DTSTAMP:20260423T123548
CREATED:20250807T012621Z
LAST-MODIFIED:20250807T012621Z
UID:10001141-1741860000-1741863600@www.ageconcerntaranaki.org.nz
SUMMARY:Steady As You Go - Eltham
DESCRIPTION:Steady As You Go – Eltham \nHeld every Thursday at 10am excluding public holidays. \nCost: $3 per session \nTo register or for more information please contact our Steady As You Go Coordinator Andrea on 06 759 9196 or email info@ageconcerntaranaki.org.nz \n 
URL:https://www.ageconcerntaranaki.org.nz/event/steady-as-you-go-eltham/2025-03-13/
LOCATION:All Saints Anglican Church\, 88 King Edward Street\, Eltham\, New Zealand
CATEGORIES:Steady As You Go
ORGANIZER;CN="Age Concern Taranaki":MAILTO:info@ageconcerntaranaki.org.nz
END:VEVENT
BEGIN:VEVENT
DTSTART;TZID=UTC:20250306T100000
DTEND;TZID=UTC:20250306T110000
DTSTAMP:20260423T123548
CREATED:20250807T012621Z
LAST-MODIFIED:20250807T012621Z
UID:10001140-1741255200-1741258800@www.ageconcerntaranaki.org.nz
SUMMARY:Steady As You Go - Eltham
DESCRIPTION:Steady As You Go – Eltham \nHeld every Thursday at 10am excluding public holidays. \nCost: $3 per session \nTo register or for more information please contact our Steady As You Go Coordinator Andrea on 06 759 9196 or email info@ageconcerntaranaki.org.nz \n 
URL:https://www.ageconcerntaranaki.org.nz/event/steady-as-you-go-eltham/2025-03-06/
LOCATION:All Saints Anglican Church\, 88 King Edward Street\, Eltham\, New Zealand
CATEGORIES:Steady As You Go
ORGANIZER;CN="Age Concern Taranaki":MAILTO:info@ageconcerntaranaki.org.nz
END:VEVENT
BEGIN:VEVENT
DTSTART;TZID=UTC:20250227T100000
DTEND;TZID=UTC:20250227T110000
DTSTAMP:20260423T123548
CREATED:20250807T012621Z
LAST-MODIFIED:20250807T012621Z
UID:10001139-1740650400-1740654000@www.ageconcerntaranaki.org.nz
SUMMARY:Steady As You Go - Eltham
DESCRIPTION:Steady As You Go – Eltham \nHeld every Thursday at 10am excluding public holidays. \nCost: $3 per session \nTo register or for more information please contact our Steady As You Go Coordinator Andrea on 06 759 9196 or email info@ageconcerntaranaki.org.nz \n 
URL:https://www.ageconcerntaranaki.org.nz/event/steady-as-you-go-eltham/2025-02-27/
LOCATION:All Saints Anglican Church\, 88 King Edward Street\, Eltham\, New Zealand
CATEGORIES:Steady As You Go
ORGANIZER;CN="Age Concern Taranaki":MAILTO:info@ageconcerntaranaki.org.nz
END:VEVENT
END:VCALENDAR