BEGIN:VCALENDAR
VERSION:2.0
PRODID:-//Age Concern Taranaki - ECPv6.15.20//NONSGML v1.0//EN
CALSCALE:GREGORIAN
METHOD:PUBLISH
X-ORIGINAL-URL:https://www.ageconcerntaranaki.org.nz
X-WR-CALDESC:Events for Age Concern Taranaki
REFRESH-INTERVAL;VALUE=DURATION:PT1H
X-Robots-Tag:noindex
X-PUBLISHED-TTL:PT1H
BEGIN:VTIMEZONE
TZID:UTC
BEGIN:STANDARD
TZOFFSETFROM:+0000
TZOFFSETTO:+0000
TZNAME:UTC
DTSTART:20250101T000000
END:STANDARD
END:VTIMEZONE
BEGIN:VEVENT
DTSTART;TZID=UTC:20261008T100000
DTEND;TZID=UTC:20261008T110000
DTSTAMP:20260422T123944
CREATED:20251124T203614Z
LAST-MODIFIED:20251124T203614Z
UID:10001450-1791453600-1791457200@www.ageconcerntaranaki.org.nz
SUMMARY:Steady As You Go - Eltham
DESCRIPTION:Steady As You Go – Eltham \nHeld every Thursday at 10am excluding public holidays. \nCost: $3 per session \nTo register or for more information please contact our Steady As You Go Coordinator Andrea on 06 759 9196 or email info@ageconcerntaranaki.org.nz \n 
URL:https://www.ageconcerntaranaki.org.nz/event/steady-as-you-go-eltham-2/2026-10-08/
LOCATION:All Saints Anglican Church\, 88 King Edward Street\, Eltham\, New Zealand
CATEGORIES:Steady As You Go
ORGANIZER;CN="Age Concern Taranaki":MAILTO:info@ageconcerntaranaki.org.nz
END:VEVENT
BEGIN:VEVENT
DTSTART;TZID=UTC:20261015T100000
DTEND;TZID=UTC:20261015T110000
DTSTAMP:20260422T123944
CREATED:20251124T203614Z
LAST-MODIFIED:20251124T203614Z
UID:10001451-1792058400-1792062000@www.ageconcerntaranaki.org.nz
SUMMARY:Steady As You Go - Eltham
DESCRIPTION:Steady As You Go – Eltham \nHeld every Thursday at 10am excluding public holidays. \nCost: $3 per session \nTo register or for more information please contact our Steady As You Go Coordinator Andrea on 06 759 9196 or email info@ageconcerntaranaki.org.nz \n 
URL:https://www.ageconcerntaranaki.org.nz/event/steady-as-you-go-eltham-2/2026-10-15/
LOCATION:All Saints Anglican Church\, 88 King Edward Street\, Eltham\, New Zealand
CATEGORIES:Steady As You Go
ORGANIZER;CN="Age Concern Taranaki":MAILTO:info@ageconcerntaranaki.org.nz
END:VEVENT
BEGIN:VEVENT
DTSTART;TZID=UTC:20261022T100000
DTEND;TZID=UTC:20261022T110000
DTSTAMP:20260422T123944
CREATED:20251124T203614Z
LAST-MODIFIED:20251124T203614Z
UID:10001452-1792663200-1792666800@www.ageconcerntaranaki.org.nz
SUMMARY:Steady As You Go - Eltham
DESCRIPTION:Steady As You Go – Eltham \nHeld every Thursday at 10am excluding public holidays. \nCost: $3 per session \nTo register or for more information please contact our Steady As You Go Coordinator Andrea on 06 759 9196 or email info@ageconcerntaranaki.org.nz \n 
URL:https://www.ageconcerntaranaki.org.nz/event/steady-as-you-go-eltham-2/2026-10-22/
LOCATION:All Saints Anglican Church\, 88 King Edward Street\, Eltham\, New Zealand
CATEGORIES:Steady As You Go
ORGANIZER;CN="Age Concern Taranaki":MAILTO:info@ageconcerntaranaki.org.nz
END:VEVENT
BEGIN:VEVENT
DTSTART;TZID=UTC:20261029T100000
DTEND;TZID=UTC:20261029T110000
DTSTAMP:20260422T123944
CREATED:20251124T203614Z
LAST-MODIFIED:20251124T203614Z
UID:10001453-1793268000-1793271600@www.ageconcerntaranaki.org.nz
SUMMARY:Steady As You Go - Eltham
DESCRIPTION:Steady As You Go – Eltham \nHeld every Thursday at 10am excluding public holidays. \nCost: $3 per session \nTo register or for more information please contact our Steady As You Go Coordinator Andrea on 06 759 9196 or email info@ageconcerntaranaki.org.nz \n 
URL:https://www.ageconcerntaranaki.org.nz/event/steady-as-you-go-eltham-2/2026-10-29/
LOCATION:All Saints Anglican Church\, 88 King Edward Street\, Eltham\, New Zealand
CATEGORIES:Steady As You Go
ORGANIZER;CN="Age Concern Taranaki":MAILTO:info@ageconcerntaranaki.org.nz
END:VEVENT
BEGIN:VEVENT
DTSTART;TZID=UTC:20261105T100000
DTEND;TZID=UTC:20261105T110000
DTSTAMP:20260422T123944
CREATED:20251124T203614Z
LAST-MODIFIED:20251124T203614Z
UID:10001454-1793872800-1793876400@www.ageconcerntaranaki.org.nz
SUMMARY:Steady As You Go - Eltham
DESCRIPTION:Steady As You Go – Eltham \nHeld every Thursday at 10am excluding public holidays. \nCost: $3 per session \nTo register or for more information please contact our Steady As You Go Coordinator Andrea on 06 759 9196 or email info@ageconcerntaranaki.org.nz \n 
URL:https://www.ageconcerntaranaki.org.nz/event/steady-as-you-go-eltham-2/2026-11-05/
LOCATION:All Saints Anglican Church\, 88 King Edward Street\, Eltham\, New Zealand
CATEGORIES:Steady As You Go
ORGANIZER;CN="Age Concern Taranaki":MAILTO:info@ageconcerntaranaki.org.nz
END:VEVENT
BEGIN:VEVENT
DTSTART;TZID=UTC:20261112T100000
DTEND;TZID=UTC:20261112T110000
DTSTAMP:20260422T123944
CREATED:20251124T203614Z
LAST-MODIFIED:20251124T203614Z
UID:10001455-1794477600-1794481200@www.ageconcerntaranaki.org.nz
SUMMARY:Steady As You Go - Eltham
DESCRIPTION:Steady As You Go – Eltham \nHeld every Thursday at 10am excluding public holidays. \nCost: $3 per session \nTo register or for more information please contact our Steady As You Go Coordinator Andrea on 06 759 9196 or email info@ageconcerntaranaki.org.nz \n 
URL:https://www.ageconcerntaranaki.org.nz/event/steady-as-you-go-eltham-2/2026-11-12/
LOCATION:All Saints Anglican Church\, 88 King Edward Street\, Eltham\, New Zealand
CATEGORIES:Steady As You Go
ORGANIZER;CN="Age Concern Taranaki":MAILTO:info@ageconcerntaranaki.org.nz
END:VEVENT
BEGIN:VEVENT
DTSTART;TZID=UTC:20261119T100000
DTEND;TZID=UTC:20261119T110000
DTSTAMP:20260422T123944
CREATED:20251124T203614Z
LAST-MODIFIED:20251124T203614Z
UID:10001456-1795082400-1795086000@www.ageconcerntaranaki.org.nz
SUMMARY:Steady As You Go - Eltham
DESCRIPTION:Steady As You Go – Eltham \nHeld every Thursday at 10am excluding public holidays. \nCost: $3 per session \nTo register or for more information please contact our Steady As You Go Coordinator Andrea on 06 759 9196 or email info@ageconcerntaranaki.org.nz \n 
URL:https://www.ageconcerntaranaki.org.nz/event/steady-as-you-go-eltham-2/2026-11-19/
LOCATION:All Saints Anglican Church\, 88 King Edward Street\, Eltham\, New Zealand
CATEGORIES:Steady As You Go
ORGANIZER;CN="Age Concern Taranaki":MAILTO:info@ageconcerntaranaki.org.nz
END:VEVENT
BEGIN:VEVENT
DTSTART;TZID=UTC:20261126T100000
DTEND;TZID=UTC:20261126T110000
DTSTAMP:20260422T123944
CREATED:20251124T203614Z
LAST-MODIFIED:20251124T203614Z
UID:10001457-1795687200-1795690800@www.ageconcerntaranaki.org.nz
SUMMARY:Steady As You Go - Eltham
DESCRIPTION:Steady As You Go – Eltham \nHeld every Thursday at 10am excluding public holidays. \nCost: $3 per session \nTo register or for more information please contact our Steady As You Go Coordinator Andrea on 06 759 9196 or email info@ageconcerntaranaki.org.nz \n 
URL:https://www.ageconcerntaranaki.org.nz/event/steady-as-you-go-eltham-2/2026-11-26/
LOCATION:All Saints Anglican Church\, 88 King Edward Street\, Eltham\, New Zealand
CATEGORIES:Steady As You Go
ORGANIZER;CN="Age Concern Taranaki":MAILTO:info@ageconcerntaranaki.org.nz
END:VEVENT
BEGIN:VEVENT
DTSTART;TZID=UTC:20261203T100000
DTEND;TZID=UTC:20261203T110000
DTSTAMP:20260422T123944
CREATED:20251124T203614Z
LAST-MODIFIED:20251124T203614Z
UID:10001458-1796292000-1796295600@www.ageconcerntaranaki.org.nz
SUMMARY:Steady As You Go - Eltham
DESCRIPTION:Steady As You Go – Eltham \nHeld every Thursday at 10am excluding public holidays. \nCost: $3 per session \nTo register or for more information please contact our Steady As You Go Coordinator Andrea on 06 759 9196 or email info@ageconcerntaranaki.org.nz \n 
URL:https://www.ageconcerntaranaki.org.nz/event/steady-as-you-go-eltham-2/2026-12-03/
LOCATION:All Saints Anglican Church\, 88 King Edward Street\, Eltham\, New Zealand
CATEGORIES:Steady As You Go
ORGANIZER;CN="Age Concern Taranaki":MAILTO:info@ageconcerntaranaki.org.nz
END:VEVENT
BEGIN:VEVENT
DTSTART;TZID=UTC:20261210T100000
DTEND;TZID=UTC:20261210T110000
DTSTAMP:20260422T123944
CREATED:20251124T203614Z
LAST-MODIFIED:20251124T203614Z
UID:10001459-1796896800-1796900400@www.ageconcerntaranaki.org.nz
SUMMARY:Steady As You Go - Eltham
DESCRIPTION:Steady As You Go – Eltham \nHeld every Thursday at 10am excluding public holidays. \nCost: $3 per session \nTo register or for more information please contact our Steady As You Go Coordinator Andrea on 06 759 9196 or email info@ageconcerntaranaki.org.nz \n 
URL:https://www.ageconcerntaranaki.org.nz/event/steady-as-you-go-eltham-2/2026-12-10/
LOCATION:All Saints Anglican Church\, 88 King Edward Street\, Eltham\, New Zealand
CATEGORIES:Steady As You Go
ORGANIZER;CN="Age Concern Taranaki":MAILTO:info@ageconcerntaranaki.org.nz
END:VEVENT
BEGIN:VEVENT
DTSTART;TZID=UTC:20261217T100000
DTEND;TZID=UTC:20261217T110000
DTSTAMP:20260422T123944
CREATED:20251124T203614Z
LAST-MODIFIED:20251124T203614Z
UID:10001460-1797501600-1797505200@www.ageconcerntaranaki.org.nz
SUMMARY:Steady As You Go - Eltham
DESCRIPTION:Steady As You Go – Eltham \nHeld every Thursday at 10am excluding public holidays. \nCost: $3 per session \nTo register or for more information please contact our Steady As You Go Coordinator Andrea on 06 759 9196 or email info@ageconcerntaranaki.org.nz \n 
URL:https://www.ageconcerntaranaki.org.nz/event/steady-as-you-go-eltham-2/2026-12-17/
LOCATION:All Saints Anglican Church\, 88 King Edward Street\, Eltham\, New Zealand
CATEGORIES:Steady As You Go
ORGANIZER;CN="Age Concern Taranaki":MAILTO:info@ageconcerntaranaki.org.nz
END:VEVENT
END:VCALENDAR