BEGIN:VCALENDAR
VERSION:2.0
PRODID:-//Age Concern Taranaki - ECPv6.15.20//NONSGML v1.0//EN
CALSCALE:GREGORIAN
METHOD:PUBLISH
X-ORIGINAL-URL:https://www.ageconcerntaranaki.org.nz
X-WR-CALDESC:Events for Age Concern Taranaki
REFRESH-INTERVAL;VALUE=DURATION:PT1H
X-Robots-Tag:noindex
X-PUBLISHED-TTL:PT1H
BEGIN:VTIMEZONE
TZID:UTC
BEGIN:STANDARD
TZOFFSETFROM:+0000
TZOFFSETTO:+0000
TZNAME:UTC
DTSTART:20240101T000000
END:STANDARD
END:VTIMEZONE
BEGIN:VEVENT
DTSTART;TZID=UTC:20250616T103000
DTEND;TZID=UTC:20250616T113000
DTSTAMP:20260421T190253
CREATED:20250420T125357Z
LAST-MODIFIED:20251124T205715Z
UID:10000428-1750069800-1750073400@www.ageconcerntaranaki.org.nz
SUMMARY:Steady As You Go - Ōpunkae
DESCRIPTION:Steady As You Go – Ōpunake \nHeld every Monday at 10am excluding public holidays. \nCost: $3 per session \nTo register or for more information please contact our Steady As You Go Coordinator – Andrea on 06 759 9196 or email info@ageconcerntaranaki.org.nz \n 
URL:https://www.ageconcerntaranaki.org.nz/event/steady-as-you-go-opunkae/2025-06-16/
LOCATION:Barnabas Centre\, 142 Tasman Street\, Opunake\, New Zealand
CATEGORIES:Exercise Classes,Steady As You Go
ORGANIZER;CN="Age Concern Taranaki":MAILTO:info@ageconcerntaranaki.org.nz
END:VEVENT
BEGIN:VEVENT
DTSTART;TZID=UTC:20250609T103000
DTEND;TZID=UTC:20250609T113000
DTSTAMP:20260421T190253
CREATED:20250420T125357Z
LAST-MODIFIED:20251124T205715Z
UID:10000427-1749465000-1749468600@www.ageconcerntaranaki.org.nz
SUMMARY:Steady As You Go - Ōpunkae
DESCRIPTION:Steady As You Go – Ōpunake \nHeld every Monday at 10am excluding public holidays. \nCost: $3 per session \nTo register or for more information please contact our Steady As You Go Coordinator – Andrea on 06 759 9196 or email info@ageconcerntaranaki.org.nz \n 
URL:https://www.ageconcerntaranaki.org.nz/event/steady-as-you-go-opunkae/2025-06-09/
LOCATION:Barnabas Centre\, 142 Tasman Street\, Opunake\, New Zealand
CATEGORIES:Exercise Classes,Steady As You Go
ORGANIZER;CN="Age Concern Taranaki":MAILTO:info@ageconcerntaranaki.org.nz
END:VEVENT
BEGIN:VEVENT
DTSTART;TZID=UTC:20250602T110000
DTEND;TZID=UTC:20250602T120000
DTSTAMP:20260421T190253
CREATED:20250420T133843Z
LAST-MODIFIED:20250420T133843Z
UID:10000473-1748862000-1748865600@www.ageconcerntaranaki.org.nz
SUMMARY:Casual Cuppa - Opunake
DESCRIPTION:First Monday of the month\, excluding public holidays \n11am Barnabas Centre\, 141 Tasman Street\, Opunake – Join this happy\, friendly group. Drop in\, make friends\, socialise play games and take part in discussions.
URL:https://www.ageconcerntaranaki.org.nz/event/casual-cuppa-opunake/2025-06-02/
LOCATION:Barnabas Centre\, 142 Tasman Street\, Opunake\, New Zealand
CATEGORIES:Coffee Morning Groups,Social Connection
ORGANIZER;CN="Age Concern Taranaki":MAILTO:info@ageconcerntaranaki.org.nz
END:VEVENT
BEGIN:VEVENT
DTSTART;TZID=UTC:20250602T103000
DTEND;TZID=UTC:20250602T113000
DTSTAMP:20260421T190253
CREATED:20250420T125357Z
LAST-MODIFIED:20251124T205715Z
UID:10000426-1748860200-1748863800@www.ageconcerntaranaki.org.nz
SUMMARY:Steady As You Go - Ōpunkae
DESCRIPTION:Steady As You Go – Ōpunake \nHeld every Monday at 10am excluding public holidays. \nCost: $3 per session \nTo register or for more information please contact our Steady As You Go Coordinator – Andrea on 06 759 9196 or email info@ageconcerntaranaki.org.nz \n 
URL:https://www.ageconcerntaranaki.org.nz/event/steady-as-you-go-opunkae/2025-06-02/
LOCATION:Barnabas Centre\, 142 Tasman Street\, Opunake\, New Zealand
CATEGORIES:Exercise Classes,Steady As You Go
ORGANIZER;CN="Age Concern Taranaki":MAILTO:info@ageconcerntaranaki.org.nz
END:VEVENT
BEGIN:VEVENT
DTSTART;TZID=UTC:20250526T103000
DTEND;TZID=UTC:20250526T113000
DTSTAMP:20260421T190253
CREATED:20250420T125357Z
LAST-MODIFIED:20251124T205715Z
UID:10000425-1748255400-1748259000@www.ageconcerntaranaki.org.nz
SUMMARY:Steady As You Go - Ōpunkae
DESCRIPTION:Steady As You Go – Ōpunake \nHeld every Monday at 10am excluding public holidays. \nCost: $3 per session \nTo register or for more information please contact our Steady As You Go Coordinator – Andrea on 06 759 9196 or email info@ageconcerntaranaki.org.nz \n 
URL:https://www.ageconcerntaranaki.org.nz/event/steady-as-you-go-opunkae/2025-05-26/
LOCATION:Barnabas Centre\, 142 Tasman Street\, Opunake\, New Zealand
CATEGORIES:Exercise Classes,Steady As You Go
ORGANIZER;CN="Age Concern Taranaki":MAILTO:info@ageconcerntaranaki.org.nz
END:VEVENT
BEGIN:VEVENT
DTSTART;TZID=UTC:20250519T103000
DTEND;TZID=UTC:20250519T113000
DTSTAMP:20260421T190253
CREATED:20250420T125357Z
LAST-MODIFIED:20251124T205715Z
UID:10000424-1747650600-1747654200@www.ageconcerntaranaki.org.nz
SUMMARY:Steady As You Go - Ōpunkae
DESCRIPTION:Steady As You Go – Ōpunake \nHeld every Monday at 10am excluding public holidays. \nCost: $3 per session \nTo register or for more information please contact our Steady As You Go Coordinator – Andrea on 06 759 9196 or email info@ageconcerntaranaki.org.nz \n 
URL:https://www.ageconcerntaranaki.org.nz/event/steady-as-you-go-opunkae/2025-05-19/
LOCATION:Barnabas Centre\, 142 Tasman Street\, Opunake\, New Zealand
CATEGORIES:Exercise Classes,Steady As You Go
ORGANIZER;CN="Age Concern Taranaki":MAILTO:info@ageconcerntaranaki.org.nz
END:VEVENT
BEGIN:VEVENT
DTSTART;TZID=UTC:20250512T103000
DTEND;TZID=UTC:20250512T113000
DTSTAMP:20260421T190253
CREATED:20250420T125357Z
LAST-MODIFIED:20251124T205715Z
UID:10000423-1747045800-1747049400@www.ageconcerntaranaki.org.nz
SUMMARY:Steady As You Go - Ōpunkae
DESCRIPTION:Steady As You Go – Ōpunake \nHeld every Monday at 10am excluding public holidays. \nCost: $3 per session \nTo register or for more information please contact our Steady As You Go Coordinator – Andrea on 06 759 9196 or email info@ageconcerntaranaki.org.nz \n 
URL:https://www.ageconcerntaranaki.org.nz/event/steady-as-you-go-opunkae/2025-05-12/
LOCATION:Barnabas Centre\, 142 Tasman Street\, Opunake\, New Zealand
CATEGORIES:Exercise Classes,Steady As You Go
ORGANIZER;CN="Age Concern Taranaki":MAILTO:info@ageconcerntaranaki.org.nz
END:VEVENT
BEGIN:VEVENT
DTSTART;TZID=UTC:20250505T110000
DTEND;TZID=UTC:20250505T120000
DTSTAMP:20260421T190253
CREATED:20250420T133843Z
LAST-MODIFIED:20250420T133843Z
UID:10000472-1746442800-1746446400@www.ageconcerntaranaki.org.nz
SUMMARY:Casual Cuppa - Opunake
DESCRIPTION:First Monday of the month\, excluding public holidays \n11am Barnabas Centre\, 141 Tasman Street\, Opunake – Join this happy\, friendly group. Drop in\, make friends\, socialise play games and take part in discussions.
URL:https://www.ageconcerntaranaki.org.nz/event/casual-cuppa-opunake/2025-05-05/
LOCATION:Barnabas Centre\, 142 Tasman Street\, Opunake\, New Zealand
CATEGORIES:Coffee Morning Groups,Social Connection
ORGANIZER;CN="Age Concern Taranaki":MAILTO:info@ageconcerntaranaki.org.nz
END:VEVENT
BEGIN:VEVENT
DTSTART;TZID=UTC:20250505T103000
DTEND;TZID=UTC:20250505T113000
DTSTAMP:20260421T190253
CREATED:20250420T125357Z
LAST-MODIFIED:20251124T205715Z
UID:10000422-1746441000-1746444600@www.ageconcerntaranaki.org.nz
SUMMARY:Steady As You Go - Ōpunkae
DESCRIPTION:Steady As You Go – Ōpunake \nHeld every Monday at 10am excluding public holidays. \nCost: $3 per session \nTo register or for more information please contact our Steady As You Go Coordinator – Andrea on 06 759 9196 or email info@ageconcerntaranaki.org.nz \n 
URL:https://www.ageconcerntaranaki.org.nz/event/steady-as-you-go-opunkae/2025-05-05/
LOCATION:Barnabas Centre\, 142 Tasman Street\, Opunake\, New Zealand
CATEGORIES:Exercise Classes,Steady As You Go
ORGANIZER;CN="Age Concern Taranaki":MAILTO:info@ageconcerntaranaki.org.nz
END:VEVENT
END:VCALENDAR