BEGIN:VCALENDAR
VERSION:2.0
PRODID:-//Age Concern Taranaki - ECPv6.15.20//NONSGML v1.0//EN
CALSCALE:GREGORIAN
METHOD:PUBLISH
X-WR-CALNAME:Age Concern Taranaki
X-ORIGINAL-URL:https://www.ageconcerntaranaki.org.nz
X-WR-CALDESC:Events for Age Concern Taranaki
REFRESH-INTERVAL;VALUE=DURATION:PT1H
X-Robots-Tag:noindex
X-PUBLISHED-TTL:PT1H
BEGIN:VTIMEZONE
TZID:UTC
BEGIN:STANDARD
TZOFFSETFROM:+0000
TZOFFSETTO:+0000
TZNAME:UTC
DTSTART:20250101T000000
END:STANDARD
END:VTIMEZONE
BEGIN:VEVENT
DTSTART;TZID=UTC:20261016T110000
DTEND;TZID=UTC:20261016T120000
DTSTAMP:20260421T174736
CREATED:20251124T204642Z
LAST-MODIFIED:20251124T204642Z
UID:10001611-1792148400-1792152000@www.ageconcerntaranaki.org.nz
SUMMARY:Steady As You Go - Hine Street
DESCRIPTION:Steady As You Go – Hine Street\, New Plymouth \nHeld every Friday at 11am excluding public holidays. \nCost: $3 per session \nTo register or for more information please contact our Steady As You Go Coordinator – Andrea on 06 759 9196 or email info@ageconcerntaranaki.org.nz \n 
URL:https://www.ageconcerntaranaki.org.nz/event/steady-as-you-go-hine-street-2/2026-10-16/
LOCATION:Disabled Citizens Craft Centre\, 83 Hine Street\, New Plymouth\, Taranaki\, 4312\, New Zealand
CATEGORIES:Exercise Classes,Steady As You Go
ORGANIZER;CN="Age Concern Taranaki":MAILTO:info@ageconcerntaranaki.org.nz
END:VEVENT
BEGIN:VEVENT
DTSTART;TZID=UTC:20261023T110000
DTEND;TZID=UTC:20261023T120000
DTSTAMP:20260421T174736
CREATED:20251124T204642Z
LAST-MODIFIED:20251124T204642Z
UID:10001612-1792753200-1792756800@www.ageconcerntaranaki.org.nz
SUMMARY:Steady As You Go - Hine Street
DESCRIPTION:Steady As You Go – Hine Street\, New Plymouth \nHeld every Friday at 11am excluding public holidays. \nCost: $3 per session \nTo register or for more information please contact our Steady As You Go Coordinator – Andrea on 06 759 9196 or email info@ageconcerntaranaki.org.nz \n 
URL:https://www.ageconcerntaranaki.org.nz/event/steady-as-you-go-hine-street-2/2026-10-23/
LOCATION:Disabled Citizens Craft Centre\, 83 Hine Street\, New Plymouth\, Taranaki\, 4312\, New Zealand
CATEGORIES:Exercise Classes,Steady As You Go
ORGANIZER;CN="Age Concern Taranaki":MAILTO:info@ageconcerntaranaki.org.nz
END:VEVENT
BEGIN:VEVENT
DTSTART;TZID=UTC:20261030T110000
DTEND;TZID=UTC:20261030T120000
DTSTAMP:20260421T174736
CREATED:20251124T204642Z
LAST-MODIFIED:20251124T204642Z
UID:10001613-1793358000-1793361600@www.ageconcerntaranaki.org.nz
SUMMARY:Steady As You Go - Hine Street
DESCRIPTION:Steady As You Go – Hine Street\, New Plymouth \nHeld every Friday at 11am excluding public holidays. \nCost: $3 per session \nTo register or for more information please contact our Steady As You Go Coordinator – Andrea on 06 759 9196 or email info@ageconcerntaranaki.org.nz \n 
URL:https://www.ageconcerntaranaki.org.nz/event/steady-as-you-go-hine-street-2/2026-10-30/
LOCATION:Disabled Citizens Craft Centre\, 83 Hine Street\, New Plymouth\, Taranaki\, 4312\, New Zealand
CATEGORIES:Exercise Classes,Steady As You Go
ORGANIZER;CN="Age Concern Taranaki":MAILTO:info@ageconcerntaranaki.org.nz
END:VEVENT
BEGIN:VEVENT
DTSTART;TZID=UTC:20261106T110000
DTEND;TZID=UTC:20261106T120000
DTSTAMP:20260421T174736
CREATED:20251124T204642Z
LAST-MODIFIED:20251124T204642Z
UID:10001614-1793962800-1793966400@www.ageconcerntaranaki.org.nz
SUMMARY:Steady As You Go - Hine Street
DESCRIPTION:Steady As You Go – Hine Street\, New Plymouth \nHeld every Friday at 11am excluding public holidays. \nCost: $3 per session \nTo register or for more information please contact our Steady As You Go Coordinator – Andrea on 06 759 9196 or email info@ageconcerntaranaki.org.nz \n 
URL:https://www.ageconcerntaranaki.org.nz/event/steady-as-you-go-hine-street-2/2026-11-06/
LOCATION:Disabled Citizens Craft Centre\, 83 Hine Street\, New Plymouth\, Taranaki\, 4312\, New Zealand
CATEGORIES:Exercise Classes,Steady As You Go
ORGANIZER;CN="Age Concern Taranaki":MAILTO:info@ageconcerntaranaki.org.nz
END:VEVENT
BEGIN:VEVENT
DTSTART;TZID=UTC:20261113T110000
DTEND;TZID=UTC:20261113T120000
DTSTAMP:20260421T174736
CREATED:20251124T204642Z
LAST-MODIFIED:20251124T204642Z
UID:10001615-1794567600-1794571200@www.ageconcerntaranaki.org.nz
SUMMARY:Steady As You Go - Hine Street
DESCRIPTION:Steady As You Go – Hine Street\, New Plymouth \nHeld every Friday at 11am excluding public holidays. \nCost: $3 per session \nTo register or for more information please contact our Steady As You Go Coordinator – Andrea on 06 759 9196 or email info@ageconcerntaranaki.org.nz \n 
URL:https://www.ageconcerntaranaki.org.nz/event/steady-as-you-go-hine-street-2/2026-11-13/
LOCATION:Disabled Citizens Craft Centre\, 83 Hine Street\, New Plymouth\, Taranaki\, 4312\, New Zealand
CATEGORIES:Exercise Classes,Steady As You Go
ORGANIZER;CN="Age Concern Taranaki":MAILTO:info@ageconcerntaranaki.org.nz
END:VEVENT
BEGIN:VEVENT
DTSTART;TZID=UTC:20261120T110000
DTEND;TZID=UTC:20261120T120000
DTSTAMP:20260421T174736
CREATED:20251124T204642Z
LAST-MODIFIED:20251124T204642Z
UID:10001616-1795172400-1795176000@www.ageconcerntaranaki.org.nz
SUMMARY:Steady As You Go - Hine Street
DESCRIPTION:Steady As You Go – Hine Street\, New Plymouth \nHeld every Friday at 11am excluding public holidays. \nCost: $3 per session \nTo register or for more information please contact our Steady As You Go Coordinator – Andrea on 06 759 9196 or email info@ageconcerntaranaki.org.nz \n 
URL:https://www.ageconcerntaranaki.org.nz/event/steady-as-you-go-hine-street-2/2026-11-20/
LOCATION:Disabled Citizens Craft Centre\, 83 Hine Street\, New Plymouth\, Taranaki\, 4312\, New Zealand
CATEGORIES:Exercise Classes,Steady As You Go
ORGANIZER;CN="Age Concern Taranaki":MAILTO:info@ageconcerntaranaki.org.nz
END:VEVENT
BEGIN:VEVENT
DTSTART;TZID=UTC:20261127T110000
DTEND;TZID=UTC:20261127T120000
DTSTAMP:20260421T174736
CREATED:20251124T204642Z
LAST-MODIFIED:20251124T204642Z
UID:10001617-1795777200-1795780800@www.ageconcerntaranaki.org.nz
SUMMARY:Steady As You Go - Hine Street
DESCRIPTION:Steady As You Go – Hine Street\, New Plymouth \nHeld every Friday at 11am excluding public holidays. \nCost: $3 per session \nTo register or for more information please contact our Steady As You Go Coordinator – Andrea on 06 759 9196 or email info@ageconcerntaranaki.org.nz \n 
URL:https://www.ageconcerntaranaki.org.nz/event/steady-as-you-go-hine-street-2/2026-11-27/
LOCATION:Disabled Citizens Craft Centre\, 83 Hine Street\, New Plymouth\, Taranaki\, 4312\, New Zealand
CATEGORIES:Exercise Classes,Steady As You Go
ORGANIZER;CN="Age Concern Taranaki":MAILTO:info@ageconcerntaranaki.org.nz
END:VEVENT
BEGIN:VEVENT
DTSTART;TZID=UTC:20261204T110000
DTEND;TZID=UTC:20261204T120000
DTSTAMP:20260421T174736
CREATED:20251124T204642Z
LAST-MODIFIED:20251124T204642Z
UID:10001618-1796382000-1796385600@www.ageconcerntaranaki.org.nz
SUMMARY:Steady As You Go - Hine Street
DESCRIPTION:Steady As You Go – Hine Street\, New Plymouth \nHeld every Friday at 11am excluding public holidays. \nCost: $3 per session \nTo register or for more information please contact our Steady As You Go Coordinator – Andrea on 06 759 9196 or email info@ageconcerntaranaki.org.nz \n 
URL:https://www.ageconcerntaranaki.org.nz/event/steady-as-you-go-hine-street-2/2026-12-04/
LOCATION:Disabled Citizens Craft Centre\, 83 Hine Street\, New Plymouth\, Taranaki\, 4312\, New Zealand
CATEGORIES:Exercise Classes,Steady As You Go
ORGANIZER;CN="Age Concern Taranaki":MAILTO:info@ageconcerntaranaki.org.nz
END:VEVENT
BEGIN:VEVENT
DTSTART;TZID=UTC:20261211T110000
DTEND;TZID=UTC:20261211T120000
DTSTAMP:20260421T174736
CREATED:20251124T204642Z
LAST-MODIFIED:20251124T204642Z
UID:10001619-1796986800-1796990400@www.ageconcerntaranaki.org.nz
SUMMARY:Steady As You Go - Hine Street
DESCRIPTION:Steady As You Go – Hine Street\, New Plymouth \nHeld every Friday at 11am excluding public holidays. \nCost: $3 per session \nTo register or for more information please contact our Steady As You Go Coordinator – Andrea on 06 759 9196 or email info@ageconcerntaranaki.org.nz \n 
URL:https://www.ageconcerntaranaki.org.nz/event/steady-as-you-go-hine-street-2/2026-12-11/
LOCATION:Disabled Citizens Craft Centre\, 83 Hine Street\, New Plymouth\, Taranaki\, 4312\, New Zealand
CATEGORIES:Exercise Classes,Steady As You Go
ORGANIZER;CN="Age Concern Taranaki":MAILTO:info@ageconcerntaranaki.org.nz
END:VEVENT
END:VCALENDAR