BEGIN:VCALENDAR
VERSION:2.0
PRODID:-//Age Concern Taranaki - ECPv6.15.20//NONSGML v1.0//EN
CALSCALE:GREGORIAN
METHOD:PUBLISH
X-WR-CALNAME:Age Concern Taranaki
X-ORIGINAL-URL:https://www.ageconcerntaranaki.org.nz
X-WR-CALDESC:Events for Age Concern Taranaki
REFRESH-INTERVAL;VALUE=DURATION:PT1H
X-Robots-Tag:noindex
X-PUBLISHED-TTL:PT1H
BEGIN:VTIMEZONE
TZID:UTC
BEGIN:STANDARD
TZOFFSETFROM:+0000
TZOFFSETTO:+0000
TZNAME:UTC
DTSTART:20250101T000000
END:STANDARD
END:VTIMEZONE
BEGIN:VTIMEZONE
TZID:Pacific/Auckland
BEGIN:STANDARD
TZOFFSETFROM:+1300
TZOFFSETTO:+1200
TZNAME:NZST
DTSTART:20250405T140000
END:STANDARD
BEGIN:DAYLIGHT
TZOFFSETFROM:+1200
TZOFFSETTO:+1300
TZNAME:NZDT
DTSTART:20250927T140000
END:DAYLIGHT
BEGIN:STANDARD
TZOFFSETFROM:+1300
TZOFFSETTO:+1200
TZNAME:NZST
DTSTART:20260404T140000
END:STANDARD
BEGIN:DAYLIGHT
TZOFFSETFROM:+1200
TZOFFSETTO:+1300
TZNAME:NZDT
DTSTART:20260926T140000
END:DAYLIGHT
BEGIN:STANDARD
TZOFFSETFROM:+1300
TZOFFSETTO:+1200
TZNAME:NZST
DTSTART:20270403T140000
END:STANDARD
BEGIN:DAYLIGHT
TZOFFSETFROM:+1200
TZOFFSETTO:+1300
TZNAME:NZDT
DTSTART:20270925T140000
END:DAYLIGHT
END:VTIMEZONE
BEGIN:VEVENT
DTSTART;TZID=UTC:20260504T093000
DTEND;TZID=UTC:20260504T103000
DTSTAMP:20260422T165145
CREATED:20251124T205622Z
LAST-MODIFIED:20251124T205622Z
UID:10001832-1777887000-1777890600@www.ageconcerntaranaki.org.nz
SUMMARY:Steady As You Go - Ōkato
DESCRIPTION:Steady As You Go – Ōkato \nHeld every Monday at 9.30am excluding public holidays. \nCost: $3 per session \nTo register or for more information please contact our Steady As You Go Coordinator – Andrea on 06 759 9196 or email info@ageconcerntaranaki.org.nz \n 
URL:https://www.ageconcerntaranaki.org.nz/event/steady-as-you-go-okato-2/2026-05-04/
LOCATION:Hempton Hall\, 72 Carthew Street\, Ōkato\, Taranaki\, New Zealand
CATEGORIES:Exercise Classes,Steady As You Go
ORGANIZER;CN="Age Concern Taranaki":MAILTO:info@ageconcerntaranaki.org.nz
END:VEVENT
BEGIN:VEVENT
DTSTART;TZID=Pacific/Auckland:20260505T130000
DTEND;TZID=Pacific/Auckland:20260505T150000
DTSTAMP:20260422T165145
CREATED:20260202T003921Z
LAST-MODIFIED:20260202T003921Z
UID:10002467-1777986000-1777993200@www.ageconcerntaranaki.org.nz
SUMMARY:Costal Connections - Ōkato
DESCRIPTION:COASTAL CONNECTIONS IN OKATO \nEVERYONE WELCOME \n  \nJoin us for an enjoyable social afternoon \nWe have Guest Speakers\, Fun\, Games\, Trivia\, Music and Singing.  Something for everyone. \n  \nkindly sponsored by  \nŌkato Community Trust – Tracy Beare 027 497 7122\,  The Coffee Cart Ōkato\,  Darcy\, Kath & Carol Julian \, Little Shed            
URL:https://www.ageconcerntaranaki.org.nz/event/costal-connections-okato-3-2/2026-05-05/
LOCATION:Hempton Hall\, 72 Carthew Street\, Ōkato\, Taranaki\, New Zealand
CATEGORIES:Social Afternoons,Social Connection
ORGANIZER;CN="Age Concern Taranaki":MAILTO:info@ageconcerntaranaki.org.nz
END:VEVENT
BEGIN:VEVENT
DTSTART;TZID=UTC:20260511T093000
DTEND;TZID=UTC:20260511T103000
DTSTAMP:20260422T165145
CREATED:20251124T205622Z
LAST-MODIFIED:20251124T205622Z
UID:10001833-1778491800-1778495400@www.ageconcerntaranaki.org.nz
SUMMARY:Steady As You Go - Ōkato
DESCRIPTION:Steady As You Go – Ōkato \nHeld every Monday at 9.30am excluding public holidays. \nCost: $3 per session \nTo register or for more information please contact our Steady As You Go Coordinator – Andrea on 06 759 9196 or email info@ageconcerntaranaki.org.nz \n 
URL:https://www.ageconcerntaranaki.org.nz/event/steady-as-you-go-okato-2/2026-05-11/
LOCATION:Hempton Hall\, 72 Carthew Street\, Ōkato\, Taranaki\, New Zealand
CATEGORIES:Exercise Classes,Steady As You Go
ORGANIZER;CN="Age Concern Taranaki":MAILTO:info@ageconcerntaranaki.org.nz
END:VEVENT
BEGIN:VEVENT
DTSTART;TZID=UTC:20260518T093000
DTEND;TZID=UTC:20260518T103000
DTSTAMP:20260422T165145
CREATED:20251124T205622Z
LAST-MODIFIED:20251124T205622Z
UID:10001834-1779096600-1779100200@www.ageconcerntaranaki.org.nz
SUMMARY:Steady As You Go - Ōkato
DESCRIPTION:Steady As You Go – Ōkato \nHeld every Monday at 9.30am excluding public holidays. \nCost: $3 per session \nTo register or for more information please contact our Steady As You Go Coordinator – Andrea on 06 759 9196 or email info@ageconcerntaranaki.org.nz \n 
URL:https://www.ageconcerntaranaki.org.nz/event/steady-as-you-go-okato-2/2026-05-18/
LOCATION:Hempton Hall\, 72 Carthew Street\, Ōkato\, Taranaki\, New Zealand
CATEGORIES:Exercise Classes,Steady As You Go
ORGANIZER;CN="Age Concern Taranaki":MAILTO:info@ageconcerntaranaki.org.nz
END:VEVENT
BEGIN:VEVENT
DTSTART;TZID=UTC:20260525T093000
DTEND;TZID=UTC:20260525T103000
DTSTAMP:20260422T165145
CREATED:20251124T205622Z
LAST-MODIFIED:20251124T205622Z
UID:10001835-1779701400-1779705000@www.ageconcerntaranaki.org.nz
SUMMARY:Steady As You Go - Ōkato
DESCRIPTION:Steady As You Go – Ōkato \nHeld every Monday at 9.30am excluding public holidays. \nCost: $3 per session \nTo register or for more information please contact our Steady As You Go Coordinator – Andrea on 06 759 9196 or email info@ageconcerntaranaki.org.nz \n 
URL:https://www.ageconcerntaranaki.org.nz/event/steady-as-you-go-okato-2/2026-05-25/
LOCATION:Hempton Hall\, 72 Carthew Street\, Ōkato\, Taranaki\, New Zealand
CATEGORIES:Exercise Classes,Steady As You Go
ORGANIZER;CN="Age Concern Taranaki":MAILTO:info@ageconcerntaranaki.org.nz
END:VEVENT
BEGIN:VEVENT
DTSTART;TZID=Pacific/Auckland:20260602T130000
DTEND;TZID=Pacific/Auckland:20260602T140000
DTSTAMP:20260422T165145
CREATED:20260204T230233Z
LAST-MODIFIED:20260204T230233Z
UID:10002458-1780405200-1780408800@www.ageconcerntaranaki.org.nz
SUMMARY:Costal Connections - Ōkato
DESCRIPTION:COASTAL CONNECTIONS IN OKATO \nEVERYONE WELCOME \n  \nJoin us for an enjoyable social afternoon \nWe have Guest Speakers\, Fun\, Games\, Trivia\, Music and Singing.  Something for everyone. \n  \nkindly sponsored by  \nŌkato Community Trust – Tracy Beare 027 497 7122\,  The Coffee Cart Ōkato\,  Darcy\, Kath & Carol Julian \, Little Shed            
URL:https://www.ageconcerntaranaki.org.nz/event/costal-connections-okato-3-6/2026-06-02/
LOCATION:Hempton Hall\, 72 Carthew Street\, Ōkato\, Taranaki\, New Zealand
CATEGORIES:Social Afternoons,Social Connection
ORGANIZER;CN="Age Concern Taranaki":MAILTO:info@ageconcerntaranaki.org.nz
END:VEVENT
BEGIN:VEVENT
DTSTART;TZID=UTC:20260608T093000
DTEND;TZID=UTC:20260608T103000
DTSTAMP:20260422T165145
CREATED:20251124T205622Z
LAST-MODIFIED:20251124T205622Z
UID:10001836-1780911000-1780914600@www.ageconcerntaranaki.org.nz
SUMMARY:Steady As You Go - Ōkato
DESCRIPTION:Steady As You Go – Ōkato \nHeld every Monday at 9.30am excluding public holidays. \nCost: $3 per session \nTo register or for more information please contact our Steady As You Go Coordinator – Andrea on 06 759 9196 or email info@ageconcerntaranaki.org.nz \n 
URL:https://www.ageconcerntaranaki.org.nz/event/steady-as-you-go-okato-2/2026-06-08/
LOCATION:Hempton Hall\, 72 Carthew Street\, Ōkato\, Taranaki\, New Zealand
CATEGORIES:Exercise Classes,Steady As You Go
ORGANIZER;CN="Age Concern Taranaki":MAILTO:info@ageconcerntaranaki.org.nz
END:VEVENT
BEGIN:VEVENT
DTSTART;TZID=UTC:20260615T093000
DTEND;TZID=UTC:20260615T103000
DTSTAMP:20260422T165145
CREATED:20251124T205622Z
LAST-MODIFIED:20251124T205622Z
UID:10001837-1781515800-1781519400@www.ageconcerntaranaki.org.nz
SUMMARY:Steady As You Go - Ōkato
DESCRIPTION:Steady As You Go – Ōkato \nHeld every Monday at 9.30am excluding public holidays. \nCost: $3 per session \nTo register or for more information please contact our Steady As You Go Coordinator – Andrea on 06 759 9196 or email info@ageconcerntaranaki.org.nz \n 
URL:https://www.ageconcerntaranaki.org.nz/event/steady-as-you-go-okato-2/2026-06-15/
LOCATION:Hempton Hall\, 72 Carthew Street\, Ōkato\, Taranaki\, New Zealand
CATEGORIES:Exercise Classes,Steady As You Go
ORGANIZER;CN="Age Concern Taranaki":MAILTO:info@ageconcerntaranaki.org.nz
END:VEVENT
BEGIN:VEVENT
DTSTART;TZID=UTC:20260622T093000
DTEND;TZID=UTC:20260622T103000
DTSTAMP:20260422T165145
CREATED:20251124T205622Z
LAST-MODIFIED:20251124T205622Z
UID:10001838-1782120600-1782124200@www.ageconcerntaranaki.org.nz
SUMMARY:Steady As You Go - Ōkato
DESCRIPTION:Steady As You Go – Ōkato \nHeld every Monday at 9.30am excluding public holidays. \nCost: $3 per session \nTo register or for more information please contact our Steady As You Go Coordinator – Andrea on 06 759 9196 or email info@ageconcerntaranaki.org.nz \n 
URL:https://www.ageconcerntaranaki.org.nz/event/steady-as-you-go-okato-2/2026-06-22/
LOCATION:Hempton Hall\, 72 Carthew Street\, Ōkato\, Taranaki\, New Zealand
CATEGORIES:Exercise Classes,Steady As You Go
ORGANIZER;CN="Age Concern Taranaki":MAILTO:info@ageconcerntaranaki.org.nz
END:VEVENT
BEGIN:VEVENT
DTSTART;TZID=UTC:20260629T093000
DTEND;TZID=UTC:20260629T103000
DTSTAMP:20260422T165145
CREATED:20251124T205622Z
LAST-MODIFIED:20251124T205622Z
UID:10001839-1782725400-1782729000@www.ageconcerntaranaki.org.nz
SUMMARY:Steady As You Go - Ōkato
DESCRIPTION:Steady As You Go – Ōkato \nHeld every Monday at 9.30am excluding public holidays. \nCost: $3 per session \nTo register or for more information please contact our Steady As You Go Coordinator – Andrea on 06 759 9196 or email info@ageconcerntaranaki.org.nz \n 
URL:https://www.ageconcerntaranaki.org.nz/event/steady-as-you-go-okato-2/2026-06-29/
LOCATION:Hempton Hall\, 72 Carthew Street\, Ōkato\, Taranaki\, New Zealand
CATEGORIES:Exercise Classes,Steady As You Go
ORGANIZER;CN="Age Concern Taranaki":MAILTO:info@ageconcerntaranaki.org.nz
END:VEVENT
BEGIN:VEVENT
DTSTART;TZID=UTC:20260706T093000
DTEND;TZID=UTC:20260706T103000
DTSTAMP:20260422T165145
CREATED:20251124T205622Z
LAST-MODIFIED:20251124T205622Z
UID:10001840-1783330200-1783333800@www.ageconcerntaranaki.org.nz
SUMMARY:Steady As You Go - Ōkato
DESCRIPTION:Steady As You Go – Ōkato \nHeld every Monday at 9.30am excluding public holidays. \nCost: $3 per session \nTo register or for more information please contact our Steady As You Go Coordinator – Andrea on 06 759 9196 or email info@ageconcerntaranaki.org.nz \n 
URL:https://www.ageconcerntaranaki.org.nz/event/steady-as-you-go-okato-2/2026-07-06/
LOCATION:Hempton Hall\, 72 Carthew Street\, Ōkato\, Taranaki\, New Zealand
CATEGORIES:Exercise Classes,Steady As You Go
ORGANIZER;CN="Age Concern Taranaki":MAILTO:info@ageconcerntaranaki.org.nz
END:VEVENT
BEGIN:VEVENT
DTSTART;TZID=Pacific/Auckland:20260707T130000
DTEND;TZID=Pacific/Auckland:20260707T150000
DTSTAMP:20260422T165145
CREATED:20260202T003921Z
LAST-MODIFIED:20260202T003921Z
UID:10002469-1783429200-1783436400@www.ageconcerntaranaki.org.nz
SUMMARY:Costal Connections - Ōkato
DESCRIPTION:COASTAL CONNECTIONS IN OKATO \nEVERYONE WELCOME \n  \nJoin us for an enjoyable social afternoon \nWe have Guest Speakers\, Fun\, Games\, Trivia\, Music and Singing.  Something for everyone. \n  \nkindly sponsored by  \nŌkato Community Trust – Tracy Beare 027 497 7122\,  The Coffee Cart Ōkato\,  Darcy\, Kath & Carol Julian \, Little Shed            
URL:https://www.ageconcerntaranaki.org.nz/event/costal-connections-okato-3-2/2026-07-07/
LOCATION:Hempton Hall\, 72 Carthew Street\, Ōkato\, Taranaki\, New Zealand
CATEGORIES:Social Afternoons,Social Connection
ORGANIZER;CN="Age Concern Taranaki":MAILTO:info@ageconcerntaranaki.org.nz
END:VEVENT
BEGIN:VEVENT
DTSTART;TZID=UTC:20260713T093000
DTEND;TZID=UTC:20260713T103000
DTSTAMP:20260422T165145
CREATED:20251124T205622Z
LAST-MODIFIED:20251124T205622Z
UID:10001841-1783935000-1783938600@www.ageconcerntaranaki.org.nz
SUMMARY:Steady As You Go - Ōkato
DESCRIPTION:Steady As You Go – Ōkato \nHeld every Monday at 9.30am excluding public holidays. \nCost: $3 per session \nTo register or for more information please contact our Steady As You Go Coordinator – Andrea on 06 759 9196 or email info@ageconcerntaranaki.org.nz \n 
URL:https://www.ageconcerntaranaki.org.nz/event/steady-as-you-go-okato-2/2026-07-13/
LOCATION:Hempton Hall\, 72 Carthew Street\, Ōkato\, Taranaki\, New Zealand
CATEGORIES:Exercise Classes,Steady As You Go
ORGANIZER;CN="Age Concern Taranaki":MAILTO:info@ageconcerntaranaki.org.nz
END:VEVENT
BEGIN:VEVENT
DTSTART;TZID=UTC:20260720T093000
DTEND;TZID=UTC:20260720T103000
DTSTAMP:20260422T165145
CREATED:20251124T205622Z
LAST-MODIFIED:20251124T205622Z
UID:10001842-1784539800-1784543400@www.ageconcerntaranaki.org.nz
SUMMARY:Steady As You Go - Ōkato
DESCRIPTION:Steady As You Go – Ōkato \nHeld every Monday at 9.30am excluding public holidays. \nCost: $3 per session \nTo register or for more information please contact our Steady As You Go Coordinator – Andrea on 06 759 9196 or email info@ageconcerntaranaki.org.nz \n 
URL:https://www.ageconcerntaranaki.org.nz/event/steady-as-you-go-okato-2/2026-07-20/
LOCATION:Hempton Hall\, 72 Carthew Street\, Ōkato\, Taranaki\, New Zealand
CATEGORIES:Exercise Classes,Steady As You Go
ORGANIZER;CN="Age Concern Taranaki":MAILTO:info@ageconcerntaranaki.org.nz
END:VEVENT
BEGIN:VEVENT
DTSTART;TZID=UTC:20260727T093000
DTEND;TZID=UTC:20260727T103000
DTSTAMP:20260422T165145
CREATED:20251124T205622Z
LAST-MODIFIED:20251124T205622Z
UID:10001843-1785144600-1785148200@www.ageconcerntaranaki.org.nz
SUMMARY:Steady As You Go - Ōkato
DESCRIPTION:Steady As You Go – Ōkato \nHeld every Monday at 9.30am excluding public holidays. \nCost: $3 per session \nTo register or for more information please contact our Steady As You Go Coordinator – Andrea on 06 759 9196 or email info@ageconcerntaranaki.org.nz \n 
URL:https://www.ageconcerntaranaki.org.nz/event/steady-as-you-go-okato-2/2026-07-27/
LOCATION:Hempton Hall\, 72 Carthew Street\, Ōkato\, Taranaki\, New Zealand
CATEGORIES:Exercise Classes,Steady As You Go
ORGANIZER;CN="Age Concern Taranaki":MAILTO:info@ageconcerntaranaki.org.nz
END:VEVENT
BEGIN:VEVENT
DTSTART;TZID=UTC:20260803T093000
DTEND;TZID=UTC:20260803T103000
DTSTAMP:20260422T165145
CREATED:20251124T205622Z
LAST-MODIFIED:20251124T205622Z
UID:10001844-1785749400-1785753000@www.ageconcerntaranaki.org.nz
SUMMARY:Steady As You Go - Ōkato
DESCRIPTION:Steady As You Go – Ōkato \nHeld every Monday at 9.30am excluding public holidays. \nCost: $3 per session \nTo register or for more information please contact our Steady As You Go Coordinator – Andrea on 06 759 9196 or email info@ageconcerntaranaki.org.nz \n 
URL:https://www.ageconcerntaranaki.org.nz/event/steady-as-you-go-okato-2/2026-08-03/
LOCATION:Hempton Hall\, 72 Carthew Street\, Ōkato\, Taranaki\, New Zealand
CATEGORIES:Exercise Classes,Steady As You Go
ORGANIZER;CN="Age Concern Taranaki":MAILTO:info@ageconcerntaranaki.org.nz
END:VEVENT
BEGIN:VEVENT
DTSTART;TZID=Pacific/Auckland:20260804T130000
DTEND;TZID=Pacific/Auckland:20260804T150000
DTSTAMP:20260422T165145
CREATED:20260202T003921Z
LAST-MODIFIED:20260202T003921Z
UID:10002470-1785848400-1785855600@www.ageconcerntaranaki.org.nz
SUMMARY:Costal Connections - Ōkato
DESCRIPTION:COASTAL CONNECTIONS IN OKATO \nEVERYONE WELCOME \n  \nJoin us for an enjoyable social afternoon \nWe have Guest Speakers\, Fun\, Games\, Trivia\, Music and Singing.  Something for everyone. \n  \nkindly sponsored by  \nŌkato Community Trust – Tracy Beare 027 497 7122\,  The Coffee Cart Ōkato\,  Darcy\, Kath & Carol Julian \, Little Shed            
URL:https://www.ageconcerntaranaki.org.nz/event/costal-connections-okato-3-2/2026-08-04/
LOCATION:Hempton Hall\, 72 Carthew Street\, Ōkato\, Taranaki\, New Zealand
CATEGORIES:Social Afternoons,Social Connection
ORGANIZER;CN="Age Concern Taranaki":MAILTO:info@ageconcerntaranaki.org.nz
END:VEVENT
BEGIN:VEVENT
DTSTART;TZID=UTC:20260810T093000
DTEND;TZID=UTC:20260810T103000
DTSTAMP:20260422T165145
CREATED:20251124T205622Z
LAST-MODIFIED:20251124T205622Z
UID:10001845-1786354200-1786357800@www.ageconcerntaranaki.org.nz
SUMMARY:Steady As You Go - Ōkato
DESCRIPTION:Steady As You Go – Ōkato \nHeld every Monday at 9.30am excluding public holidays. \nCost: $3 per session \nTo register or for more information please contact our Steady As You Go Coordinator – Andrea on 06 759 9196 or email info@ageconcerntaranaki.org.nz \n 
URL:https://www.ageconcerntaranaki.org.nz/event/steady-as-you-go-okato-2/2026-08-10/
LOCATION:Hempton Hall\, 72 Carthew Street\, Ōkato\, Taranaki\, New Zealand
CATEGORIES:Exercise Classes,Steady As You Go
ORGANIZER;CN="Age Concern Taranaki":MAILTO:info@ageconcerntaranaki.org.nz
END:VEVENT
BEGIN:VEVENT
DTSTART;TZID=UTC:20260817T093000
DTEND;TZID=UTC:20260817T103000
DTSTAMP:20260422T165145
CREATED:20251124T205622Z
LAST-MODIFIED:20251124T205622Z
UID:10001846-1786959000-1786962600@www.ageconcerntaranaki.org.nz
SUMMARY:Steady As You Go - Ōkato
DESCRIPTION:Steady As You Go – Ōkato \nHeld every Monday at 9.30am excluding public holidays. \nCost: $3 per session \nTo register or for more information please contact our Steady As You Go Coordinator – Andrea on 06 759 9196 or email info@ageconcerntaranaki.org.nz \n 
URL:https://www.ageconcerntaranaki.org.nz/event/steady-as-you-go-okato-2/2026-08-17/
LOCATION:Hempton Hall\, 72 Carthew Street\, Ōkato\, Taranaki\, New Zealand
CATEGORIES:Exercise Classes,Steady As You Go
ORGANIZER;CN="Age Concern Taranaki":MAILTO:info@ageconcerntaranaki.org.nz
END:VEVENT
BEGIN:VEVENT
DTSTART;TZID=UTC:20260824T093000
DTEND;TZID=UTC:20260824T103000
DTSTAMP:20260422T165145
CREATED:20251124T205622Z
LAST-MODIFIED:20251124T205622Z
UID:10001847-1787563800-1787567400@www.ageconcerntaranaki.org.nz
SUMMARY:Steady As You Go - Ōkato
DESCRIPTION:Steady As You Go – Ōkato \nHeld every Monday at 9.30am excluding public holidays. \nCost: $3 per session \nTo register or for more information please contact our Steady As You Go Coordinator – Andrea on 06 759 9196 or email info@ageconcerntaranaki.org.nz \n 
URL:https://www.ageconcerntaranaki.org.nz/event/steady-as-you-go-okato-2/2026-08-24/
LOCATION:Hempton Hall\, 72 Carthew Street\, Ōkato\, Taranaki\, New Zealand
CATEGORIES:Exercise Classes,Steady As You Go
ORGANIZER;CN="Age Concern Taranaki":MAILTO:info@ageconcerntaranaki.org.nz
END:VEVENT
BEGIN:VEVENT
DTSTART;TZID=UTC:20260831T093000
DTEND;TZID=UTC:20260831T103000
DTSTAMP:20260422T165145
CREATED:20251124T205622Z
LAST-MODIFIED:20251124T205622Z
UID:10001848-1788168600-1788172200@www.ageconcerntaranaki.org.nz
SUMMARY:Steady As You Go - Ōkato
DESCRIPTION:Steady As You Go – Ōkato \nHeld every Monday at 9.30am excluding public holidays. \nCost: $3 per session \nTo register or for more information please contact our Steady As You Go Coordinator – Andrea on 06 759 9196 or email info@ageconcerntaranaki.org.nz \n 
URL:https://www.ageconcerntaranaki.org.nz/event/steady-as-you-go-okato-2/2026-08-31/
LOCATION:Hempton Hall\, 72 Carthew Street\, Ōkato\, Taranaki\, New Zealand
CATEGORIES:Exercise Classes,Steady As You Go
ORGANIZER;CN="Age Concern Taranaki":MAILTO:info@ageconcerntaranaki.org.nz
END:VEVENT
BEGIN:VEVENT
DTSTART;TZID=Pacific/Auckland:20260901T130000
DTEND;TZID=Pacific/Auckland:20260901T150000
DTSTAMP:20260422T165145
CREATED:20260202T003921Z
LAST-MODIFIED:20260202T003921Z
UID:10002471-1788267600-1788274800@www.ageconcerntaranaki.org.nz
SUMMARY:Costal Connections - Ōkato
DESCRIPTION:COASTAL CONNECTIONS IN OKATO \nEVERYONE WELCOME \n  \nJoin us for an enjoyable social afternoon \nWe have Guest Speakers\, Fun\, Games\, Trivia\, Music and Singing.  Something for everyone. \n  \nkindly sponsored by  \nŌkato Community Trust – Tracy Beare 027 497 7122\,  The Coffee Cart Ōkato\,  Darcy\, Kath & Carol Julian \, Little Shed            
URL:https://www.ageconcerntaranaki.org.nz/event/costal-connections-okato-3-2/2026-09-01/
LOCATION:Hempton Hall\, 72 Carthew Street\, Ōkato\, Taranaki\, New Zealand
CATEGORIES:Social Afternoons,Social Connection
ORGANIZER;CN="Age Concern Taranaki":MAILTO:info@ageconcerntaranaki.org.nz
END:VEVENT
BEGIN:VEVENT
DTSTART;TZID=UTC:20260907T093000
DTEND;TZID=UTC:20260907T103000
DTSTAMP:20260422T165145
CREATED:20251124T205622Z
LAST-MODIFIED:20251124T205622Z
UID:10001849-1788773400-1788777000@www.ageconcerntaranaki.org.nz
SUMMARY:Steady As You Go - Ōkato
DESCRIPTION:Steady As You Go – Ōkato \nHeld every Monday at 9.30am excluding public holidays. \nCost: $3 per session \nTo register or for more information please contact our Steady As You Go Coordinator – Andrea on 06 759 9196 or email info@ageconcerntaranaki.org.nz \n 
URL:https://www.ageconcerntaranaki.org.nz/event/steady-as-you-go-okato-2/2026-09-07/
LOCATION:Hempton Hall\, 72 Carthew Street\, Ōkato\, Taranaki\, New Zealand
CATEGORIES:Exercise Classes,Steady As You Go
ORGANIZER;CN="Age Concern Taranaki":MAILTO:info@ageconcerntaranaki.org.nz
END:VEVENT
BEGIN:VEVENT
DTSTART;TZID=UTC:20260914T093000
DTEND;TZID=UTC:20260914T103000
DTSTAMP:20260422T165145
CREATED:20251124T205622Z
LAST-MODIFIED:20251124T205622Z
UID:10001850-1789378200-1789381800@www.ageconcerntaranaki.org.nz
SUMMARY:Steady As You Go - Ōkato
DESCRIPTION:Steady As You Go – Ōkato \nHeld every Monday at 9.30am excluding public holidays. \nCost: $3 per session \nTo register or for more information please contact our Steady As You Go Coordinator – Andrea on 06 759 9196 or email info@ageconcerntaranaki.org.nz \n 
URL:https://www.ageconcerntaranaki.org.nz/event/steady-as-you-go-okato-2/2026-09-14/
LOCATION:Hempton Hall\, 72 Carthew Street\, Ōkato\, Taranaki\, New Zealand
CATEGORIES:Exercise Classes,Steady As You Go
ORGANIZER;CN="Age Concern Taranaki":MAILTO:info@ageconcerntaranaki.org.nz
END:VEVENT
BEGIN:VEVENT
DTSTART;TZID=UTC:20260921T093000
DTEND;TZID=UTC:20260921T103000
DTSTAMP:20260422T165145
CREATED:20251124T205622Z
LAST-MODIFIED:20251124T205622Z
UID:10001851-1789983000-1789986600@www.ageconcerntaranaki.org.nz
SUMMARY:Steady As You Go - Ōkato
DESCRIPTION:Steady As You Go – Ōkato \nHeld every Monday at 9.30am excluding public holidays. \nCost: $3 per session \nTo register or for more information please contact our Steady As You Go Coordinator – Andrea on 06 759 9196 or email info@ageconcerntaranaki.org.nz \n 
URL:https://www.ageconcerntaranaki.org.nz/event/steady-as-you-go-okato-2/2026-09-21/
LOCATION:Hempton Hall\, 72 Carthew Street\, Ōkato\, Taranaki\, New Zealand
CATEGORIES:Exercise Classes,Steady As You Go
ORGANIZER;CN="Age Concern Taranaki":MAILTO:info@ageconcerntaranaki.org.nz
END:VEVENT
BEGIN:VEVENT
DTSTART;TZID=UTC:20260928T093000
DTEND;TZID=UTC:20260928T103000
DTSTAMP:20260422T165145
CREATED:20251124T205622Z
LAST-MODIFIED:20251124T205622Z
UID:10001852-1790587800-1790591400@www.ageconcerntaranaki.org.nz
SUMMARY:Steady As You Go - Ōkato
DESCRIPTION:Steady As You Go – Ōkato \nHeld every Monday at 9.30am excluding public holidays. \nCost: $3 per session \nTo register or for more information please contact our Steady As You Go Coordinator – Andrea on 06 759 9196 or email info@ageconcerntaranaki.org.nz \n 
URL:https://www.ageconcerntaranaki.org.nz/event/steady-as-you-go-okato-2/2026-09-28/
LOCATION:Hempton Hall\, 72 Carthew Street\, Ōkato\, Taranaki\, New Zealand
CATEGORIES:Exercise Classes,Steady As You Go
ORGANIZER;CN="Age Concern Taranaki":MAILTO:info@ageconcerntaranaki.org.nz
END:VEVENT
BEGIN:VEVENT
DTSTART;TZID=UTC:20261005T093000
DTEND;TZID=UTC:20261005T103000
DTSTAMP:20260422T165145
CREATED:20251124T205622Z
LAST-MODIFIED:20251124T205622Z
UID:10001853-1791192600-1791196200@www.ageconcerntaranaki.org.nz
SUMMARY:Steady As You Go - Ōkato
DESCRIPTION:Steady As You Go – Ōkato \nHeld every Monday at 9.30am excluding public holidays. \nCost: $3 per session \nTo register or for more information please contact our Steady As You Go Coordinator – Andrea on 06 759 9196 or email info@ageconcerntaranaki.org.nz \n 
URL:https://www.ageconcerntaranaki.org.nz/event/steady-as-you-go-okato-2/2026-10-05/
LOCATION:Hempton Hall\, 72 Carthew Street\, Ōkato\, Taranaki\, New Zealand
CATEGORIES:Exercise Classes,Steady As You Go
ORGANIZER;CN="Age Concern Taranaki":MAILTO:info@ageconcerntaranaki.org.nz
END:VEVENT
BEGIN:VEVENT
DTSTART;TZID=Pacific/Auckland:20261006T130000
DTEND;TZID=Pacific/Auckland:20261006T150000
DTSTAMP:20260422T165145
CREATED:20260202T003921Z
LAST-MODIFIED:20260202T003921Z
UID:10002472-1791291600-1791298800@www.ageconcerntaranaki.org.nz
SUMMARY:Costal Connections - Ōkato
DESCRIPTION:COASTAL CONNECTIONS IN OKATO \nEVERYONE WELCOME \n  \nJoin us for an enjoyable social afternoon \nWe have Guest Speakers\, Fun\, Games\, Trivia\, Music and Singing.  Something for everyone. \n  \nkindly sponsored by  \nŌkato Community Trust – Tracy Beare 027 497 7122\,  The Coffee Cart Ōkato\,  Darcy\, Kath & Carol Julian \, Little Shed            
URL:https://www.ageconcerntaranaki.org.nz/event/costal-connections-okato-3-2/2026-10-06/
LOCATION:Hempton Hall\, 72 Carthew Street\, Ōkato\, Taranaki\, New Zealand
CATEGORIES:Social Afternoons,Social Connection
ORGANIZER;CN="Age Concern Taranaki":MAILTO:info@ageconcerntaranaki.org.nz
END:VEVENT
BEGIN:VEVENT
DTSTART;TZID=UTC:20261012T093000
DTEND;TZID=UTC:20261012T103000
DTSTAMP:20260422T165145
CREATED:20251124T205622Z
LAST-MODIFIED:20251124T205622Z
UID:10001854-1791797400-1791801000@www.ageconcerntaranaki.org.nz
SUMMARY:Steady As You Go - Ōkato
DESCRIPTION:Steady As You Go – Ōkato \nHeld every Monday at 9.30am excluding public holidays. \nCost: $3 per session \nTo register or for more information please contact our Steady As You Go Coordinator – Andrea on 06 759 9196 or email info@ageconcerntaranaki.org.nz \n 
URL:https://www.ageconcerntaranaki.org.nz/event/steady-as-you-go-okato-2/2026-10-12/
LOCATION:Hempton Hall\, 72 Carthew Street\, Ōkato\, Taranaki\, New Zealand
CATEGORIES:Exercise Classes,Steady As You Go
ORGANIZER;CN="Age Concern Taranaki":MAILTO:info@ageconcerntaranaki.org.nz
END:VEVENT
BEGIN:VEVENT
DTSTART;TZID=UTC:20261019T093000
DTEND;TZID=UTC:20261019T103000
DTSTAMP:20260422T165145
CREATED:20251124T205622Z
LAST-MODIFIED:20251124T205622Z
UID:10001855-1792402200-1792405800@www.ageconcerntaranaki.org.nz
SUMMARY:Steady As You Go - Ōkato
DESCRIPTION:Steady As You Go – Ōkato \nHeld every Monday at 9.30am excluding public holidays. \nCost: $3 per session \nTo register or for more information please contact our Steady As You Go Coordinator – Andrea on 06 759 9196 or email info@ageconcerntaranaki.org.nz \n 
URL:https://www.ageconcerntaranaki.org.nz/event/steady-as-you-go-okato-2/2026-10-19/
LOCATION:Hempton Hall\, 72 Carthew Street\, Ōkato\, Taranaki\, New Zealand
CATEGORIES:Exercise Classes,Steady As You Go
ORGANIZER;CN="Age Concern Taranaki":MAILTO:info@ageconcerntaranaki.org.nz
END:VEVENT
END:VCALENDAR