BEGIN:VCALENDAR
VERSION:2.0
PRODID:-//Age Concern Taranaki - ECPv6.15.20//NONSGML v1.0//EN
CALSCALE:GREGORIAN
METHOD:PUBLISH
X-WR-CALNAME:Age Concern Taranaki
X-ORIGINAL-URL:https://www.ageconcerntaranaki.org.nz
X-WR-CALDESC:Events for Age Concern Taranaki
REFRESH-INTERVAL;VALUE=DURATION:PT1H
X-Robots-Tag:noindex
X-PUBLISHED-TTL:PT1H
BEGIN:VTIMEZONE
TZID:Pacific/Auckland
BEGIN:STANDARD
TZOFFSETFROM:+1300
TZOFFSETTO:+1200
TZNAME:NZST
DTSTART:20240406T140000
END:STANDARD
BEGIN:DAYLIGHT
TZOFFSETFROM:+1200
TZOFFSETTO:+1300
TZNAME:NZDT
DTSTART:20240928T140000
END:DAYLIGHT
BEGIN:STANDARD
TZOFFSETFROM:+1300
TZOFFSETTO:+1200
TZNAME:NZST
DTSTART:20250405T140000
END:STANDARD
BEGIN:DAYLIGHT
TZOFFSETFROM:+1200
TZOFFSETTO:+1300
TZNAME:NZDT
DTSTART:20250927T140000
END:DAYLIGHT
BEGIN:STANDARD
TZOFFSETFROM:+1300
TZOFFSETTO:+1200
TZNAME:NZST
DTSTART:20260404T140000
END:STANDARD
BEGIN:DAYLIGHT
TZOFFSETFROM:+1200
TZOFFSETTO:+1300
TZNAME:NZDT
DTSTART:20260926T140000
END:DAYLIGHT
BEGIN:STANDARD
TZOFFSETFROM:+1300
TZOFFSETTO:+1200
TZNAME:NZST
DTSTART:20270403T140000
END:STANDARD
BEGIN:DAYLIGHT
TZOFFSETFROM:+1200
TZOFFSETTO:+1300
TZNAME:NZDT
DTSTART:20270925T140000
END:DAYLIGHT
END:VTIMEZONE
BEGIN:VTIMEZONE
TZID:UTC
BEGIN:STANDARD
TZOFFSETFROM:+0000
TZOFFSETTO:+0000
TZNAME:UTC
DTSTART:20240101T000000
END:STANDARD
END:VTIMEZONE
BEGIN:VEVENT
DTSTART;TZID=Pacific/Auckland:20260203T130000
DTEND;TZID=Pacific/Auckland:20260203T150000
DTSTAMP:20260423T100609
CREATED:20260202T003921Z
LAST-MODIFIED:20260202T003921Z
UID:10002461-1770123600-1770130800@www.ageconcerntaranaki.org.nz
SUMMARY:Costal Connections - Ōkato
DESCRIPTION:COASTAL CONNECTIONS IN OKATO \nEVERYONE WELCOME \n  \nJoin us for an enjoyable social afternoon \nWe have Guest Speakers\, Fun\, Games\, Trivia\, Music and Singing.  Something for everyone. \n  \nkindly sponsored by  \nŌkato Community Trust – Tracy Beare 027 497 7122\,  The Coffee Cart Ōkato\,  Darcy\, Kath & Carol Julian \, Little Shed            
URL:https://www.ageconcerntaranaki.org.nz/event/costal-connections-okato-3-2/2026-02-03/
LOCATION:Hempton Hall\, 72 Carthew Street\, Ōkato\, Taranaki\, New Zealand
CATEGORIES:Social Afternoons,Social Connection
ORGANIZER;CN="Age Concern Taranaki":MAILTO:info@ageconcerntaranaki.org.nz
END:VEVENT
BEGIN:VEVENT
DTSTART;TZID=UTC:20260202T093000
DTEND;TZID=UTC:20260202T103000
DTSTAMP:20260423T100609
CREATED:20251124T205622Z
LAST-MODIFIED:20251124T205622Z
UID:10001821-1770024600-1770028200@www.ageconcerntaranaki.org.nz
SUMMARY:Steady As You Go - Ōkato
DESCRIPTION:Steady As You Go – Ōkato \nHeld every Monday at 9.30am excluding public holidays. \nCost: $3 per session \nTo register or for more information please contact our Steady As You Go Coordinator – Andrea on 06 759 9196 or email info@ageconcerntaranaki.org.nz \n 
URL:https://www.ageconcerntaranaki.org.nz/event/steady-as-you-go-okato-2/2026-02-02/
LOCATION:Hempton Hall\, 72 Carthew Street\, Ōkato\, Taranaki\, New Zealand
CATEGORIES:Exercise Classes,Steady As You Go
ORGANIZER;CN="Age Concern Taranaki":MAILTO:info@ageconcerntaranaki.org.nz
END:VEVENT
BEGIN:VEVENT
DTSTART;TZID=UTC:20260126T093000
DTEND;TZID=UTC:20260126T103000
DTSTAMP:20260423T100609
CREATED:20251124T205622Z
LAST-MODIFIED:20251124T205622Z
UID:10001820-1769419800-1769423400@www.ageconcerntaranaki.org.nz
SUMMARY:Steady As You Go - Ōkato
DESCRIPTION:Steady As You Go – Ōkato \nHeld every Monday at 9.30am excluding public holidays. \nCost: $3 per session \nTo register or for more information please contact our Steady As You Go Coordinator – Andrea on 06 759 9196 or email info@ageconcerntaranaki.org.nz \n 
URL:https://www.ageconcerntaranaki.org.nz/event/steady-as-you-go-okato-2/2026-01-26/
LOCATION:Hempton Hall\, 72 Carthew Street\, Ōkato\, Taranaki\, New Zealand
CATEGORIES:Exercise Classes,Steady As You Go
ORGANIZER;CN="Age Concern Taranaki":MAILTO:info@ageconcerntaranaki.org.nz
END:VEVENT
BEGIN:VEVENT
DTSTART;TZID=UTC:20260119T093000
DTEND;TZID=UTC:20260119T103000
DTSTAMP:20260423T100609
CREATED:20251124T205622Z
LAST-MODIFIED:20251124T205622Z
UID:10001819-1768815000-1768818600@www.ageconcerntaranaki.org.nz
SUMMARY:Steady As You Go - Ōkato
DESCRIPTION:Steady As You Go – Ōkato \nHeld every Monday at 9.30am excluding public holidays. \nCost: $3 per session \nTo register or for more information please contact our Steady As You Go Coordinator – Andrea on 06 759 9196 or email info@ageconcerntaranaki.org.nz \n 
URL:https://www.ageconcerntaranaki.org.nz/event/steady-as-you-go-okato-2/2026-01-19/
LOCATION:Hempton Hall\, 72 Carthew Street\, Ōkato\, Taranaki\, New Zealand
CATEGORIES:Exercise Classes,Steady As You Go
ORGANIZER;CN="Age Concern Taranaki":MAILTO:info@ageconcerntaranaki.org.nz
END:VEVENT
BEGIN:VEVENT
DTSTART;TZID=Pacific/Auckland:20251202T130000
DTEND;TZID=Pacific/Auckland:20251202T150000
DTSTAMP:20260423T100609
CREATED:20250502T033625Z
LAST-MODIFIED:20260204T014836Z
UID:10001042-1764680400-1764687600@www.ageconcerntaranaki.org.nz
SUMMARY:Costal Connections - Ōkato
DESCRIPTION:COASTAL CONNECTIONS IN OKATO \nEVERYONE WELCOME \nThis month we are celebrating many birthdays !  \nJoin us for an enjoyable social afternoon \nWe have Guest Speakers\, Fun\, Games\, Trivia\, Music and Singing.  Something for everyone. \n  \nkindly sponsored by  \nŌkato Community Trust\, Harcourts – Pat and Linda McFetridge\,  The Coffee Cart Ōkato\,  Darcy\, Kath & Carol Julian \, Little Shed            
URL:https://www.ageconcerntaranaki.org.nz/event/costal-connections-okato/2025-12-02/
LOCATION:Hempton Hall\, 72 Carthew Street\, Ōkato\, Taranaki\, New Zealand
CATEGORIES:Social Afternoons,Social Connection
ORGANIZER;CN="Age Concern Taranaki":MAILTO:info@ageconcerntaranaki.org.nz
END:VEVENT
BEGIN:VEVENT
DTSTART;TZID=Pacific/Auckland:20251104T130000
DTEND;TZID=Pacific/Auckland:20251104T150000
DTSTAMP:20260423T100609
CREATED:20250502T033625Z
LAST-MODIFIED:20260204T014836Z
UID:10001041-1762261200-1762268400@www.ageconcerntaranaki.org.nz
SUMMARY:Costal Connections - Ōkato
DESCRIPTION:COASTAL CONNECTIONS IN OKATO \nEVERYONE WELCOME \nThis month we are celebrating many birthdays !  \nJoin us for an enjoyable social afternoon \nWe have Guest Speakers\, Fun\, Games\, Trivia\, Music and Singing.  Something for everyone. \n  \nkindly sponsored by  \nŌkato Community Trust\, Harcourts – Pat and Linda McFetridge\,  The Coffee Cart Ōkato\,  Darcy\, Kath & Carol Julian \, Little Shed            
URL:https://www.ageconcerntaranaki.org.nz/event/costal-connections-okato/2025-11-04/
LOCATION:Hempton Hall\, 72 Carthew Street\, Ōkato\, Taranaki\, New Zealand
CATEGORIES:Social Afternoons,Social Connection
ORGANIZER;CN="Age Concern Taranaki":MAILTO:info@ageconcerntaranaki.org.nz
END:VEVENT
BEGIN:VEVENT
DTSTART;TZID=UTC:20251027T093000
DTEND;TZID=UTC:20251027T103000
DTSTAMP:20260423T100609
CREATED:20250421T141207Z
LAST-MODIFIED:20251124T205328Z
UID:10000811-1761557400-1761561000@www.ageconcerntaranaki.org.nz
SUMMARY:Steady As You Go - Ōkato
DESCRIPTION:Steady As You Go – Ōkato \nHeld every Monday at 9.30am excluding public holidays. \nCost: $3 per session \nTo register or for more information please contact our Steady As You Go Coordinator – Andrea on 06 759 9196 or email info@ageconcerntaranaki.org.nz \n 
URL:https://www.ageconcerntaranaki.org.nz/event/steady-as-you-go-okato/2025-10-27/
LOCATION:Hempton Hall\, 72 Carthew Street\, Ōkato\, Taranaki\, New Zealand
CATEGORIES:Exercise Classes,Steady As You Go
ORGANIZER;CN="Age Concern Taranaki":MAILTO:info@ageconcerntaranaki.org.nz
END:VEVENT
BEGIN:VEVENT
DTSTART;TZID=UTC:20251020T093000
DTEND;TZID=UTC:20251020T103000
DTSTAMP:20260423T100609
CREATED:20250421T141207Z
LAST-MODIFIED:20251124T205328Z
UID:10000810-1760952600-1760956200@www.ageconcerntaranaki.org.nz
SUMMARY:Steady As You Go - Ōkato
DESCRIPTION:Steady As You Go – Ōkato \nHeld every Monday at 9.30am excluding public holidays. \nCost: $3 per session \nTo register or for more information please contact our Steady As You Go Coordinator – Andrea on 06 759 9196 or email info@ageconcerntaranaki.org.nz \n 
URL:https://www.ageconcerntaranaki.org.nz/event/steady-as-you-go-okato/2025-10-20/
LOCATION:Hempton Hall\, 72 Carthew Street\, Ōkato\, Taranaki\, New Zealand
CATEGORIES:Exercise Classes,Steady As You Go
ORGANIZER;CN="Age Concern Taranaki":MAILTO:info@ageconcerntaranaki.org.nz
END:VEVENT
BEGIN:VEVENT
DTSTART;TZID=UTC:20251013T093000
DTEND;TZID=UTC:20251013T103000
DTSTAMP:20260423T100609
CREATED:20250421T141207Z
LAST-MODIFIED:20251124T205328Z
UID:10000809-1760347800-1760351400@www.ageconcerntaranaki.org.nz
SUMMARY:Steady As You Go - Ōkato
DESCRIPTION:Steady As You Go – Ōkato \nHeld every Monday at 9.30am excluding public holidays. \nCost: $3 per session \nTo register or for more information please contact our Steady As You Go Coordinator – Andrea on 06 759 9196 or email info@ageconcerntaranaki.org.nz \n 
URL:https://www.ageconcerntaranaki.org.nz/event/steady-as-you-go-okato/2025-10-13/
LOCATION:Hempton Hall\, 72 Carthew Street\, Ōkato\, Taranaki\, New Zealand
CATEGORIES:Exercise Classes,Steady As You Go
ORGANIZER;CN="Age Concern Taranaki":MAILTO:info@ageconcerntaranaki.org.nz
END:VEVENT
BEGIN:VEVENT
DTSTART;TZID=Pacific/Auckland:20251007T130000
DTEND;TZID=Pacific/Auckland:20251007T150000
DTSTAMP:20260423T100609
CREATED:20250502T033625Z
LAST-MODIFIED:20260204T014836Z
UID:10001040-1759842000-1759849200@www.ageconcerntaranaki.org.nz
SUMMARY:Costal Connections - Ōkato
DESCRIPTION:COASTAL CONNECTIONS IN OKATO \nEVERYONE WELCOME \nThis month we are celebrating many birthdays !  \nJoin us for an enjoyable social afternoon \nWe have Guest Speakers\, Fun\, Games\, Trivia\, Music and Singing.  Something for everyone. \n  \nkindly sponsored by  \nŌkato Community Trust\, Harcourts – Pat and Linda McFetridge\,  The Coffee Cart Ōkato\,  Darcy\, Kath & Carol Julian \, Little Shed            
URL:https://www.ageconcerntaranaki.org.nz/event/costal-connections-okato/2025-10-07/
LOCATION:Hempton Hall\, 72 Carthew Street\, Ōkato\, Taranaki\, New Zealand
CATEGORIES:Social Afternoons,Social Connection
ORGANIZER;CN="Age Concern Taranaki":MAILTO:info@ageconcerntaranaki.org.nz
END:VEVENT
BEGIN:VEVENT
DTSTART;TZID=UTC:20251006T093000
DTEND;TZID=UTC:20251006T103000
DTSTAMP:20260423T100609
CREATED:20250421T141207Z
LAST-MODIFIED:20251124T205328Z
UID:10000808-1759743000-1759746600@www.ageconcerntaranaki.org.nz
SUMMARY:Steady As You Go - Ōkato
DESCRIPTION:Steady As You Go – Ōkato \nHeld every Monday at 9.30am excluding public holidays. \nCost: $3 per session \nTo register or for more information please contact our Steady As You Go Coordinator – Andrea on 06 759 9196 or email info@ageconcerntaranaki.org.nz \n 
URL:https://www.ageconcerntaranaki.org.nz/event/steady-as-you-go-okato/2025-10-06/
LOCATION:Hempton Hall\, 72 Carthew Street\, Ōkato\, Taranaki\, New Zealand
CATEGORIES:Exercise Classes,Steady As You Go
ORGANIZER;CN="Age Concern Taranaki":MAILTO:info@ageconcerntaranaki.org.nz
END:VEVENT
BEGIN:VEVENT
DTSTART;TZID=UTC:20250929T093000
DTEND;TZID=UTC:20250929T103000
DTSTAMP:20260423T100609
CREATED:20250421T141207Z
LAST-MODIFIED:20251124T205328Z
UID:10000807-1759138200-1759141800@www.ageconcerntaranaki.org.nz
SUMMARY:Steady As You Go - Ōkato
DESCRIPTION:Steady As You Go – Ōkato \nHeld every Monday at 9.30am excluding public holidays. \nCost: $3 per session \nTo register or for more information please contact our Steady As You Go Coordinator – Andrea on 06 759 9196 or email info@ageconcerntaranaki.org.nz \n 
URL:https://www.ageconcerntaranaki.org.nz/event/steady-as-you-go-okato/2025-09-29/
LOCATION:Hempton Hall\, 72 Carthew Street\, Ōkato\, Taranaki\, New Zealand
CATEGORIES:Exercise Classes,Steady As You Go
ORGANIZER;CN="Age Concern Taranaki":MAILTO:info@ageconcerntaranaki.org.nz
END:VEVENT
BEGIN:VEVENT
DTSTART;TZID=UTC:20250922T093000
DTEND;TZID=UTC:20250922T103000
DTSTAMP:20260423T100609
CREATED:20250421T141207Z
LAST-MODIFIED:20251124T205328Z
UID:10000806-1758533400-1758537000@www.ageconcerntaranaki.org.nz
SUMMARY:Steady As You Go - Ōkato
DESCRIPTION:Steady As You Go – Ōkato \nHeld every Monday at 9.30am excluding public holidays. \nCost: $3 per session \nTo register or for more information please contact our Steady As You Go Coordinator – Andrea on 06 759 9196 or email info@ageconcerntaranaki.org.nz \n 
URL:https://www.ageconcerntaranaki.org.nz/event/steady-as-you-go-okato/2025-09-22/
LOCATION:Hempton Hall\, 72 Carthew Street\, Ōkato\, Taranaki\, New Zealand
CATEGORIES:Exercise Classes,Steady As You Go
ORGANIZER;CN="Age Concern Taranaki":MAILTO:info@ageconcerntaranaki.org.nz
END:VEVENT
BEGIN:VEVENT
DTSTART;TZID=UTC:20250915T093000
DTEND;TZID=UTC:20250915T103000
DTSTAMP:20260423T100609
CREATED:20250421T141207Z
LAST-MODIFIED:20251124T205328Z
UID:10000805-1757928600-1757932200@www.ageconcerntaranaki.org.nz
SUMMARY:Steady As You Go - Ōkato
DESCRIPTION:Steady As You Go – Ōkato \nHeld every Monday at 9.30am excluding public holidays. \nCost: $3 per session \nTo register or for more information please contact our Steady As You Go Coordinator – Andrea on 06 759 9196 or email info@ageconcerntaranaki.org.nz \n 
URL:https://www.ageconcerntaranaki.org.nz/event/steady-as-you-go-okato/2025-09-15/
LOCATION:Hempton Hall\, 72 Carthew Street\, Ōkato\, Taranaki\, New Zealand
CATEGORIES:Exercise Classes,Steady As You Go
ORGANIZER;CN="Age Concern Taranaki":MAILTO:info@ageconcerntaranaki.org.nz
END:VEVENT
BEGIN:VEVENT
DTSTART;TZID=UTC:20250908T093000
DTEND;TZID=UTC:20250908T103000
DTSTAMP:20260423T100609
CREATED:20250421T141207Z
LAST-MODIFIED:20251124T205328Z
UID:10000804-1757323800-1757327400@www.ageconcerntaranaki.org.nz
SUMMARY:Steady As You Go - Ōkato
DESCRIPTION:Steady As You Go – Ōkato \nHeld every Monday at 9.30am excluding public holidays. \nCost: $3 per session \nTo register or for more information please contact our Steady As You Go Coordinator – Andrea on 06 759 9196 or email info@ageconcerntaranaki.org.nz \n 
URL:https://www.ageconcerntaranaki.org.nz/event/steady-as-you-go-okato/2025-09-08/
LOCATION:Hempton Hall\, 72 Carthew Street\, Ōkato\, Taranaki\, New Zealand
CATEGORIES:Exercise Classes,Steady As You Go
ORGANIZER;CN="Age Concern Taranaki":MAILTO:info@ageconcerntaranaki.org.nz
END:VEVENT
BEGIN:VEVENT
DTSTART;TZID=Pacific/Auckland:20250902T130000
DTEND;TZID=Pacific/Auckland:20250902T150000
DTSTAMP:20260423T100609
CREATED:20250502T033625Z
LAST-MODIFIED:20260204T014836Z
UID:10001039-1756818000-1756825200@www.ageconcerntaranaki.org.nz
SUMMARY:Costal Connections - Ōkato
DESCRIPTION:COASTAL CONNECTIONS IN OKATO \nEVERYONE WELCOME \nThis month we are celebrating many birthdays !  \nJoin us for an enjoyable social afternoon \nWe have Guest Speakers\, Fun\, Games\, Trivia\, Music and Singing.  Something for everyone. \n  \nkindly sponsored by  \nŌkato Community Trust\, Harcourts – Pat and Linda McFetridge\,  The Coffee Cart Ōkato\,  Darcy\, Kath & Carol Julian \, Little Shed            
URL:https://www.ageconcerntaranaki.org.nz/event/costal-connections-okato/2025-09-02/
LOCATION:Hempton Hall\, 72 Carthew Street\, Ōkato\, Taranaki\, New Zealand
CATEGORIES:Social Afternoons,Social Connection
ORGANIZER;CN="Age Concern Taranaki":MAILTO:info@ageconcerntaranaki.org.nz
END:VEVENT
BEGIN:VEVENT
DTSTART;TZID=UTC:20250901T093000
DTEND;TZID=UTC:20250901T103000
DTSTAMP:20260423T100609
CREATED:20250421T141207Z
LAST-MODIFIED:20251124T205328Z
UID:10000803-1756719000-1756722600@www.ageconcerntaranaki.org.nz
SUMMARY:Steady As You Go - Ōkato
DESCRIPTION:Steady As You Go – Ōkato \nHeld every Monday at 9.30am excluding public holidays. \nCost: $3 per session \nTo register or for more information please contact our Steady As You Go Coordinator – Andrea on 06 759 9196 or email info@ageconcerntaranaki.org.nz \n 
URL:https://www.ageconcerntaranaki.org.nz/event/steady-as-you-go-okato/2025-09-01/
LOCATION:Hempton Hall\, 72 Carthew Street\, Ōkato\, Taranaki\, New Zealand
CATEGORIES:Exercise Classes,Steady As You Go
ORGANIZER;CN="Age Concern Taranaki":MAILTO:info@ageconcerntaranaki.org.nz
END:VEVENT
BEGIN:VEVENT
DTSTART;TZID=UTC:20250825T093000
DTEND;TZID=UTC:20250825T103000
DTSTAMP:20260423T100609
CREATED:20250421T141207Z
LAST-MODIFIED:20251124T205328Z
UID:10000802-1756114200-1756117800@www.ageconcerntaranaki.org.nz
SUMMARY:Steady As You Go - Ōkato
DESCRIPTION:Steady As You Go – Ōkato \nHeld every Monday at 9.30am excluding public holidays. \nCost: $3 per session \nTo register or for more information please contact our Steady As You Go Coordinator – Andrea on 06 759 9196 or email info@ageconcerntaranaki.org.nz \n 
URL:https://www.ageconcerntaranaki.org.nz/event/steady-as-you-go-okato/2025-08-25/
LOCATION:Hempton Hall\, 72 Carthew Street\, Ōkato\, Taranaki\, New Zealand
CATEGORIES:Exercise Classes,Steady As You Go
ORGANIZER;CN="Age Concern Taranaki":MAILTO:info@ageconcerntaranaki.org.nz
END:VEVENT
BEGIN:VEVENT
DTSTART;TZID=UTC:20250818T093000
DTEND;TZID=UTC:20250818T103000
DTSTAMP:20260423T100609
CREATED:20250421T141207Z
LAST-MODIFIED:20251124T205328Z
UID:10000801-1755509400-1755513000@www.ageconcerntaranaki.org.nz
SUMMARY:Steady As You Go - Ōkato
DESCRIPTION:Steady As You Go – Ōkato \nHeld every Monday at 9.30am excluding public holidays. \nCost: $3 per session \nTo register or for more information please contact our Steady As You Go Coordinator – Andrea on 06 759 9196 or email info@ageconcerntaranaki.org.nz \n 
URL:https://www.ageconcerntaranaki.org.nz/event/steady-as-you-go-okato/2025-08-18/
LOCATION:Hempton Hall\, 72 Carthew Street\, Ōkato\, Taranaki\, New Zealand
CATEGORIES:Exercise Classes,Steady As You Go
ORGANIZER;CN="Age Concern Taranaki":MAILTO:info@ageconcerntaranaki.org.nz
END:VEVENT
BEGIN:VEVENT
DTSTART;TZID=UTC:20250811T093000
DTEND;TZID=UTC:20250811T103000
DTSTAMP:20260423T100609
CREATED:20250421T141207Z
LAST-MODIFIED:20251124T205328Z
UID:10000800-1754904600-1754908200@www.ageconcerntaranaki.org.nz
SUMMARY:Steady As You Go - Ōkato
DESCRIPTION:Steady As You Go – Ōkato \nHeld every Monday at 9.30am excluding public holidays. \nCost: $3 per session \nTo register or for more information please contact our Steady As You Go Coordinator – Andrea on 06 759 9196 or email info@ageconcerntaranaki.org.nz \n 
URL:https://www.ageconcerntaranaki.org.nz/event/steady-as-you-go-okato/2025-08-11/
LOCATION:Hempton Hall\, 72 Carthew Street\, Ōkato\, Taranaki\, New Zealand
CATEGORIES:Exercise Classes,Steady As You Go
ORGANIZER;CN="Age Concern Taranaki":MAILTO:info@ageconcerntaranaki.org.nz
END:VEVENT
BEGIN:VEVENT
DTSTART;TZID=Pacific/Auckland:20250805T130000
DTEND;TZID=Pacific/Auckland:20250805T150000
DTSTAMP:20260423T100609
CREATED:20250717T015609Z
LAST-MODIFIED:20260204T014942Z
UID:10001038-1754398800-1754406000@www.ageconcerntaranaki.org.nz
SUMMARY:Costal Connections - Ōkato
DESCRIPTION:COASTAL CONNECTIONS IN OKATO \nEVERYONE WELCOME \nJoin us for an enjoyable social afternoon \nWe have Fun\, Games\, Bingo\, Music and Singing.  Something for everyone. \n  \nkindly sponsored by  \nŌkato Community Trust\, Harcourts – Pat and Linda McFetridge\,  The Coffee Cart Ōkato\,  Darcy\, Kath & Carol Julian \, Little Shed            
URL:https://www.ageconcerntaranaki.org.nz/event/costal-connections-okato-2/
LOCATION:Hempton Hall\, 72 Carthew Street\, Ōkato\, Taranaki\, New Zealand
CATEGORIES:Social Afternoons,Social Connection
ORGANIZER;CN="Age Concern Taranaki":MAILTO:info@ageconcerntaranaki.org.nz
END:VEVENT
BEGIN:VEVENT
DTSTART;TZID=UTC:20250804T093000
DTEND;TZID=UTC:20250804T103000
DTSTAMP:20260423T100609
CREATED:20250421T141207Z
LAST-MODIFIED:20251124T205328Z
UID:10000799-1754299800-1754303400@www.ageconcerntaranaki.org.nz
SUMMARY:Steady As You Go - Ōkato
DESCRIPTION:Steady As You Go – Ōkato \nHeld every Monday at 9.30am excluding public holidays. \nCost: $3 per session \nTo register or for more information please contact our Steady As You Go Coordinator – Andrea on 06 759 9196 or email info@ageconcerntaranaki.org.nz \n 
URL:https://www.ageconcerntaranaki.org.nz/event/steady-as-you-go-okato/2025-08-04/
LOCATION:Hempton Hall\, 72 Carthew Street\, Ōkato\, Taranaki\, New Zealand
CATEGORIES:Exercise Classes,Steady As You Go
ORGANIZER;CN="Age Concern Taranaki":MAILTO:info@ageconcerntaranaki.org.nz
END:VEVENT
BEGIN:VEVENT
DTSTART;TZID=UTC:20250728T093000
DTEND;TZID=UTC:20250728T103000
DTSTAMP:20260423T100609
CREATED:20250421T141207Z
LAST-MODIFIED:20251124T205328Z
UID:10000798-1753695000-1753698600@www.ageconcerntaranaki.org.nz
SUMMARY:Steady As You Go - Ōkato
DESCRIPTION:Steady As You Go – Ōkato \nHeld every Monday at 9.30am excluding public holidays. \nCost: $3 per session \nTo register or for more information please contact our Steady As You Go Coordinator – Andrea on 06 759 9196 or email info@ageconcerntaranaki.org.nz \n 
URL:https://www.ageconcerntaranaki.org.nz/event/steady-as-you-go-okato/2025-07-28/
LOCATION:Hempton Hall\, 72 Carthew Street\, Ōkato\, Taranaki\, New Zealand
CATEGORIES:Exercise Classes,Steady As You Go
ORGANIZER;CN="Age Concern Taranaki":MAILTO:info@ageconcerntaranaki.org.nz
END:VEVENT
BEGIN:VEVENT
DTSTART;TZID=UTC:20250721T093000
DTEND;TZID=UTC:20250721T103000
DTSTAMP:20260423T100609
CREATED:20250421T141207Z
LAST-MODIFIED:20251124T205328Z
UID:10000797-1753090200-1753093800@www.ageconcerntaranaki.org.nz
SUMMARY:Steady As You Go - Ōkato
DESCRIPTION:Steady As You Go – Ōkato \nHeld every Monday at 9.30am excluding public holidays. \nCost: $3 per session \nTo register or for more information please contact our Steady As You Go Coordinator – Andrea on 06 759 9196 or email info@ageconcerntaranaki.org.nz \n 
URL:https://www.ageconcerntaranaki.org.nz/event/steady-as-you-go-okato/2025-07-21/
LOCATION:Hempton Hall\, 72 Carthew Street\, Ōkato\, Taranaki\, New Zealand
CATEGORIES:Exercise Classes,Steady As You Go
ORGANIZER;CN="Age Concern Taranaki":MAILTO:info@ageconcerntaranaki.org.nz
END:VEVENT
BEGIN:VEVENT
DTSTART;TZID=UTC:20250714T093000
DTEND;TZID=UTC:20250714T103000
DTSTAMP:20260423T100609
CREATED:20250421T141207Z
LAST-MODIFIED:20251124T205328Z
UID:10000796-1752485400-1752489000@www.ageconcerntaranaki.org.nz
SUMMARY:Steady As You Go - Ōkato
DESCRIPTION:Steady As You Go – Ōkato \nHeld every Monday at 9.30am excluding public holidays. \nCost: $3 per session \nTo register or for more information please contact our Steady As You Go Coordinator – Andrea on 06 759 9196 or email info@ageconcerntaranaki.org.nz \n 
URL:https://www.ageconcerntaranaki.org.nz/event/steady-as-you-go-okato/2025-07-14/
LOCATION:Hempton Hall\, 72 Carthew Street\, Ōkato\, Taranaki\, New Zealand
CATEGORIES:Exercise Classes,Steady As You Go
ORGANIZER;CN="Age Concern Taranaki":MAILTO:info@ageconcerntaranaki.org.nz
END:VEVENT
BEGIN:VEVENT
DTSTART;TZID=UTC:20250707T093000
DTEND;TZID=UTC:20250707T103000
DTSTAMP:20260423T100609
CREATED:20250421T141207Z
LAST-MODIFIED:20251124T205328Z
UID:10000795-1751880600-1751884200@www.ageconcerntaranaki.org.nz
SUMMARY:Steady As You Go - Ōkato
DESCRIPTION:Steady As You Go – Ōkato \nHeld every Monday at 9.30am excluding public holidays. \nCost: $3 per session \nTo register or for more information please contact our Steady As You Go Coordinator – Andrea on 06 759 9196 or email info@ageconcerntaranaki.org.nz \n 
URL:https://www.ageconcerntaranaki.org.nz/event/steady-as-you-go-okato/2025-07-07/
LOCATION:Hempton Hall\, 72 Carthew Street\, Ōkato\, Taranaki\, New Zealand
CATEGORIES:Exercise Classes,Steady As You Go
ORGANIZER;CN="Age Concern Taranaki":MAILTO:info@ageconcerntaranaki.org.nz
END:VEVENT
BEGIN:VEVENT
DTSTART;TZID=Pacific/Auckland:20250701T130000
DTEND;TZID=Pacific/Auckland:20250701T150000
DTSTAMP:20260423T100609
CREATED:20250502T033625Z
LAST-MODIFIED:20260204T014836Z
UID:10001037-1751374800-1751382000@www.ageconcerntaranaki.org.nz
SUMMARY:Costal Connections - Ōkato
DESCRIPTION:COASTAL CONNECTIONS IN OKATO \nEVERYONE WELCOME \nThis month we are celebrating many birthdays !  \nJoin us for an enjoyable social afternoon \nWe have Guest Speakers\, Fun\, Games\, Trivia\, Music and Singing.  Something for everyone. \n  \nkindly sponsored by  \nŌkato Community Trust\, Harcourts – Pat and Linda McFetridge\,  The Coffee Cart Ōkato\,  Darcy\, Kath & Carol Julian \, Little Shed            
URL:https://www.ageconcerntaranaki.org.nz/event/costal-connections-okato/2025-07-01/
LOCATION:Hempton Hall\, 72 Carthew Street\, Ōkato\, Taranaki\, New Zealand
CATEGORIES:Social Afternoons,Social Connection
ORGANIZER;CN="Age Concern Taranaki":MAILTO:info@ageconcerntaranaki.org.nz
END:VEVENT
BEGIN:VEVENT
DTSTART;TZID=UTC:20250630T093000
DTEND;TZID=UTC:20250630T103000
DTSTAMP:20260423T100609
CREATED:20250421T141207Z
LAST-MODIFIED:20251124T205328Z
UID:10000794-1751275800-1751279400@www.ageconcerntaranaki.org.nz
SUMMARY:Steady As You Go - Ōkato
DESCRIPTION:Steady As You Go – Ōkato \nHeld every Monday at 9.30am excluding public holidays. \nCost: $3 per session \nTo register or for more information please contact our Steady As You Go Coordinator – Andrea on 06 759 9196 or email info@ageconcerntaranaki.org.nz \n 
URL:https://www.ageconcerntaranaki.org.nz/event/steady-as-you-go-okato/2025-06-30/
LOCATION:Hempton Hall\, 72 Carthew Street\, Ōkato\, Taranaki\, New Zealand
CATEGORIES:Exercise Classes,Steady As You Go
ORGANIZER;CN="Age Concern Taranaki":MAILTO:info@ageconcerntaranaki.org.nz
END:VEVENT
BEGIN:VEVENT
DTSTART;TZID=UTC:20250623T093000
DTEND;TZID=UTC:20250623T103000
DTSTAMP:20260423T100609
CREATED:20250421T141207Z
LAST-MODIFIED:20251124T205328Z
UID:10000793-1750671000-1750674600@www.ageconcerntaranaki.org.nz
SUMMARY:Steady As You Go - Ōkato
DESCRIPTION:Steady As You Go – Ōkato \nHeld every Monday at 9.30am excluding public holidays. \nCost: $3 per session \nTo register or for more information please contact our Steady As You Go Coordinator – Andrea on 06 759 9196 or email info@ageconcerntaranaki.org.nz \n 
URL:https://www.ageconcerntaranaki.org.nz/event/steady-as-you-go-okato/2025-06-23/
LOCATION:Hempton Hall\, 72 Carthew Street\, Ōkato\, Taranaki\, New Zealand
CATEGORIES:Exercise Classes,Steady As You Go
ORGANIZER;CN="Age Concern Taranaki":MAILTO:info@ageconcerntaranaki.org.nz
END:VEVENT
BEGIN:VEVENT
DTSTART;TZID=UTC:20250616T093000
DTEND;TZID=UTC:20250616T103000
DTSTAMP:20260423T100609
CREATED:20250421T141207Z
LAST-MODIFIED:20251124T205328Z
UID:10000792-1750066200-1750069800@www.ageconcerntaranaki.org.nz
SUMMARY:Steady As You Go - Ōkato
DESCRIPTION:Steady As You Go – Ōkato \nHeld every Monday at 9.30am excluding public holidays. \nCost: $3 per session \nTo register or for more information please contact our Steady As You Go Coordinator – Andrea on 06 759 9196 or email info@ageconcerntaranaki.org.nz \n 
URL:https://www.ageconcerntaranaki.org.nz/event/steady-as-you-go-okato/2025-06-16/
LOCATION:Hempton Hall\, 72 Carthew Street\, Ōkato\, Taranaki\, New Zealand
CATEGORIES:Exercise Classes,Steady As You Go
ORGANIZER;CN="Age Concern Taranaki":MAILTO:info@ageconcerntaranaki.org.nz
END:VEVENT
END:VCALENDAR