BEGIN:VCALENDAR
VERSION:2.0
PRODID:-//Age Concern Taranaki - ECPv6.15.20//NONSGML v1.0//EN
CALSCALE:GREGORIAN
METHOD:PUBLISH
X-ORIGINAL-URL:https://www.ageconcerntaranaki.org.nz
X-WR-CALDESC:Events for Age Concern Taranaki
REFRESH-INTERVAL;VALUE=DURATION:PT1H
X-Robots-Tag:noindex
X-PUBLISHED-TTL:PT1H
BEGIN:VTIMEZONE
TZID:Pacific/Auckland
BEGIN:STANDARD
TZOFFSETFROM:+1300
TZOFFSETTO:+1200
TZNAME:NZST
DTSTART:20250405T140000
END:STANDARD
BEGIN:DAYLIGHT
TZOFFSETFROM:+1200
TZOFFSETTO:+1300
TZNAME:NZDT
DTSTART:20250927T140000
END:DAYLIGHT
BEGIN:STANDARD
TZOFFSETFROM:+1300
TZOFFSETTO:+1200
TZNAME:NZST
DTSTART:20260404T140000
END:STANDARD
BEGIN:DAYLIGHT
TZOFFSETFROM:+1200
TZOFFSETTO:+1300
TZNAME:NZDT
DTSTART:20260926T140000
END:DAYLIGHT
BEGIN:STANDARD
TZOFFSETFROM:+1300
TZOFFSETTO:+1200
TZNAME:NZST
DTSTART:20270403T140000
END:STANDARD
BEGIN:DAYLIGHT
TZOFFSETFROM:+1200
TZOFFSETTO:+1300
TZNAME:NZDT
DTSTART:20270925T140000
END:DAYLIGHT
END:VTIMEZONE
BEGIN:VTIMEZONE
TZID:UTC
BEGIN:STANDARD
TZOFFSETFROM:+0000
TZOFFSETTO:+0000
TZNAME:UTC
DTSTART:20250101T000000
END:STANDARD
END:VTIMEZONE
BEGIN:VEVENT
DTSTART;TZID=Pacific/Auckland:20261201T130000
DTEND;TZID=Pacific/Auckland:20261201T150000
DTSTAMP:20260423T134752
CREATED:20260202T003921Z
LAST-MODIFIED:20260202T003921Z
UID:10002474-1796130000-1796137200@www.ageconcerntaranaki.org.nz
SUMMARY:Costal Connections - Ōkato
DESCRIPTION:COASTAL CONNECTIONS IN OKATO \nEVERYONE WELCOME \n  \nJoin us for an enjoyable social afternoon \nWe have Guest Speakers\, Fun\, Games\, Trivia\, Music and Singing.  Something for everyone. \n  \nkindly sponsored by  \nŌkato Community Trust – Tracy Beare 027 497 7122\,  The Coffee Cart Ōkato\,  Darcy\, Kath & Carol Julian \, Little Shed            
URL:https://www.ageconcerntaranaki.org.nz/event/costal-connections-okato-3-2/2026-12-01/
LOCATION:Hempton Hall\, 72 Carthew Street\, Ōkato\, Taranaki\, New Zealand
CATEGORIES:Social Afternoons,Social Connection
ORGANIZER;CN="Age Concern Taranaki":MAILTO:info@ageconcerntaranaki.org.nz
END:VEVENT
BEGIN:VEVENT
DTSTART;TZID=Pacific/Auckland:20261201T130000
DTEND;TZID=Pacific/Auckland:20261204T130000
DTSTAMP:20260423T134752
CREATED:20260202T003745Z
LAST-MODIFIED:20260204T230508Z
UID:10002664-1796130000-1796389200@www.ageconcerntaranaki.org.nz
SUMMARY:Costal Connections - Ōkato
DESCRIPTION:COASTAL CONNECTIONS IN OKATO \nEVERYONE WELCOME \n  \nJoin us for an enjoyable social afternoon \nWe have Guest Speakers\, Fun\, Games\, Trivia\, Music and Singing.  Something for everyone. \n  \nkindly sponsored by  \nŌkato Community Trust – Tracy Beare 027 497 7122\,  The Coffee Cart Ōkato\,  Darcy\, Kath & Carol Julian \, Little Shed            
URL:https://www.ageconcerntaranaki.org.nz/event/costal-connections-okato-3/2026-12-01/
LOCATION:Hempton Hall\, 72 Carthew Street\, Ōkato\, Taranaki\, New Zealand
CATEGORIES:Social Afternoons,Social Connection
ORGANIZER;CN="Age Concern Taranaki":MAILTO:info@ageconcerntaranaki.org.nz
END:VEVENT
BEGIN:VEVENT
DTSTART;TZID=UTC:20261207T093000
DTEND;TZID=UTC:20261207T103000
DTSTAMP:20260423T134752
CREATED:20251124T205622Z
LAST-MODIFIED:20251124T205622Z
UID:10001861-1796635800-1796639400@www.ageconcerntaranaki.org.nz
SUMMARY:Steady As You Go - Ōkato
DESCRIPTION:Steady As You Go – Ōkato \nHeld every Monday at 9.30am excluding public holidays. \nCost: $3 per session \nTo register or for more information please contact our Steady As You Go Coordinator – Andrea on 06 759 9196 or email info@ageconcerntaranaki.org.nz \n 
URL:https://www.ageconcerntaranaki.org.nz/event/steady-as-you-go-okato-2/2026-12-07/
LOCATION:Hempton Hall\, 72 Carthew Street\, Ōkato\, Taranaki\, New Zealand
CATEGORIES:Exercise Classes,Steady As You Go
ORGANIZER;CN="Age Concern Taranaki":MAILTO:info@ageconcerntaranaki.org.nz
END:VEVENT
BEGIN:VEVENT
DTSTART;TZID=UTC:20261214T093000
DTEND;TZID=UTC:20261214T103000
DTSTAMP:20260423T134752
CREATED:20251124T205622Z
LAST-MODIFIED:20251124T205622Z
UID:10001862-1797240600-1797244200@www.ageconcerntaranaki.org.nz
SUMMARY:Steady As You Go - Ōkato
DESCRIPTION:Steady As You Go – Ōkato \nHeld every Monday at 9.30am excluding public holidays. \nCost: $3 per session \nTo register or for more information please contact our Steady As You Go Coordinator – Andrea on 06 759 9196 or email info@ageconcerntaranaki.org.nz \n 
URL:https://www.ageconcerntaranaki.org.nz/event/steady-as-you-go-okato-2/2026-12-14/
LOCATION:Hempton Hall\, 72 Carthew Street\, Ōkato\, Taranaki\, New Zealand
CATEGORIES:Exercise Classes,Steady As You Go
ORGANIZER;CN="Age Concern Taranaki":MAILTO:info@ageconcerntaranaki.org.nz
END:VEVENT
END:VCALENDAR