BEGIN:VCALENDAR
VERSION:2.0
PRODID:-//Age Concern Taranaki - ECPv6.15.20//NONSGML v1.0//EN
CALSCALE:GREGORIAN
METHOD:PUBLISH
X-ORIGINAL-URL:https://www.ageconcerntaranaki.org.nz
X-WR-CALDESC:Events for Age Concern Taranaki
REFRESH-INTERVAL;VALUE=DURATION:PT1H
X-Robots-Tag:noindex
X-PUBLISHED-TTL:PT1H
BEGIN:VTIMEZONE
TZID:UTC
BEGIN:STANDARD
TZOFFSETFROM:+0000
TZOFFSETTO:+0000
TZNAME:UTC
DTSTART:20240101T000000
END:STANDARD
END:VTIMEZONE
BEGIN:VEVENT
DTSTART;TZID=UTC:20250430T103000
DTEND;TZID=UTC:20250430T113000
DTSTAMP:20260422T150301
CREATED:20250421T143903Z
LAST-MODIFIED:20250421T143903Z
UID:10000996-1746009000-1746012600@www.ageconcerntaranaki.org.nz
SUMMARY:Steady As You Go - Inglewood
DESCRIPTION:Steady As You Go – Inglewood \nHeld every Wednesday at 10.30am excluding public holidays. \nCost $3 \nTo register or for more information please contact our Steady As You Go Coordinator Andrea on 06 759 9196 or email info@ageconcerntaranaki.org.nz \n 
URL:https://www.ageconcerntaranaki.org.nz/event/steady-as-you-go-inglewood/2025-04-30/
LOCATION:Inglewood United Church\, 30 Brown Street\, Inglewood\, Taranaki\, New Zealand
CATEGORIES:Exercise Classes,Steady As You Go
ORGANIZER;CN="Age Concern Taranaki":MAILTO:info@ageconcerntaranaki.org.nz
END:VEVENT
BEGIN:VEVENT
DTSTART;TZID=UTC:20250423T103000
DTEND;TZID=UTC:20250423T113000
DTSTAMP:20260422T150301
CREATED:20250421T143903Z
LAST-MODIFIED:20250421T143903Z
UID:10000995-1745404200-1745407800@www.ageconcerntaranaki.org.nz
SUMMARY:Steady As You Go - Inglewood
DESCRIPTION:Steady As You Go – Inglewood \nHeld every Wednesday at 10.30am excluding public holidays. \nCost $3 \nTo register or for more information please contact our Steady As You Go Coordinator Andrea on 06 759 9196 or email info@ageconcerntaranaki.org.nz \n 
URL:https://www.ageconcerntaranaki.org.nz/event/steady-as-you-go-inglewood/2025-04-23/
LOCATION:Inglewood United Church\, 30 Brown Street\, Inglewood\, Taranaki\, New Zealand
CATEGORIES:Exercise Classes,Steady As You Go
ORGANIZER;CN="Age Concern Taranaki":MAILTO:info@ageconcerntaranaki.org.nz
END:VEVENT
BEGIN:VEVENT
DTSTART;TZID=UTC:20250416T103000
DTEND;TZID=UTC:20250416T113000
DTSTAMP:20260422T150301
CREATED:20250421T143903Z
LAST-MODIFIED:20250421T143903Z
UID:10000994-1744799400-1744803000@www.ageconcerntaranaki.org.nz
SUMMARY:Steady As You Go - Inglewood
DESCRIPTION:Steady As You Go – Inglewood \nHeld every Wednesday at 10.30am excluding public holidays. \nCost $3 \nTo register or for more information please contact our Steady As You Go Coordinator Andrea on 06 759 9196 or email info@ageconcerntaranaki.org.nz \n 
URL:https://www.ageconcerntaranaki.org.nz/event/steady-as-you-go-inglewood/2025-04-16/
LOCATION:Inglewood United Church\, 30 Brown Street\, Inglewood\, Taranaki\, New Zealand
CATEGORIES:Exercise Classes,Steady As You Go
ORGANIZER;CN="Age Concern Taranaki":MAILTO:info@ageconcerntaranaki.org.nz
END:VEVENT
BEGIN:VEVENT
DTSTART;TZID=UTC:20250409T103000
DTEND;TZID=UTC:20250409T113000
DTSTAMP:20260422T150301
CREATED:20250421T143903Z
LAST-MODIFIED:20250421T143903Z
UID:10000993-1744194600-1744198200@www.ageconcerntaranaki.org.nz
SUMMARY:Steady As You Go - Inglewood
DESCRIPTION:Steady As You Go – Inglewood \nHeld every Wednesday at 10.30am excluding public holidays. \nCost $3 \nTo register or for more information please contact our Steady As You Go Coordinator Andrea on 06 759 9196 or email info@ageconcerntaranaki.org.nz \n 
URL:https://www.ageconcerntaranaki.org.nz/event/steady-as-you-go-inglewood/2025-04-09/
LOCATION:Inglewood United Church\, 30 Brown Street\, Inglewood\, Taranaki\, New Zealand
CATEGORIES:Exercise Classes,Steady As You Go
ORGANIZER;CN="Age Concern Taranaki":MAILTO:info@ageconcerntaranaki.org.nz
END:VEVENT
BEGIN:VEVENT
DTSTART;TZID=UTC:20250402T103000
DTEND;TZID=UTC:20250402T113000
DTSTAMP:20260422T150301
CREATED:20250421T143903Z
LAST-MODIFIED:20250421T143903Z
UID:10000992-1743589800-1743593400@www.ageconcerntaranaki.org.nz
SUMMARY:Steady As You Go - Inglewood
DESCRIPTION:Steady As You Go – Inglewood \nHeld every Wednesday at 10.30am excluding public holidays. \nCost $3 \nTo register or for more information please contact our Steady As You Go Coordinator Andrea on 06 759 9196 or email info@ageconcerntaranaki.org.nz \n 
URL:https://www.ageconcerntaranaki.org.nz/event/steady-as-you-go-inglewood/2025-04-02/
LOCATION:Inglewood United Church\, 30 Brown Street\, Inglewood\, Taranaki\, New Zealand
CATEGORIES:Exercise Classes,Steady As You Go
ORGANIZER;CN="Age Concern Taranaki":MAILTO:info@ageconcerntaranaki.org.nz
END:VEVENT
END:VCALENDAR