BEGIN:VCALENDAR
VERSION:2.0
PRODID:-//Age Concern Taranaki - ECPv6.15.20//NONSGML v1.0//EN
CALSCALE:GREGORIAN
METHOD:PUBLISH
X-WR-CALNAME:Age Concern Taranaki
X-ORIGINAL-URL:https://www.ageconcerntaranaki.org.nz
X-WR-CALDESC:Events for Age Concern Taranaki
REFRESH-INTERVAL;VALUE=DURATION:PT1H
X-Robots-Tag:noindex
X-PUBLISHED-TTL:PT1H
BEGIN:VTIMEZONE
TZID:UTC
BEGIN:STANDARD
TZOFFSETFROM:+0000
TZOFFSETTO:+0000
TZNAME:UTC
DTSTART:20240101T000000
END:STANDARD
END:VTIMEZONE
BEGIN:VEVENT
DTSTART;TZID=UTC:20260415T103000
DTEND;TZID=UTC:20260415T113000
DTSTAMP:20260423T100532
CREATED:20260202T020029Z
LAST-MODIFIED:20260202T020029Z
UID:10002481-1776249000-1776252600@www.ageconcerntaranaki.org.nz
SUMMARY:Morning Coffee - Waverley
DESCRIPTION:Third Wednesday of the month excluding school holidays \n\n\n\n10.30am Library Plus\, 58 Weraroa Rd\, Waverley join the Happy Library group for morning tea. Drop in\, make friends\, socialise and take part in discussions \n 
URL:https://www.ageconcerntaranaki.org.nz/event/morning-coffee-waverley-3/2026-04-15/
LOCATION:Library Plus Waverley\, 58 Weraroa Rd\,\, Waverley\, New Zealand
CATEGORIES:Coffee Morning Groups,Social Connection
ORGANIZER;CN="Age Concern Taranaki":MAILTO:info@ageconcerntaranaki.org.nz
END:VEVENT
BEGIN:VEVENT
DTSTART;TZID=UTC:20260318T103000
DTEND;TZID=UTC:20260318T113000
DTSTAMP:20260423T100532
CREATED:20260202T020029Z
LAST-MODIFIED:20260202T020029Z
UID:10002480-1773829800-1773833400@www.ageconcerntaranaki.org.nz
SUMMARY:Morning Coffee - Waverley
DESCRIPTION:Third Wednesday of the month excluding school holidays \n\n\n\n10.30am Library Plus\, 58 Weraroa Rd\, Waverley join the Happy Library group for morning tea. Drop in\, make friends\, socialise and take part in discussions \n 
URL:https://www.ageconcerntaranaki.org.nz/event/morning-coffee-waverley-3/2026-03-18/
LOCATION:Library Plus Waverley\, 58 Weraroa Rd\,\, Waverley\, New Zealand
CATEGORIES:Coffee Morning Groups,Social Connection
ORGANIZER;CN="Age Concern Taranaki":MAILTO:info@ageconcerntaranaki.org.nz
END:VEVENT
BEGIN:VEVENT
DTSTART;TZID=UTC:20260218T103000
DTEND;TZID=UTC:20260218T113000
DTSTAMP:20260423T100532
CREATED:20260202T020029Z
LAST-MODIFIED:20260202T020029Z
UID:10002479-1771410600-1771414200@www.ageconcerntaranaki.org.nz
SUMMARY:Morning Coffee - Waverley
DESCRIPTION:Third Wednesday of the month excluding school holidays \n\n\n\n10.30am Library Plus\, 58 Weraroa Rd\, Waverley join the Happy Library group for morning tea. Drop in\, make friends\, socialise and take part in discussions \n 
URL:https://www.ageconcerntaranaki.org.nz/event/morning-coffee-waverley-3/2026-02-18/
LOCATION:Library Plus Waverley\, 58 Weraroa Rd\,\, Waverley\, New Zealand
CATEGORIES:Coffee Morning Groups,Social Connection
ORGANIZER;CN="Age Concern Taranaki":MAILTO:info@ageconcerntaranaki.org.nz
END:VEVENT
BEGIN:VEVENT
DTSTART;TZID=UTC:20251119T103000
DTEND;TZID=UTC:20251119T113000
DTSTAMP:20260423T100532
CREATED:20250806T012732Z
LAST-MODIFIED:20250806T012734Z
UID:10001086-1763548200-1763551800@www.ageconcerntaranaki.org.nz
SUMMARY:Morning Coffee - Waverley
DESCRIPTION:Third Wednesday of the month excluding school holidays \n\n\n\n10.30am Library Plus\, 58 Weraroa Rd\, Waverley join the Happy Library group for morning tea. Drop in\, make friends\, socialise and take part in discussions \n 
URL:https://www.ageconcerntaranaki.org.nz/event/morning-coffee-waverley-2/2025-11-19/
LOCATION:Library Plus Waverley\, 58 Weraroa Rd\,\, Waverley\, New Zealand
CATEGORIES:Coffee Morning Groups,Social Connection
ORGANIZER;CN="Age Concern Taranaki":MAILTO:info@ageconcerntaranaki.org.nz
END:VEVENT
BEGIN:VEVENT
DTSTART;TZID=UTC:20251015T103000
DTEND;TZID=UTC:20251015T113000
DTSTAMP:20260423T100532
CREATED:20250806T012732Z
LAST-MODIFIED:20250806T012734Z
UID:10001085-1760524200-1760527800@www.ageconcerntaranaki.org.nz
SUMMARY:Morning Coffee - Waverley
DESCRIPTION:Third Wednesday of the month excluding school holidays \n\n\n\n10.30am Library Plus\, 58 Weraroa Rd\, Waverley join the Happy Library group for morning tea. Drop in\, make friends\, socialise and take part in discussions \n 
URL:https://www.ageconcerntaranaki.org.nz/event/morning-coffee-waverley-2/2025-10-15/
LOCATION:Library Plus Waverley\, 58 Weraroa Rd\,\, Waverley\, New Zealand
CATEGORIES:Coffee Morning Groups,Social Connection
ORGANIZER;CN="Age Concern Taranaki":MAILTO:info@ageconcerntaranaki.org.nz
END:VEVENT
BEGIN:VEVENT
DTSTART;TZID=UTC:20250917T103000
DTEND;TZID=UTC:20250917T113000
DTSTAMP:20260423T100532
CREATED:20250806T012732Z
LAST-MODIFIED:20250806T012734Z
UID:10001084-1758105000-1758108600@www.ageconcerntaranaki.org.nz
SUMMARY:Morning Coffee - Waverley
DESCRIPTION:Third Wednesday of the month excluding school holidays \n\n\n\n10.30am Library Plus\, 58 Weraroa Rd\, Waverley join the Happy Library group for morning tea. Drop in\, make friends\, socialise and take part in discussions \n 
URL:https://www.ageconcerntaranaki.org.nz/event/morning-coffee-waverley-2/2025-09-17/
LOCATION:Library Plus Waverley\, 58 Weraroa Rd\,\, Waverley\, New Zealand
CATEGORIES:Coffee Morning Groups,Social Connection
ORGANIZER;CN="Age Concern Taranaki":MAILTO:info@ageconcerntaranaki.org.nz
END:VEVENT
BEGIN:VEVENT
DTSTART;TZID=UTC:20250820T103000
DTEND;TZID=UTC:20250820T113000
DTSTAMP:20260423T100532
CREATED:20250806T012732Z
LAST-MODIFIED:20250806T012734Z
UID:10000503-1755685800-1755689400@www.ageconcerntaranaki.org.nz
SUMMARY:Morning Coffee - Waverley
DESCRIPTION:Third Wednesday of the month excluding school holidays \n\n\n\n10.30am Library Plus\, 58 Weraroa Rd\, Waverley join the Happy Library group for morning tea. Drop in\, make friends\, socialise and take part in discussions \n 
URL:https://www.ageconcerntaranaki.org.nz/event/morning-coffee-waverley-2/2025-08-20/
LOCATION:Library Plus Waverley\, 58 Weraroa Rd\,\, Waverley\, New Zealand
CATEGORIES:Coffee Morning Groups,Social Connection
ORGANIZER;CN="Age Concern Taranaki":MAILTO:info@ageconcerntaranaki.org.nz
END:VEVENT
BEGIN:VEVENT
DTSTART;TZID=UTC:20250717T103000
DTEND;TZID=UTC:20250717T113000
DTSTAMP:20260423T100532
CREATED:20250420T134722Z
LAST-MODIFIED:20250420T135631Z
UID:10000502-1752748200-1752751800@www.ageconcerntaranaki.org.nz
SUMMARY:Morning Coffee - Waverley
DESCRIPTION:Third Wednesday of the month excluding school holidays \n\n\n\n10.30am Library Plus\, 58 Weraroa Rd\, Waverley join the Happy Library group for morning tea. Drop in\, make friends\, socialise and take part in discussions \n 
URL:https://www.ageconcerntaranaki.org.nz/event/morning-coffee-waverley/2025-07-17/
LOCATION:Library Plus Waverley\, 58 Weraroa Rd\,\, Waverley\, New Zealand
CATEGORIES:Coffee Morning Groups,Social Connection
ORGANIZER;CN="Age Concern Taranaki":MAILTO:info@ageconcerntaranaki.org.nz
END:VEVENT
BEGIN:VEVENT
DTSTART;TZID=UTC:20250619T103000
DTEND;TZID=UTC:20250619T113000
DTSTAMP:20260423T100532
CREATED:20250420T134722Z
LAST-MODIFIED:20250420T135631Z
UID:10000501-1750329000-1750332600@www.ageconcerntaranaki.org.nz
SUMMARY:Morning Coffee - Waverley
DESCRIPTION:Third Wednesday of the month excluding school holidays \n\n\n\n10.30am Library Plus\, 58 Weraroa Rd\, Waverley join the Happy Library group for morning tea. Drop in\, make friends\, socialise and take part in discussions \n 
URL:https://www.ageconcerntaranaki.org.nz/event/morning-coffee-waverley/2025-06-19/
LOCATION:Library Plus Waverley\, 58 Weraroa Rd\,\, Waverley\, New Zealand
CATEGORIES:Coffee Morning Groups,Social Connection
ORGANIZER;CN="Age Concern Taranaki":MAILTO:info@ageconcerntaranaki.org.nz
END:VEVENT
BEGIN:VEVENT
DTSTART;TZID=UTC:20250515T103000
DTEND;TZID=UTC:20250515T113000
DTSTAMP:20260423T100532
CREATED:20250420T134722Z
LAST-MODIFIED:20250420T135631Z
UID:10000500-1747305000-1747308600@www.ageconcerntaranaki.org.nz
SUMMARY:Morning Coffee - Waverley
DESCRIPTION:Third Wednesday of the month excluding school holidays \n\n\n\n10.30am Library Plus\, 58 Weraroa Rd\, Waverley join the Happy Library group for morning tea. Drop in\, make friends\, socialise and take part in discussions \n 
URL:https://www.ageconcerntaranaki.org.nz/event/morning-coffee-waverley/2025-05-15/
LOCATION:Library Plus Waverley\, 58 Weraroa Rd\,\, Waverley\, New Zealand
CATEGORIES:Coffee Morning Groups,Social Connection
ORGANIZER;CN="Age Concern Taranaki":MAILTO:info@ageconcerntaranaki.org.nz
END:VEVENT
END:VCALENDAR