BEGIN:VCALENDAR
VERSION:2.0
PRODID:-//Age Concern Taranaki - ECPv6.15.20//NONSGML v1.0//EN
CALSCALE:GREGORIAN
METHOD:PUBLISH
X-ORIGINAL-URL:https://www.ageconcerntaranaki.org.nz
X-WR-CALDESC:Events for Age Concern Taranaki
REFRESH-INTERVAL;VALUE=DURATION:PT1H
X-Robots-Tag:noindex
X-PUBLISHED-TTL:PT1H
BEGIN:VTIMEZONE
TZID:UTC
BEGIN:STANDARD
TZOFFSETFROM:+0000
TZOFFSETTO:+0000
TZNAME:UTC
DTSTART:20240101T000000
END:STANDARD
END:VTIMEZONE
BEGIN:VEVENT
DTSTART;TZID=UTC:20251114T090000
DTEND;TZID=UTC:20251114T100000
DTSTAMP:20260421T114614
CREATED:20250420T141155Z
LAST-MODIFIED:20251124T210534Z
UID:10000678-1763110800-1763114400@www.ageconcerntaranaki.org.nz
SUMMARY:Steady As You Go - Stratford
DESCRIPTION:Steady As You Go – Stratford \nHeld every Friday at 9am excluding public holidays. \nCost: $3 per session \nTo register or for more information please contact our Steady As You Go Coordinator Andrea on 06 759 9196 or email info@ageconcerntaranaki.org.nz \n 
URL:https://www.ageconcerntaranaki.org.nz/event/steady-as-you-go-stratford/2025-11-14/
LOCATION:Senior Citizens Hall Stratford\, 53 Juliet Street\, Stratford\, New Zealand
CATEGORIES:Steady As You Go
ORGANIZER;CN="Age Concern Taranaki":MAILTO:info@ageconcerntaranaki.org.nz
END:VEVENT
BEGIN:VEVENT
DTSTART;TZID=UTC:20251107T090000
DTEND;TZID=UTC:20251107T100000
DTSTAMP:20260421T114614
CREATED:20250420T141155Z
LAST-MODIFIED:20251124T210534Z
UID:10000677-1762506000-1762509600@www.ageconcerntaranaki.org.nz
SUMMARY:Steady As You Go - Stratford
DESCRIPTION:Steady As You Go – Stratford \nHeld every Friday at 9am excluding public holidays. \nCost: $3 per session \nTo register or for more information please contact our Steady As You Go Coordinator Andrea on 06 759 9196 or email info@ageconcerntaranaki.org.nz \n 
URL:https://www.ageconcerntaranaki.org.nz/event/steady-as-you-go-stratford/2025-11-07/
LOCATION:Senior Citizens Hall Stratford\, 53 Juliet Street\, Stratford\, New Zealand
CATEGORIES:Steady As You Go
ORGANIZER;CN="Age Concern Taranaki":MAILTO:info@ageconcerntaranaki.org.nz
END:VEVENT
BEGIN:VEVENT
DTSTART;TZID=UTC:20251031T090000
DTEND;TZID=UTC:20251031T100000
DTSTAMP:20260421T114614
CREATED:20250420T141155Z
LAST-MODIFIED:20251124T210534Z
UID:10000676-1761901200-1761904800@www.ageconcerntaranaki.org.nz
SUMMARY:Steady As You Go - Stratford
DESCRIPTION:Steady As You Go – Stratford \nHeld every Friday at 9am excluding public holidays. \nCost: $3 per session \nTo register or for more information please contact our Steady As You Go Coordinator Andrea on 06 759 9196 or email info@ageconcerntaranaki.org.nz \n 
URL:https://www.ageconcerntaranaki.org.nz/event/steady-as-you-go-stratford/2025-10-31/
LOCATION:Senior Citizens Hall Stratford\, 53 Juliet Street\, Stratford\, New Zealand
CATEGORIES:Steady As You Go
ORGANIZER;CN="Age Concern Taranaki":MAILTO:info@ageconcerntaranaki.org.nz
END:VEVENT
BEGIN:VEVENT
DTSTART;TZID=UTC:20251024T103000
DTEND;TZID=UTC:20251024T113000
DTSTAMP:20260421T114614
CREATED:20250420T140919Z
LAST-MODIFIED:20250420T140919Z
UID:10000600-1761301800-1761305400@www.ageconcerntaranaki.org.nz
SUMMARY:Chirpy Fridays - Stratford
DESCRIPTION:Occurs on Second and fourth Friday of the month \n10:30am Senior Citizens Hall\,  \n53 Juliet Street\, Stratford. \nMorning Coffee / Tea will be provided\, please join us to make or meet with friends\, socialise\, relax and sing the Friday away! \nKOHA will be appreciated
URL:https://www.ageconcerntaranaki.org.nz/event/chirpy-fridays-stratford-2/2025-10-24/
LOCATION:Senior Citizens Hall Stratford\, 53 Juliet Street\, Stratford\, New Zealand
CATEGORIES:Music Groups,Social Connection
ORGANIZER;CN="Age Concern Taranaki":MAILTO:info@ageconcerntaranaki.org.nz
END:VEVENT
BEGIN:VEVENT
DTSTART;TZID=UTC:20251024T090000
DTEND;TZID=UTC:20251024T100000
DTSTAMP:20260421T114614
CREATED:20250420T141155Z
LAST-MODIFIED:20251124T210534Z
UID:10000675-1761296400-1761300000@www.ageconcerntaranaki.org.nz
SUMMARY:Steady As You Go - Stratford
DESCRIPTION:Steady As You Go – Stratford \nHeld every Friday at 9am excluding public holidays. \nCost: $3 per session \nTo register or for more information please contact our Steady As You Go Coordinator Andrea on 06 759 9196 or email info@ageconcerntaranaki.org.nz \n 
URL:https://www.ageconcerntaranaki.org.nz/event/steady-as-you-go-stratford/2025-10-24/
LOCATION:Senior Citizens Hall Stratford\, 53 Juliet Street\, Stratford\, New Zealand
CATEGORIES:Steady As You Go
ORGANIZER;CN="Age Concern Taranaki":MAILTO:info@ageconcerntaranaki.org.nz
END:VEVENT
BEGIN:VEVENT
DTSTART;TZID=UTC:20251017T090000
DTEND;TZID=UTC:20251017T100000
DTSTAMP:20260421T114614
CREATED:20250420T141155Z
LAST-MODIFIED:20251124T210534Z
UID:10000674-1760691600-1760695200@www.ageconcerntaranaki.org.nz
SUMMARY:Steady As You Go - Stratford
DESCRIPTION:Steady As You Go – Stratford \nHeld every Friday at 9am excluding public holidays. \nCost: $3 per session \nTo register or for more information please contact our Steady As You Go Coordinator Andrea on 06 759 9196 or email info@ageconcerntaranaki.org.nz \n 
URL:https://www.ageconcerntaranaki.org.nz/event/steady-as-you-go-stratford/2025-10-17/
LOCATION:Senior Citizens Hall Stratford\, 53 Juliet Street\, Stratford\, New Zealand
CATEGORIES:Steady As You Go
ORGANIZER;CN="Age Concern Taranaki":MAILTO:info@ageconcerntaranaki.org.nz
END:VEVENT
BEGIN:VEVENT
DTSTART;TZID=UTC:20251010T103000
DTEND;TZID=UTC:20251010T113000
DTSTAMP:20260421T114614
CREATED:20250420T140816Z
LAST-MODIFIED:20250420T140816Z
UID:10000584-1760092200-1760095800@www.ageconcerntaranaki.org.nz
SUMMARY:Chirpy Fridays - Stratford
DESCRIPTION:Occurs on Second and fourth Friday of the month \n10:30am Senior Citizens Hall\,  \n53 Juliet Street\, Stratford. \nMorning Coffee / Tea will be provided\, please join us to make or meet with friends\, socialise\, relax and sing the Friday away! \nKOHA will be appreciated
URL:https://www.ageconcerntaranaki.org.nz/event/chirpy-fridays-stratford/2025-10-10/
LOCATION:Senior Citizens Hall Stratford\, 53 Juliet Street\, Stratford\, New Zealand
CATEGORIES:Music Groups,Social Connection
ORGANIZER;CN="Age Concern Taranaki":MAILTO:info@ageconcerntaranaki.org.nz
END:VEVENT
BEGIN:VEVENT
DTSTART;TZID=UTC:20251010T090000
DTEND;TZID=UTC:20251010T100000
DTSTAMP:20260421T114614
CREATED:20250420T141155Z
LAST-MODIFIED:20251124T210534Z
UID:10000673-1760086800-1760090400@www.ageconcerntaranaki.org.nz
SUMMARY:Steady As You Go - Stratford
DESCRIPTION:Steady As You Go – Stratford \nHeld every Friday at 9am excluding public holidays. \nCost: $3 per session \nTo register or for more information please contact our Steady As You Go Coordinator Andrea on 06 759 9196 or email info@ageconcerntaranaki.org.nz \n 
URL:https://www.ageconcerntaranaki.org.nz/event/steady-as-you-go-stratford/2025-10-10/
LOCATION:Senior Citizens Hall Stratford\, 53 Juliet Street\, Stratford\, New Zealand
CATEGORIES:Steady As You Go
ORGANIZER;CN="Age Concern Taranaki":MAILTO:info@ageconcerntaranaki.org.nz
END:VEVENT
BEGIN:VEVENT
DTSTART;TZID=UTC:20251003T090000
DTEND;TZID=UTC:20251003T100000
DTSTAMP:20260421T114614
CREATED:20250420T141155Z
LAST-MODIFIED:20251124T210534Z
UID:10000672-1759482000-1759485600@www.ageconcerntaranaki.org.nz
SUMMARY:Steady As You Go - Stratford
DESCRIPTION:Steady As You Go – Stratford \nHeld every Friday at 9am excluding public holidays. \nCost: $3 per session \nTo register or for more information please contact our Steady As You Go Coordinator Andrea on 06 759 9196 or email info@ageconcerntaranaki.org.nz \n 
URL:https://www.ageconcerntaranaki.org.nz/event/steady-as-you-go-stratford/2025-10-03/
LOCATION:Senior Citizens Hall Stratford\, 53 Juliet Street\, Stratford\, New Zealand
CATEGORIES:Steady As You Go
ORGANIZER;CN="Age Concern Taranaki":MAILTO:info@ageconcerntaranaki.org.nz
END:VEVENT
BEGIN:VEVENT
DTSTART;TZID=UTC:20250926T103000
DTEND;TZID=UTC:20250926T113000
DTSTAMP:20260421T114614
CREATED:20250420T140919Z
LAST-MODIFIED:20250420T140919Z
UID:10000599-1758882600-1758886200@www.ageconcerntaranaki.org.nz
SUMMARY:Chirpy Fridays - Stratford
DESCRIPTION:Occurs on Second and fourth Friday of the month \n10:30am Senior Citizens Hall\,  \n53 Juliet Street\, Stratford. \nMorning Coffee / Tea will be provided\, please join us to make or meet with friends\, socialise\, relax and sing the Friday away! \nKOHA will be appreciated
URL:https://www.ageconcerntaranaki.org.nz/event/chirpy-fridays-stratford-2/2025-09-26/
LOCATION:Senior Citizens Hall Stratford\, 53 Juliet Street\, Stratford\, New Zealand
CATEGORIES:Music Groups,Social Connection
ORGANIZER;CN="Age Concern Taranaki":MAILTO:info@ageconcerntaranaki.org.nz
END:VEVENT
BEGIN:VEVENT
DTSTART;TZID=UTC:20250926T090000
DTEND;TZID=UTC:20250926T100000
DTSTAMP:20260421T114614
CREATED:20250420T141155Z
LAST-MODIFIED:20251124T210534Z
UID:10000671-1758877200-1758880800@www.ageconcerntaranaki.org.nz
SUMMARY:Steady As You Go - Stratford
DESCRIPTION:Steady As You Go – Stratford \nHeld every Friday at 9am excluding public holidays. \nCost: $3 per session \nTo register or for more information please contact our Steady As You Go Coordinator Andrea on 06 759 9196 or email info@ageconcerntaranaki.org.nz \n 
URL:https://www.ageconcerntaranaki.org.nz/event/steady-as-you-go-stratford/2025-09-26/
LOCATION:Senior Citizens Hall Stratford\, 53 Juliet Street\, Stratford\, New Zealand
CATEGORIES:Steady As You Go
ORGANIZER;CN="Age Concern Taranaki":MAILTO:info@ageconcerntaranaki.org.nz
END:VEVENT
BEGIN:VEVENT
DTSTART;TZID=UTC:20250919T090000
DTEND;TZID=UTC:20250919T100000
DTSTAMP:20260421T114614
CREATED:20250420T141155Z
LAST-MODIFIED:20251124T210534Z
UID:10000670-1758272400-1758276000@www.ageconcerntaranaki.org.nz
SUMMARY:Steady As You Go - Stratford
DESCRIPTION:Steady As You Go – Stratford \nHeld every Friday at 9am excluding public holidays. \nCost: $3 per session \nTo register or for more information please contact our Steady As You Go Coordinator Andrea on 06 759 9196 or email info@ageconcerntaranaki.org.nz \n 
URL:https://www.ageconcerntaranaki.org.nz/event/steady-as-you-go-stratford/2025-09-19/
LOCATION:Senior Citizens Hall Stratford\, 53 Juliet Street\, Stratford\, New Zealand
CATEGORIES:Steady As You Go
ORGANIZER;CN="Age Concern Taranaki":MAILTO:info@ageconcerntaranaki.org.nz
END:VEVENT
BEGIN:VEVENT
DTSTART;TZID=UTC:20250912T103000
DTEND;TZID=UTC:20250912T113000
DTSTAMP:20260421T114614
CREATED:20250420T140816Z
LAST-MODIFIED:20250420T140816Z
UID:10000583-1757673000-1757676600@www.ageconcerntaranaki.org.nz
SUMMARY:Chirpy Fridays - Stratford
DESCRIPTION:Occurs on Second and fourth Friday of the month \n10:30am Senior Citizens Hall\,  \n53 Juliet Street\, Stratford. \nMorning Coffee / Tea will be provided\, please join us to make or meet with friends\, socialise\, relax and sing the Friday away! \nKOHA will be appreciated
URL:https://www.ageconcerntaranaki.org.nz/event/chirpy-fridays-stratford/2025-09-12/
LOCATION:Senior Citizens Hall Stratford\, 53 Juliet Street\, Stratford\, New Zealand
CATEGORIES:Music Groups,Social Connection
ORGANIZER;CN="Age Concern Taranaki":MAILTO:info@ageconcerntaranaki.org.nz
END:VEVENT
BEGIN:VEVENT
DTSTART;TZID=UTC:20250912T090000
DTEND;TZID=UTC:20250912T100000
DTSTAMP:20260421T114614
CREATED:20250420T141155Z
LAST-MODIFIED:20251124T210534Z
UID:10000669-1757667600-1757671200@www.ageconcerntaranaki.org.nz
SUMMARY:Steady As You Go - Stratford
DESCRIPTION:Steady As You Go – Stratford \nHeld every Friday at 9am excluding public holidays. \nCost: $3 per session \nTo register or for more information please contact our Steady As You Go Coordinator Andrea on 06 759 9196 or email info@ageconcerntaranaki.org.nz \n 
URL:https://www.ageconcerntaranaki.org.nz/event/steady-as-you-go-stratford/2025-09-12/
LOCATION:Senior Citizens Hall Stratford\, 53 Juliet Street\, Stratford\, New Zealand
CATEGORIES:Steady As You Go
ORGANIZER;CN="Age Concern Taranaki":MAILTO:info@ageconcerntaranaki.org.nz
END:VEVENT
BEGIN:VEVENT
DTSTART;TZID=UTC:20250905T090000
DTEND;TZID=UTC:20250905T100000
DTSTAMP:20260421T114614
CREATED:20250420T141155Z
LAST-MODIFIED:20251124T210534Z
UID:10000668-1757062800-1757066400@www.ageconcerntaranaki.org.nz
SUMMARY:Steady As You Go - Stratford
DESCRIPTION:Steady As You Go – Stratford \nHeld every Friday at 9am excluding public holidays. \nCost: $3 per session \nTo register or for more information please contact our Steady As You Go Coordinator Andrea on 06 759 9196 or email info@ageconcerntaranaki.org.nz \n 
URL:https://www.ageconcerntaranaki.org.nz/event/steady-as-you-go-stratford/2025-09-05/
LOCATION:Senior Citizens Hall Stratford\, 53 Juliet Street\, Stratford\, New Zealand
CATEGORIES:Steady As You Go
ORGANIZER;CN="Age Concern Taranaki":MAILTO:info@ageconcerntaranaki.org.nz
END:VEVENT
BEGIN:VEVENT
DTSTART;TZID=UTC:20250829T090000
DTEND;TZID=UTC:20250829T100000
DTSTAMP:20260421T114614
CREATED:20250420T141155Z
LAST-MODIFIED:20251124T210534Z
UID:10000667-1756458000-1756461600@www.ageconcerntaranaki.org.nz
SUMMARY:Steady As You Go - Stratford
DESCRIPTION:Steady As You Go – Stratford \nHeld every Friday at 9am excluding public holidays. \nCost: $3 per session \nTo register or for more information please contact our Steady As You Go Coordinator Andrea on 06 759 9196 or email info@ageconcerntaranaki.org.nz \n 
URL:https://www.ageconcerntaranaki.org.nz/event/steady-as-you-go-stratford/2025-08-29/
LOCATION:Senior Citizens Hall Stratford\, 53 Juliet Street\, Stratford\, New Zealand
CATEGORIES:Steady As You Go
ORGANIZER;CN="Age Concern Taranaki":MAILTO:info@ageconcerntaranaki.org.nz
END:VEVENT
BEGIN:VEVENT
DTSTART;TZID=UTC:20250822T103000
DTEND;TZID=UTC:20250822T113000
DTSTAMP:20260421T114614
CREATED:20250420T140919Z
LAST-MODIFIED:20250420T140919Z
UID:10000598-1755858600-1755862200@www.ageconcerntaranaki.org.nz
SUMMARY:Chirpy Fridays - Stratford
DESCRIPTION:Occurs on Second and fourth Friday of the month \n10:30am Senior Citizens Hall\,  \n53 Juliet Street\, Stratford. \nMorning Coffee / Tea will be provided\, please join us to make or meet with friends\, socialise\, relax and sing the Friday away! \nKOHA will be appreciated
URL:https://www.ageconcerntaranaki.org.nz/event/chirpy-fridays-stratford-2/2025-08-22/
LOCATION:Senior Citizens Hall Stratford\, 53 Juliet Street\, Stratford\, New Zealand
CATEGORIES:Music Groups,Social Connection
ORGANIZER;CN="Age Concern Taranaki":MAILTO:info@ageconcerntaranaki.org.nz
END:VEVENT
BEGIN:VEVENT
DTSTART;TZID=UTC:20250822T090000
DTEND;TZID=UTC:20250822T100000
DTSTAMP:20260421T114614
CREATED:20250420T141155Z
LAST-MODIFIED:20251124T210534Z
UID:10000666-1755853200-1755856800@www.ageconcerntaranaki.org.nz
SUMMARY:Steady As You Go - Stratford
DESCRIPTION:Steady As You Go – Stratford \nHeld every Friday at 9am excluding public holidays. \nCost: $3 per session \nTo register or for more information please contact our Steady As You Go Coordinator Andrea on 06 759 9196 or email info@ageconcerntaranaki.org.nz \n 
URL:https://www.ageconcerntaranaki.org.nz/event/steady-as-you-go-stratford/2025-08-22/
LOCATION:Senior Citizens Hall Stratford\, 53 Juliet Street\, Stratford\, New Zealand
CATEGORIES:Steady As You Go
ORGANIZER;CN="Age Concern Taranaki":MAILTO:info@ageconcerntaranaki.org.nz
END:VEVENT
BEGIN:VEVENT
DTSTART;TZID=UTC:20250815T090000
DTEND;TZID=UTC:20250815T100000
DTSTAMP:20260421T114614
CREATED:20250420T141155Z
LAST-MODIFIED:20251124T210534Z
UID:10000665-1755248400-1755252000@www.ageconcerntaranaki.org.nz
SUMMARY:Steady As You Go - Stratford
DESCRIPTION:Steady As You Go – Stratford \nHeld every Friday at 9am excluding public holidays. \nCost: $3 per session \nTo register or for more information please contact our Steady As You Go Coordinator Andrea on 06 759 9196 or email info@ageconcerntaranaki.org.nz \n 
URL:https://www.ageconcerntaranaki.org.nz/event/steady-as-you-go-stratford/2025-08-15/
LOCATION:Senior Citizens Hall Stratford\, 53 Juliet Street\, Stratford\, New Zealand
CATEGORIES:Steady As You Go
ORGANIZER;CN="Age Concern Taranaki":MAILTO:info@ageconcerntaranaki.org.nz
END:VEVENT
BEGIN:VEVENT
DTSTART;TZID=UTC:20250808T103000
DTEND;TZID=UTC:20250808T113000
DTSTAMP:20260421T114614
CREATED:20250420T140816Z
LAST-MODIFIED:20250420T140816Z
UID:10000582-1754649000-1754652600@www.ageconcerntaranaki.org.nz
SUMMARY:Chirpy Fridays - Stratford
DESCRIPTION:Occurs on Second and fourth Friday of the month \n10:30am Senior Citizens Hall\,  \n53 Juliet Street\, Stratford. \nMorning Coffee / Tea will be provided\, please join us to make or meet with friends\, socialise\, relax and sing the Friday away! \nKOHA will be appreciated
URL:https://www.ageconcerntaranaki.org.nz/event/chirpy-fridays-stratford/2025-08-08/
LOCATION:Senior Citizens Hall Stratford\, 53 Juliet Street\, Stratford\, New Zealand
CATEGORIES:Music Groups,Social Connection
ORGANIZER;CN="Age Concern Taranaki":MAILTO:info@ageconcerntaranaki.org.nz
END:VEVENT
BEGIN:VEVENT
DTSTART;TZID=UTC:20250808T090000
DTEND;TZID=UTC:20250808T100000
DTSTAMP:20260421T114614
CREATED:20250420T141155Z
LAST-MODIFIED:20251124T210534Z
UID:10000664-1754643600-1754647200@www.ageconcerntaranaki.org.nz
SUMMARY:Steady As You Go - Stratford
DESCRIPTION:Steady As You Go – Stratford \nHeld every Friday at 9am excluding public holidays. \nCost: $3 per session \nTo register or for more information please contact our Steady As You Go Coordinator Andrea on 06 759 9196 or email info@ageconcerntaranaki.org.nz \n 
URL:https://www.ageconcerntaranaki.org.nz/event/steady-as-you-go-stratford/2025-08-08/
LOCATION:Senior Citizens Hall Stratford\, 53 Juliet Street\, Stratford\, New Zealand
CATEGORIES:Steady As You Go
ORGANIZER;CN="Age Concern Taranaki":MAILTO:info@ageconcerntaranaki.org.nz
END:VEVENT
BEGIN:VEVENT
DTSTART;TZID=UTC:20250801T090000
DTEND;TZID=UTC:20250801T100000
DTSTAMP:20260421T114614
CREATED:20250420T141155Z
LAST-MODIFIED:20251124T210534Z
UID:10000663-1754038800-1754042400@www.ageconcerntaranaki.org.nz
SUMMARY:Steady As You Go - Stratford
DESCRIPTION:Steady As You Go – Stratford \nHeld every Friday at 9am excluding public holidays. \nCost: $3 per session \nTo register or for more information please contact our Steady As You Go Coordinator Andrea on 06 759 9196 or email info@ageconcerntaranaki.org.nz \n 
URL:https://www.ageconcerntaranaki.org.nz/event/steady-as-you-go-stratford/2025-08-01/
LOCATION:Senior Citizens Hall Stratford\, 53 Juliet Street\, Stratford\, New Zealand
CATEGORIES:Steady As You Go
ORGANIZER;CN="Age Concern Taranaki":MAILTO:info@ageconcerntaranaki.org.nz
END:VEVENT
BEGIN:VEVENT
DTSTART;TZID=UTC:20250725T103000
DTEND;TZID=UTC:20250725T113000
DTSTAMP:20260421T114614
CREATED:20250420T140919Z
LAST-MODIFIED:20250420T140919Z
UID:10000597-1753439400-1753443000@www.ageconcerntaranaki.org.nz
SUMMARY:Chirpy Fridays - Stratford
DESCRIPTION:Occurs on Second and fourth Friday of the month \n10:30am Senior Citizens Hall\,  \n53 Juliet Street\, Stratford. \nMorning Coffee / Tea will be provided\, please join us to make or meet with friends\, socialise\, relax and sing the Friday away! \nKOHA will be appreciated
URL:https://www.ageconcerntaranaki.org.nz/event/chirpy-fridays-stratford-2/2025-07-25/
LOCATION:Senior Citizens Hall Stratford\, 53 Juliet Street\, Stratford\, New Zealand
CATEGORIES:Music Groups,Social Connection
ORGANIZER;CN="Age Concern Taranaki":MAILTO:info@ageconcerntaranaki.org.nz
END:VEVENT
BEGIN:VEVENT
DTSTART;TZID=UTC:20250725T090000
DTEND;TZID=UTC:20250725T100000
DTSTAMP:20260421T114614
CREATED:20250420T141155Z
LAST-MODIFIED:20251124T210534Z
UID:10000662-1753434000-1753437600@www.ageconcerntaranaki.org.nz
SUMMARY:Steady As You Go - Stratford
DESCRIPTION:Steady As You Go – Stratford \nHeld every Friday at 9am excluding public holidays. \nCost: $3 per session \nTo register or for more information please contact our Steady As You Go Coordinator Andrea on 06 759 9196 or email info@ageconcerntaranaki.org.nz \n 
URL:https://www.ageconcerntaranaki.org.nz/event/steady-as-you-go-stratford/2025-07-25/
LOCATION:Senior Citizens Hall Stratford\, 53 Juliet Street\, Stratford\, New Zealand
CATEGORIES:Steady As You Go
ORGANIZER;CN="Age Concern Taranaki":MAILTO:info@ageconcerntaranaki.org.nz
END:VEVENT
BEGIN:VEVENT
DTSTART;TZID=UTC:20250718T090000
DTEND;TZID=UTC:20250718T100000
DTSTAMP:20260421T114614
CREATED:20250420T141155Z
LAST-MODIFIED:20251124T210534Z
UID:10000661-1752829200-1752832800@www.ageconcerntaranaki.org.nz
SUMMARY:Steady As You Go - Stratford
DESCRIPTION:Steady As You Go – Stratford \nHeld every Friday at 9am excluding public holidays. \nCost: $3 per session \nTo register or for more information please contact our Steady As You Go Coordinator Andrea on 06 759 9196 or email info@ageconcerntaranaki.org.nz \n 
URL:https://www.ageconcerntaranaki.org.nz/event/steady-as-you-go-stratford/2025-07-18/
LOCATION:Senior Citizens Hall Stratford\, 53 Juliet Street\, Stratford\, New Zealand
CATEGORIES:Steady As You Go
ORGANIZER;CN="Age Concern Taranaki":MAILTO:info@ageconcerntaranaki.org.nz
END:VEVENT
BEGIN:VEVENT
DTSTART;TZID=UTC:20250711T103000
DTEND;TZID=UTC:20250711T113000
DTSTAMP:20260421T114614
CREATED:20250420T140816Z
LAST-MODIFIED:20250420T140816Z
UID:10000581-1752229800-1752233400@www.ageconcerntaranaki.org.nz
SUMMARY:Chirpy Fridays - Stratford
DESCRIPTION:Occurs on Second and fourth Friday of the month \n10:30am Senior Citizens Hall\,  \n53 Juliet Street\, Stratford. \nMorning Coffee / Tea will be provided\, please join us to make or meet with friends\, socialise\, relax and sing the Friday away! \nKOHA will be appreciated
URL:https://www.ageconcerntaranaki.org.nz/event/chirpy-fridays-stratford/2025-07-11/
LOCATION:Senior Citizens Hall Stratford\, 53 Juliet Street\, Stratford\, New Zealand
CATEGORIES:Music Groups,Social Connection
ORGANIZER;CN="Age Concern Taranaki":MAILTO:info@ageconcerntaranaki.org.nz
END:VEVENT
BEGIN:VEVENT
DTSTART;TZID=UTC:20250711T090000
DTEND;TZID=UTC:20250711T100000
DTSTAMP:20260421T114614
CREATED:20250420T141155Z
LAST-MODIFIED:20251124T210534Z
UID:10000660-1752224400-1752228000@www.ageconcerntaranaki.org.nz
SUMMARY:Steady As You Go - Stratford
DESCRIPTION:Steady As You Go – Stratford \nHeld every Friday at 9am excluding public holidays. \nCost: $3 per session \nTo register or for more information please contact our Steady As You Go Coordinator Andrea on 06 759 9196 or email info@ageconcerntaranaki.org.nz \n 
URL:https://www.ageconcerntaranaki.org.nz/event/steady-as-you-go-stratford/2025-07-11/
LOCATION:Senior Citizens Hall Stratford\, 53 Juliet Street\, Stratford\, New Zealand
CATEGORIES:Steady As You Go
ORGANIZER;CN="Age Concern Taranaki":MAILTO:info@ageconcerntaranaki.org.nz
END:VEVENT
BEGIN:VEVENT
DTSTART;TZID=UTC:20250704T090000
DTEND;TZID=UTC:20250704T100000
DTSTAMP:20260421T114614
CREATED:20250420T141155Z
LAST-MODIFIED:20251124T210534Z
UID:10000659-1751619600-1751623200@www.ageconcerntaranaki.org.nz
SUMMARY:Steady As You Go - Stratford
DESCRIPTION:Steady As You Go – Stratford \nHeld every Friday at 9am excluding public holidays. \nCost: $3 per session \nTo register or for more information please contact our Steady As You Go Coordinator Andrea on 06 759 9196 or email info@ageconcerntaranaki.org.nz \n 
URL:https://www.ageconcerntaranaki.org.nz/event/steady-as-you-go-stratford/2025-07-04/
LOCATION:Senior Citizens Hall Stratford\, 53 Juliet Street\, Stratford\, New Zealand
CATEGORIES:Steady As You Go
ORGANIZER;CN="Age Concern Taranaki":MAILTO:info@ageconcerntaranaki.org.nz
END:VEVENT
BEGIN:VEVENT
DTSTART;TZID=UTC:20250627T103000
DTEND;TZID=UTC:20250627T113000
DTSTAMP:20260421T114614
CREATED:20250420T140919Z
LAST-MODIFIED:20250420T140919Z
UID:10000596-1751020200-1751023800@www.ageconcerntaranaki.org.nz
SUMMARY:Chirpy Fridays - Stratford
DESCRIPTION:Occurs on Second and fourth Friday of the month \n10:30am Senior Citizens Hall\,  \n53 Juliet Street\, Stratford. \nMorning Coffee / Tea will be provided\, please join us to make or meet with friends\, socialise\, relax and sing the Friday away! \nKOHA will be appreciated
URL:https://www.ageconcerntaranaki.org.nz/event/chirpy-fridays-stratford-2/2025-06-27/
LOCATION:Senior Citizens Hall Stratford\, 53 Juliet Street\, Stratford\, New Zealand
CATEGORIES:Music Groups,Social Connection
ORGANIZER;CN="Age Concern Taranaki":MAILTO:info@ageconcerntaranaki.org.nz
END:VEVENT
BEGIN:VEVENT
DTSTART;TZID=UTC:20250627T090000
DTEND;TZID=UTC:20250627T100000
DTSTAMP:20260421T114614
CREATED:20250420T141155Z
LAST-MODIFIED:20251124T210534Z
UID:10000658-1751014800-1751018400@www.ageconcerntaranaki.org.nz
SUMMARY:Steady As You Go - Stratford
DESCRIPTION:Steady As You Go – Stratford \nHeld every Friday at 9am excluding public holidays. \nCost: $3 per session \nTo register or for more information please contact our Steady As You Go Coordinator Andrea on 06 759 9196 or email info@ageconcerntaranaki.org.nz \n 
URL:https://www.ageconcerntaranaki.org.nz/event/steady-as-you-go-stratford/2025-06-27/
LOCATION:Senior Citizens Hall Stratford\, 53 Juliet Street\, Stratford\, New Zealand
CATEGORIES:Steady As You Go
ORGANIZER;CN="Age Concern Taranaki":MAILTO:info@ageconcerntaranaki.org.nz
END:VEVENT
END:VCALENDAR