BEGIN:VCALENDAR
VERSION:2.0
PRODID:-//Age Concern Taranaki - ECPv6.15.20//NONSGML v1.0//EN
CALSCALE:GREGORIAN
METHOD:PUBLISH
X-WR-CALNAME:Age Concern Taranaki
X-ORIGINAL-URL:https://www.ageconcerntaranaki.org.nz
X-WR-CALDESC:Events for Age Concern Taranaki
REFRESH-INTERVAL;VALUE=DURATION:PT1H
X-Robots-Tag:noindex
X-PUBLISHED-TTL:PT1H
BEGIN:VTIMEZONE
TZID:UTC
BEGIN:STANDARD
TZOFFSETFROM:+0000
TZOFFSETTO:+0000
TZNAME:UTC
DTSTART:20240101T000000
END:STANDARD
END:VTIMEZONE
BEGIN:VEVENT
DTSTART;TZID=UTC:20260421T103000
DTEND;TZID=UTC:20260421T113000
DTSTAMP:20260422T012055
CREATED:20251124T210432Z
LAST-MODIFIED:20251124T210432Z
UID:10001984-1776767400-1776771000@www.ageconcerntaranaki.org.nz
SUMMARY:Steady As You Go - St Mary's Peace Lounge
DESCRIPTION:Steady As You Go – St Mary’s Peace Lounge \nHeld every Tuesday at 10.30am excluding public holidays. \nCost: $3 per session \nTo register or for more information please contact our Steady As You Go Coordinator – Andrea on 06 759 9196 or email info@ageconcerntaranaki.org.nz \n 
URL:https://www.ageconcerntaranaki.org.nz/event/steady-as-you-go-st-marys-peace-lounge-2/2026-04-21/
LOCATION:St Mary’s Peace Lounge\, 37 Vivian Street\, New Plymouth\, 4312\, New Zealand
CATEGORIES:Exercise Classes,Steady As You Go
ORGANIZER;CN="Age Concern Taranaki":MAILTO:info@ageconcerntaranaki.org.nz
END:VEVENT
BEGIN:VEVENT
DTSTART;TZID=UTC:20260414T103000
DTEND;TZID=UTC:20260414T113000
DTSTAMP:20260422T012055
CREATED:20251124T210432Z
LAST-MODIFIED:20251124T210432Z
UID:10001983-1776162600-1776166200@www.ageconcerntaranaki.org.nz
SUMMARY:Steady As You Go - St Mary's Peace Lounge
DESCRIPTION:Steady As You Go – St Mary’s Peace Lounge \nHeld every Tuesday at 10.30am excluding public holidays. \nCost: $3 per session \nTo register or for more information please contact our Steady As You Go Coordinator – Andrea on 06 759 9196 or email info@ageconcerntaranaki.org.nz \n 
URL:https://www.ageconcerntaranaki.org.nz/event/steady-as-you-go-st-marys-peace-lounge-2/2026-04-14/
LOCATION:St Mary’s Peace Lounge\, 37 Vivian Street\, New Plymouth\, 4312\, New Zealand
CATEGORIES:Exercise Classes,Steady As You Go
ORGANIZER;CN="Age Concern Taranaki":MAILTO:info@ageconcerntaranaki.org.nz
END:VEVENT
BEGIN:VEVENT
DTSTART;TZID=UTC:20260407T103000
DTEND;TZID=UTC:20260407T113000
DTSTAMP:20260422T012055
CREATED:20251124T210432Z
LAST-MODIFIED:20251124T210432Z
UID:10001982-1775557800-1775561400@www.ageconcerntaranaki.org.nz
SUMMARY:Steady As You Go - St Mary's Peace Lounge
DESCRIPTION:Steady As You Go – St Mary’s Peace Lounge \nHeld every Tuesday at 10.30am excluding public holidays. \nCost: $3 per session \nTo register or for more information please contact our Steady As You Go Coordinator – Andrea on 06 759 9196 or email info@ageconcerntaranaki.org.nz \n 
URL:https://www.ageconcerntaranaki.org.nz/event/steady-as-you-go-st-marys-peace-lounge-2/2026-04-07/
LOCATION:St Mary’s Peace Lounge\, 37 Vivian Street\, New Plymouth\, 4312\, New Zealand
CATEGORIES:Exercise Classes,Steady As You Go
ORGANIZER;CN="Age Concern Taranaki":MAILTO:info@ageconcerntaranaki.org.nz
END:VEVENT
BEGIN:VEVENT
DTSTART;TZID=UTC:20260331T103000
DTEND;TZID=UTC:20260331T113000
DTSTAMP:20260422T012055
CREATED:20251124T210432Z
LAST-MODIFIED:20251124T210432Z
UID:10001981-1774953000-1774956600@www.ageconcerntaranaki.org.nz
SUMMARY:Steady As You Go - St Mary's Peace Lounge
DESCRIPTION:Steady As You Go – St Mary’s Peace Lounge \nHeld every Tuesday at 10.30am excluding public holidays. \nCost: $3 per session \nTo register or for more information please contact our Steady As You Go Coordinator – Andrea on 06 759 9196 or email info@ageconcerntaranaki.org.nz \n 
URL:https://www.ageconcerntaranaki.org.nz/event/steady-as-you-go-st-marys-peace-lounge-2/2026-03-31/
LOCATION:St Mary’s Peace Lounge\, 37 Vivian Street\, New Plymouth\, 4312\, New Zealand
CATEGORIES:Exercise Classes,Steady As You Go
ORGANIZER;CN="Age Concern Taranaki":MAILTO:info@ageconcerntaranaki.org.nz
END:VEVENT
BEGIN:VEVENT
DTSTART;TZID=UTC:20260324T103000
DTEND;TZID=UTC:20260324T113000
DTSTAMP:20260422T012055
CREATED:20251124T210432Z
LAST-MODIFIED:20251124T210432Z
UID:10001980-1774348200-1774351800@www.ageconcerntaranaki.org.nz
SUMMARY:Steady As You Go - St Mary's Peace Lounge
DESCRIPTION:Steady As You Go – St Mary’s Peace Lounge \nHeld every Tuesday at 10.30am excluding public holidays. \nCost: $3 per session \nTo register or for more information please contact our Steady As You Go Coordinator – Andrea on 06 759 9196 or email info@ageconcerntaranaki.org.nz \n 
URL:https://www.ageconcerntaranaki.org.nz/event/steady-as-you-go-st-marys-peace-lounge-2/2026-03-24/
LOCATION:St Mary’s Peace Lounge\, 37 Vivian Street\, New Plymouth\, 4312\, New Zealand
CATEGORIES:Exercise Classes,Steady As You Go
ORGANIZER;CN="Age Concern Taranaki":MAILTO:info@ageconcerntaranaki.org.nz
END:VEVENT
BEGIN:VEVENT
DTSTART;TZID=UTC:20260317T103000
DTEND;TZID=UTC:20260317T113000
DTSTAMP:20260422T012055
CREATED:20251124T210432Z
LAST-MODIFIED:20251124T210432Z
UID:10001979-1773743400-1773747000@www.ageconcerntaranaki.org.nz
SUMMARY:Steady As You Go - St Mary's Peace Lounge
DESCRIPTION:Steady As You Go – St Mary’s Peace Lounge \nHeld every Tuesday at 10.30am excluding public holidays. \nCost: $3 per session \nTo register or for more information please contact our Steady As You Go Coordinator – Andrea on 06 759 9196 or email info@ageconcerntaranaki.org.nz \n 
URL:https://www.ageconcerntaranaki.org.nz/event/steady-as-you-go-st-marys-peace-lounge-2/2026-03-17/
LOCATION:St Mary’s Peace Lounge\, 37 Vivian Street\, New Plymouth\, 4312\, New Zealand
CATEGORIES:Exercise Classes,Steady As You Go
ORGANIZER;CN="Age Concern Taranaki":MAILTO:info@ageconcerntaranaki.org.nz
END:VEVENT
BEGIN:VEVENT
DTSTART;TZID=UTC:20260310T103000
DTEND;TZID=UTC:20260310T113000
DTSTAMP:20260422T012055
CREATED:20251124T210432Z
LAST-MODIFIED:20251124T210432Z
UID:10001978-1773138600-1773142200@www.ageconcerntaranaki.org.nz
SUMMARY:Steady As You Go - St Mary's Peace Lounge
DESCRIPTION:Steady As You Go – St Mary’s Peace Lounge \nHeld every Tuesday at 10.30am excluding public holidays. \nCost: $3 per session \nTo register or for more information please contact our Steady As You Go Coordinator – Andrea on 06 759 9196 or email info@ageconcerntaranaki.org.nz \n 
URL:https://www.ageconcerntaranaki.org.nz/event/steady-as-you-go-st-marys-peace-lounge-2/2026-03-10/
LOCATION:St Mary’s Peace Lounge\, 37 Vivian Street\, New Plymouth\, 4312\, New Zealand
CATEGORIES:Exercise Classes,Steady As You Go
ORGANIZER;CN="Age Concern Taranaki":MAILTO:info@ageconcerntaranaki.org.nz
END:VEVENT
BEGIN:VEVENT
DTSTART;TZID=UTC:20260303T103000
DTEND;TZID=UTC:20260303T113000
DTSTAMP:20260422T012055
CREATED:20251124T210432Z
LAST-MODIFIED:20251124T210432Z
UID:10001977-1772533800-1772537400@www.ageconcerntaranaki.org.nz
SUMMARY:Steady As You Go - St Mary's Peace Lounge
DESCRIPTION:Steady As You Go – St Mary’s Peace Lounge \nHeld every Tuesday at 10.30am excluding public holidays. \nCost: $3 per session \nTo register or for more information please contact our Steady As You Go Coordinator – Andrea on 06 759 9196 or email info@ageconcerntaranaki.org.nz \n 
URL:https://www.ageconcerntaranaki.org.nz/event/steady-as-you-go-st-marys-peace-lounge-2/2026-03-03/
LOCATION:St Mary’s Peace Lounge\, 37 Vivian Street\, New Plymouth\, 4312\, New Zealand
CATEGORIES:Exercise Classes,Steady As You Go
ORGANIZER;CN="Age Concern Taranaki":MAILTO:info@ageconcerntaranaki.org.nz
END:VEVENT
BEGIN:VEVENT
DTSTART;TZID=UTC:20260224T103000
DTEND;TZID=UTC:20260224T113000
DTSTAMP:20260422T012055
CREATED:20251124T210432Z
LAST-MODIFIED:20251124T210432Z
UID:10001976-1771929000-1771932600@www.ageconcerntaranaki.org.nz
SUMMARY:Steady As You Go - St Mary's Peace Lounge
DESCRIPTION:Steady As You Go – St Mary’s Peace Lounge \nHeld every Tuesday at 10.30am excluding public holidays. \nCost: $3 per session \nTo register or for more information please contact our Steady As You Go Coordinator – Andrea on 06 759 9196 or email info@ageconcerntaranaki.org.nz \n 
URL:https://www.ageconcerntaranaki.org.nz/event/steady-as-you-go-st-marys-peace-lounge-2/2026-02-24/
LOCATION:St Mary’s Peace Lounge\, 37 Vivian Street\, New Plymouth\, 4312\, New Zealand
CATEGORIES:Exercise Classes,Steady As You Go
ORGANIZER;CN="Age Concern Taranaki":MAILTO:info@ageconcerntaranaki.org.nz
END:VEVENT
BEGIN:VEVENT
DTSTART;TZID=UTC:20260217T103000
DTEND;TZID=UTC:20260217T113000
DTSTAMP:20260422T012055
CREATED:20251124T210432Z
LAST-MODIFIED:20251124T210432Z
UID:10001975-1771324200-1771327800@www.ageconcerntaranaki.org.nz
SUMMARY:Steady As You Go - St Mary's Peace Lounge
DESCRIPTION:Steady As You Go – St Mary’s Peace Lounge \nHeld every Tuesday at 10.30am excluding public holidays. \nCost: $3 per session \nTo register or for more information please contact our Steady As You Go Coordinator – Andrea on 06 759 9196 or email info@ageconcerntaranaki.org.nz \n 
URL:https://www.ageconcerntaranaki.org.nz/event/steady-as-you-go-st-marys-peace-lounge-2/2026-02-17/
LOCATION:St Mary’s Peace Lounge\, 37 Vivian Street\, New Plymouth\, 4312\, New Zealand
CATEGORIES:Exercise Classes,Steady As You Go
ORGANIZER;CN="Age Concern Taranaki":MAILTO:info@ageconcerntaranaki.org.nz
END:VEVENT
BEGIN:VEVENT
DTSTART;TZID=UTC:20260210T103000
DTEND;TZID=UTC:20260210T113000
DTSTAMP:20260422T012055
CREATED:20251124T210432Z
LAST-MODIFIED:20251124T210432Z
UID:10001974-1770719400-1770723000@www.ageconcerntaranaki.org.nz
SUMMARY:Steady As You Go - St Mary's Peace Lounge
DESCRIPTION:Steady As You Go – St Mary’s Peace Lounge \nHeld every Tuesday at 10.30am excluding public holidays. \nCost: $3 per session \nTo register or for more information please contact our Steady As You Go Coordinator – Andrea on 06 759 9196 or email info@ageconcerntaranaki.org.nz \n 
URL:https://www.ageconcerntaranaki.org.nz/event/steady-as-you-go-st-marys-peace-lounge-2/2026-02-10/
LOCATION:St Mary’s Peace Lounge\, 37 Vivian Street\, New Plymouth\, 4312\, New Zealand
CATEGORIES:Exercise Classes,Steady As You Go
ORGANIZER;CN="Age Concern Taranaki":MAILTO:info@ageconcerntaranaki.org.nz
END:VEVENT
BEGIN:VEVENT
DTSTART;TZID=UTC:20260203T103000
DTEND;TZID=UTC:20260203T113000
DTSTAMP:20260422T012055
CREATED:20251124T210432Z
LAST-MODIFIED:20251124T210432Z
UID:10001973-1770114600-1770118200@www.ageconcerntaranaki.org.nz
SUMMARY:Steady As You Go - St Mary's Peace Lounge
DESCRIPTION:Steady As You Go – St Mary’s Peace Lounge \nHeld every Tuesday at 10.30am excluding public holidays. \nCost: $3 per session \nTo register or for more information please contact our Steady As You Go Coordinator – Andrea on 06 759 9196 or email info@ageconcerntaranaki.org.nz \n 
URL:https://www.ageconcerntaranaki.org.nz/event/steady-as-you-go-st-marys-peace-lounge-2/2026-02-03/
LOCATION:St Mary’s Peace Lounge\, 37 Vivian Street\, New Plymouth\, 4312\, New Zealand
CATEGORIES:Exercise Classes,Steady As You Go
ORGANIZER;CN="Age Concern Taranaki":MAILTO:info@ageconcerntaranaki.org.nz
END:VEVENT
BEGIN:VEVENT
DTSTART;TZID=UTC:20260127T103000
DTEND;TZID=UTC:20260127T113000
DTSTAMP:20260422T012055
CREATED:20251124T210432Z
LAST-MODIFIED:20251124T210432Z
UID:10001972-1769509800-1769513400@www.ageconcerntaranaki.org.nz
SUMMARY:Steady As You Go - St Mary's Peace Lounge
DESCRIPTION:Steady As You Go – St Mary’s Peace Lounge \nHeld every Tuesday at 10.30am excluding public holidays. \nCost: $3 per session \nTo register or for more information please contact our Steady As You Go Coordinator – Andrea on 06 759 9196 or email info@ageconcerntaranaki.org.nz \n 
URL:https://www.ageconcerntaranaki.org.nz/event/steady-as-you-go-st-marys-peace-lounge-2/2026-01-27/
LOCATION:St Mary’s Peace Lounge\, 37 Vivian Street\, New Plymouth\, 4312\, New Zealand
CATEGORIES:Exercise Classes,Steady As You Go
ORGANIZER;CN="Age Concern Taranaki":MAILTO:info@ageconcerntaranaki.org.nz
END:VEVENT
BEGIN:VEVENT
DTSTART;TZID=UTC:20251209T103000
DTEND;TZID=UTC:20251209T113000
DTSTAMP:20260422T012055
CREATED:20250421T141424Z
LAST-MODIFIED:20251124T210225Z
UID:10000885-1765276200-1765279800@www.ageconcerntaranaki.org.nz
SUMMARY:Steady As You Go - St Mary's Peace Lounge
DESCRIPTION:Steady As You Go – St Mary’s Peace Lounge \nHeld every Tuesday at 10.30am excluding public holidays. \nCost: $3 per session \nTo register or for more information please contact our Steady As You Go Coordinator – Andrea on 06 759 9196 or email info@ageconcerntaranaki.org.nz \n 
URL:https://www.ageconcerntaranaki.org.nz/event/steady-as-you-go-st-marys-peace-lounge/2025-12-09/
LOCATION:St Mary’s Peace Lounge\, 37 Vivian Street\, New Plymouth\, 4312\, New Zealand
CATEGORIES:Exercise Classes,Steady As You Go
ORGANIZER;CN="Age Concern Taranaki":MAILTO:info@ageconcerntaranaki.org.nz
END:VEVENT
BEGIN:VEVENT
DTSTART;TZID=UTC:20251202T103000
DTEND;TZID=UTC:20251202T113000
DTSTAMP:20260422T012055
CREATED:20250421T141424Z
LAST-MODIFIED:20251124T210225Z
UID:10000884-1764671400-1764675000@www.ageconcerntaranaki.org.nz
SUMMARY:Steady As You Go - St Mary's Peace Lounge
DESCRIPTION:Steady As You Go – St Mary’s Peace Lounge \nHeld every Tuesday at 10.30am excluding public holidays. \nCost: $3 per session \nTo register or for more information please contact our Steady As You Go Coordinator – Andrea on 06 759 9196 or email info@ageconcerntaranaki.org.nz \n 
URL:https://www.ageconcerntaranaki.org.nz/event/steady-as-you-go-st-marys-peace-lounge/2025-12-02/
LOCATION:St Mary’s Peace Lounge\, 37 Vivian Street\, New Plymouth\, 4312\, New Zealand
CATEGORIES:Exercise Classes,Steady As You Go
ORGANIZER;CN="Age Concern Taranaki":MAILTO:info@ageconcerntaranaki.org.nz
END:VEVENT
BEGIN:VEVENT
DTSTART;TZID=UTC:20251125T103000
DTEND;TZID=UTC:20251125T113000
DTSTAMP:20260422T012055
CREATED:20250421T141424Z
LAST-MODIFIED:20251124T210225Z
UID:10000883-1764066600-1764070200@www.ageconcerntaranaki.org.nz
SUMMARY:Steady As You Go - St Mary's Peace Lounge
DESCRIPTION:Steady As You Go – St Mary’s Peace Lounge \nHeld every Tuesday at 10.30am excluding public holidays. \nCost: $3 per session \nTo register or for more information please contact our Steady As You Go Coordinator – Andrea on 06 759 9196 or email info@ageconcerntaranaki.org.nz \n 
URL:https://www.ageconcerntaranaki.org.nz/event/steady-as-you-go-st-marys-peace-lounge/2025-11-25/
LOCATION:St Mary’s Peace Lounge\, 37 Vivian Street\, New Plymouth\, 4312\, New Zealand
CATEGORIES:Exercise Classes,Steady As You Go
ORGANIZER;CN="Age Concern Taranaki":MAILTO:info@ageconcerntaranaki.org.nz
END:VEVENT
BEGIN:VEVENT
DTSTART;TZID=UTC:20251118T103000
DTEND;TZID=UTC:20251118T113000
DTSTAMP:20260422T012055
CREATED:20250421T141424Z
LAST-MODIFIED:20251124T210225Z
UID:10000882-1763461800-1763465400@www.ageconcerntaranaki.org.nz
SUMMARY:Steady As You Go - St Mary's Peace Lounge
DESCRIPTION:Steady As You Go – St Mary’s Peace Lounge \nHeld every Tuesday at 10.30am excluding public holidays. \nCost: $3 per session \nTo register or for more information please contact our Steady As You Go Coordinator – Andrea on 06 759 9196 or email info@ageconcerntaranaki.org.nz \n 
URL:https://www.ageconcerntaranaki.org.nz/event/steady-as-you-go-st-marys-peace-lounge/2025-11-18/
LOCATION:St Mary’s Peace Lounge\, 37 Vivian Street\, New Plymouth\, 4312\, New Zealand
CATEGORIES:Exercise Classes,Steady As You Go
ORGANIZER;CN="Age Concern Taranaki":MAILTO:info@ageconcerntaranaki.org.nz
END:VEVENT
BEGIN:VEVENT
DTSTART;TZID=UTC:20251111T103000
DTEND;TZID=UTC:20251111T113000
DTSTAMP:20260422T012055
CREATED:20250421T141424Z
LAST-MODIFIED:20251124T210225Z
UID:10000881-1762857000-1762860600@www.ageconcerntaranaki.org.nz
SUMMARY:Steady As You Go - St Mary's Peace Lounge
DESCRIPTION:Steady As You Go – St Mary’s Peace Lounge \nHeld every Tuesday at 10.30am excluding public holidays. \nCost: $3 per session \nTo register or for more information please contact our Steady As You Go Coordinator – Andrea on 06 759 9196 or email info@ageconcerntaranaki.org.nz \n 
URL:https://www.ageconcerntaranaki.org.nz/event/steady-as-you-go-st-marys-peace-lounge/2025-11-11/
LOCATION:St Mary’s Peace Lounge\, 37 Vivian Street\, New Plymouth\, 4312\, New Zealand
CATEGORIES:Exercise Classes,Steady As You Go
ORGANIZER;CN="Age Concern Taranaki":MAILTO:info@ageconcerntaranaki.org.nz
END:VEVENT
BEGIN:VEVENT
DTSTART;TZID=UTC:20251104T103000
DTEND;TZID=UTC:20251104T113000
DTSTAMP:20260422T012055
CREATED:20250421T141424Z
LAST-MODIFIED:20251124T210225Z
UID:10000880-1762252200-1762255800@www.ageconcerntaranaki.org.nz
SUMMARY:Steady As You Go - St Mary's Peace Lounge
DESCRIPTION:Steady As You Go – St Mary’s Peace Lounge \nHeld every Tuesday at 10.30am excluding public holidays. \nCost: $3 per session \nTo register or for more information please contact our Steady As You Go Coordinator – Andrea on 06 759 9196 or email info@ageconcerntaranaki.org.nz \n 
URL:https://www.ageconcerntaranaki.org.nz/event/steady-as-you-go-st-marys-peace-lounge/2025-11-04/
LOCATION:St Mary’s Peace Lounge\, 37 Vivian Street\, New Plymouth\, 4312\, New Zealand
CATEGORIES:Exercise Classes,Steady As You Go
ORGANIZER;CN="Age Concern Taranaki":MAILTO:info@ageconcerntaranaki.org.nz
END:VEVENT
BEGIN:VEVENT
DTSTART;TZID=UTC:20251028T103000
DTEND;TZID=UTC:20251028T113000
DTSTAMP:20260422T012055
CREATED:20250421T141424Z
LAST-MODIFIED:20251124T210225Z
UID:10000879-1761647400-1761651000@www.ageconcerntaranaki.org.nz
SUMMARY:Steady As You Go - St Mary's Peace Lounge
DESCRIPTION:Steady As You Go – St Mary’s Peace Lounge \nHeld every Tuesday at 10.30am excluding public holidays. \nCost: $3 per session \nTo register or for more information please contact our Steady As You Go Coordinator – Andrea on 06 759 9196 or email info@ageconcerntaranaki.org.nz \n 
URL:https://www.ageconcerntaranaki.org.nz/event/steady-as-you-go-st-marys-peace-lounge/2025-10-28/
LOCATION:St Mary’s Peace Lounge\, 37 Vivian Street\, New Plymouth\, 4312\, New Zealand
CATEGORIES:Exercise Classes,Steady As You Go
ORGANIZER;CN="Age Concern Taranaki":MAILTO:info@ageconcerntaranaki.org.nz
END:VEVENT
BEGIN:VEVENT
DTSTART;TZID=UTC:20251021T103000
DTEND;TZID=UTC:20251021T113000
DTSTAMP:20260422T012055
CREATED:20250421T141424Z
LAST-MODIFIED:20251124T210225Z
UID:10000878-1761042600-1761046200@www.ageconcerntaranaki.org.nz
SUMMARY:Steady As You Go - St Mary's Peace Lounge
DESCRIPTION:Steady As You Go – St Mary’s Peace Lounge \nHeld every Tuesday at 10.30am excluding public holidays. \nCost: $3 per session \nTo register or for more information please contact our Steady As You Go Coordinator – Andrea on 06 759 9196 or email info@ageconcerntaranaki.org.nz \n 
URL:https://www.ageconcerntaranaki.org.nz/event/steady-as-you-go-st-marys-peace-lounge/2025-10-21/
LOCATION:St Mary’s Peace Lounge\, 37 Vivian Street\, New Plymouth\, 4312\, New Zealand
CATEGORIES:Exercise Classes,Steady As You Go
ORGANIZER;CN="Age Concern Taranaki":MAILTO:info@ageconcerntaranaki.org.nz
END:VEVENT
BEGIN:VEVENT
DTSTART;TZID=UTC:20251014T103000
DTEND;TZID=UTC:20251014T113000
DTSTAMP:20260422T012055
CREATED:20250421T141424Z
LAST-MODIFIED:20251124T210225Z
UID:10000877-1760437800-1760441400@www.ageconcerntaranaki.org.nz
SUMMARY:Steady As You Go - St Mary's Peace Lounge
DESCRIPTION:Steady As You Go – St Mary’s Peace Lounge \nHeld every Tuesday at 10.30am excluding public holidays. \nCost: $3 per session \nTo register or for more information please contact our Steady As You Go Coordinator – Andrea on 06 759 9196 or email info@ageconcerntaranaki.org.nz \n 
URL:https://www.ageconcerntaranaki.org.nz/event/steady-as-you-go-st-marys-peace-lounge/2025-10-14/
LOCATION:St Mary’s Peace Lounge\, 37 Vivian Street\, New Plymouth\, 4312\, New Zealand
CATEGORIES:Exercise Classes,Steady As You Go
ORGANIZER;CN="Age Concern Taranaki":MAILTO:info@ageconcerntaranaki.org.nz
END:VEVENT
BEGIN:VEVENT
DTSTART;TZID=UTC:20251007T103000
DTEND;TZID=UTC:20251007T113000
DTSTAMP:20260422T012055
CREATED:20250421T141424Z
LAST-MODIFIED:20251124T210225Z
UID:10000876-1759833000-1759836600@www.ageconcerntaranaki.org.nz
SUMMARY:Steady As You Go - St Mary's Peace Lounge
DESCRIPTION:Steady As You Go – St Mary’s Peace Lounge \nHeld every Tuesday at 10.30am excluding public holidays. \nCost: $3 per session \nTo register or for more information please contact our Steady As You Go Coordinator – Andrea on 06 759 9196 or email info@ageconcerntaranaki.org.nz \n 
URL:https://www.ageconcerntaranaki.org.nz/event/steady-as-you-go-st-marys-peace-lounge/2025-10-07/
LOCATION:St Mary’s Peace Lounge\, 37 Vivian Street\, New Plymouth\, 4312\, New Zealand
CATEGORIES:Exercise Classes,Steady As You Go
ORGANIZER;CN="Age Concern Taranaki":MAILTO:info@ageconcerntaranaki.org.nz
END:VEVENT
BEGIN:VEVENT
DTSTART;TZID=UTC:20250930T103000
DTEND;TZID=UTC:20250930T113000
DTSTAMP:20260422T012055
CREATED:20250421T141424Z
LAST-MODIFIED:20251124T210225Z
UID:10000875-1759228200-1759231800@www.ageconcerntaranaki.org.nz
SUMMARY:Steady As You Go - St Mary's Peace Lounge
DESCRIPTION:Steady As You Go – St Mary’s Peace Lounge \nHeld every Tuesday at 10.30am excluding public holidays. \nCost: $3 per session \nTo register or for more information please contact our Steady As You Go Coordinator – Andrea on 06 759 9196 or email info@ageconcerntaranaki.org.nz \n 
URL:https://www.ageconcerntaranaki.org.nz/event/steady-as-you-go-st-marys-peace-lounge/2025-09-30/
LOCATION:St Mary’s Peace Lounge\, 37 Vivian Street\, New Plymouth\, 4312\, New Zealand
CATEGORIES:Exercise Classes,Steady As You Go
ORGANIZER;CN="Age Concern Taranaki":MAILTO:info@ageconcerntaranaki.org.nz
END:VEVENT
BEGIN:VEVENT
DTSTART;TZID=UTC:20250923T103000
DTEND;TZID=UTC:20250923T113000
DTSTAMP:20260422T012055
CREATED:20250421T141424Z
LAST-MODIFIED:20251124T210225Z
UID:10000874-1758623400-1758627000@www.ageconcerntaranaki.org.nz
SUMMARY:Steady As You Go - St Mary's Peace Lounge
DESCRIPTION:Steady As You Go – St Mary’s Peace Lounge \nHeld every Tuesday at 10.30am excluding public holidays. \nCost: $3 per session \nTo register or for more information please contact our Steady As You Go Coordinator – Andrea on 06 759 9196 or email info@ageconcerntaranaki.org.nz \n 
URL:https://www.ageconcerntaranaki.org.nz/event/steady-as-you-go-st-marys-peace-lounge/2025-09-23/
LOCATION:St Mary’s Peace Lounge\, 37 Vivian Street\, New Plymouth\, 4312\, New Zealand
CATEGORIES:Exercise Classes,Steady As You Go
ORGANIZER;CN="Age Concern Taranaki":MAILTO:info@ageconcerntaranaki.org.nz
END:VEVENT
BEGIN:VEVENT
DTSTART;TZID=UTC:20250916T103000
DTEND;TZID=UTC:20250916T113000
DTSTAMP:20260422T012055
CREATED:20250421T141424Z
LAST-MODIFIED:20251124T210225Z
UID:10000873-1758018600-1758022200@www.ageconcerntaranaki.org.nz
SUMMARY:Steady As You Go - St Mary's Peace Lounge
DESCRIPTION:Steady As You Go – St Mary’s Peace Lounge \nHeld every Tuesday at 10.30am excluding public holidays. \nCost: $3 per session \nTo register or for more information please contact our Steady As You Go Coordinator – Andrea on 06 759 9196 or email info@ageconcerntaranaki.org.nz \n 
URL:https://www.ageconcerntaranaki.org.nz/event/steady-as-you-go-st-marys-peace-lounge/2025-09-16/
LOCATION:St Mary’s Peace Lounge\, 37 Vivian Street\, New Plymouth\, 4312\, New Zealand
CATEGORIES:Exercise Classes,Steady As You Go
ORGANIZER;CN="Age Concern Taranaki":MAILTO:info@ageconcerntaranaki.org.nz
END:VEVENT
BEGIN:VEVENT
DTSTART;TZID=UTC:20250909T103000
DTEND;TZID=UTC:20250909T113000
DTSTAMP:20260422T012055
CREATED:20250421T141424Z
LAST-MODIFIED:20251124T210225Z
UID:10000872-1757413800-1757417400@www.ageconcerntaranaki.org.nz
SUMMARY:Steady As You Go - St Mary's Peace Lounge
DESCRIPTION:Steady As You Go – St Mary’s Peace Lounge \nHeld every Tuesday at 10.30am excluding public holidays. \nCost: $3 per session \nTo register or for more information please contact our Steady As You Go Coordinator – Andrea on 06 759 9196 or email info@ageconcerntaranaki.org.nz \n 
URL:https://www.ageconcerntaranaki.org.nz/event/steady-as-you-go-st-marys-peace-lounge/2025-09-09/
LOCATION:St Mary’s Peace Lounge\, 37 Vivian Street\, New Plymouth\, 4312\, New Zealand
CATEGORIES:Exercise Classes,Steady As You Go
ORGANIZER;CN="Age Concern Taranaki":MAILTO:info@ageconcerntaranaki.org.nz
END:VEVENT
BEGIN:VEVENT
DTSTART;TZID=UTC:20250902T103000
DTEND;TZID=UTC:20250902T113000
DTSTAMP:20260422T012055
CREATED:20250421T141424Z
LAST-MODIFIED:20251124T210225Z
UID:10000871-1756809000-1756812600@www.ageconcerntaranaki.org.nz
SUMMARY:Steady As You Go - St Mary's Peace Lounge
DESCRIPTION:Steady As You Go – St Mary’s Peace Lounge \nHeld every Tuesday at 10.30am excluding public holidays. \nCost: $3 per session \nTo register or for more information please contact our Steady As You Go Coordinator – Andrea on 06 759 9196 or email info@ageconcerntaranaki.org.nz \n 
URL:https://www.ageconcerntaranaki.org.nz/event/steady-as-you-go-st-marys-peace-lounge/2025-09-02/
LOCATION:St Mary’s Peace Lounge\, 37 Vivian Street\, New Plymouth\, 4312\, New Zealand
CATEGORIES:Exercise Classes,Steady As You Go
ORGANIZER;CN="Age Concern Taranaki":MAILTO:info@ageconcerntaranaki.org.nz
END:VEVENT
BEGIN:VEVENT
DTSTART;TZID=UTC:20250826T103000
DTEND;TZID=UTC:20250826T113000
DTSTAMP:20260422T012055
CREATED:20250421T141424Z
LAST-MODIFIED:20251124T210225Z
UID:10000870-1756204200-1756207800@www.ageconcerntaranaki.org.nz
SUMMARY:Steady As You Go - St Mary's Peace Lounge
DESCRIPTION:Steady As You Go – St Mary’s Peace Lounge \nHeld every Tuesday at 10.30am excluding public holidays. \nCost: $3 per session \nTo register or for more information please contact our Steady As You Go Coordinator – Andrea on 06 759 9196 or email info@ageconcerntaranaki.org.nz \n 
URL:https://www.ageconcerntaranaki.org.nz/event/steady-as-you-go-st-marys-peace-lounge/2025-08-26/
LOCATION:St Mary’s Peace Lounge\, 37 Vivian Street\, New Plymouth\, 4312\, New Zealand
CATEGORIES:Exercise Classes,Steady As You Go
ORGANIZER;CN="Age Concern Taranaki":MAILTO:info@ageconcerntaranaki.org.nz
END:VEVENT
BEGIN:VEVENT
DTSTART;TZID=UTC:20250819T103000
DTEND;TZID=UTC:20250819T113000
DTSTAMP:20260422T012055
CREATED:20250421T141424Z
LAST-MODIFIED:20251124T210225Z
UID:10000869-1755599400-1755603000@www.ageconcerntaranaki.org.nz
SUMMARY:Steady As You Go - St Mary's Peace Lounge
DESCRIPTION:Steady As You Go – St Mary’s Peace Lounge \nHeld every Tuesday at 10.30am excluding public holidays. \nCost: $3 per session \nTo register or for more information please contact our Steady As You Go Coordinator – Andrea on 06 759 9196 or email info@ageconcerntaranaki.org.nz \n 
URL:https://www.ageconcerntaranaki.org.nz/event/steady-as-you-go-st-marys-peace-lounge/2025-08-19/
LOCATION:St Mary’s Peace Lounge\, 37 Vivian Street\, New Plymouth\, 4312\, New Zealand
CATEGORIES:Exercise Classes,Steady As You Go
ORGANIZER;CN="Age Concern Taranaki":MAILTO:info@ageconcerntaranaki.org.nz
END:VEVENT
END:VCALENDAR