BEGIN:VCALENDAR
VERSION:2.0
PRODID:-//Age Concern Taranaki - ECPv6.15.20//NONSGML v1.0//EN
CALSCALE:GREGORIAN
METHOD:PUBLISH
X-WR-CALNAME:Age Concern Taranaki
X-ORIGINAL-URL:https://www.ageconcerntaranaki.org.nz
X-WR-CALDESC:Events for Age Concern Taranaki
REFRESH-INTERVAL;VALUE=DURATION:PT1H
X-Robots-Tag:noindex
X-PUBLISHED-TTL:PT1H
BEGIN:VTIMEZONE
TZID:UTC
BEGIN:STANDARD
TZOFFSETFROM:+0000
TZOFFSETTO:+0000
TZNAME:UTC
DTSTART:20250101T000000
END:STANDARD
END:VTIMEZONE
BEGIN:VEVENT
DTSTART;TZID=UTC:20260428T103000
DTEND;TZID=UTC:20260428T113000
DTSTAMP:20260421T170359
CREATED:20251124T210432Z
LAST-MODIFIED:20251124T210432Z
UID:10001985-1777372200-1777375800@www.ageconcerntaranaki.org.nz
SUMMARY:Steady As You Go - St Mary's Peace Lounge
DESCRIPTION:Steady As You Go – St Mary’s Peace Lounge \nHeld every Tuesday at 10.30am excluding public holidays. \nCost: $3 per session \nTo register or for more information please contact our Steady As You Go Coordinator – Andrea on 06 759 9196 or email info@ageconcerntaranaki.org.nz \n 
URL:https://www.ageconcerntaranaki.org.nz/event/steady-as-you-go-st-marys-peace-lounge-2/2026-04-28/
LOCATION:St Mary’s Peace Lounge\, 37 Vivian Street\, New Plymouth\, 4312\, New Zealand
CATEGORIES:Exercise Classes,Steady As You Go
ORGANIZER;CN="Age Concern Taranaki":MAILTO:info@ageconcerntaranaki.org.nz
END:VEVENT
BEGIN:VEVENT
DTSTART;TZID=UTC:20260505T103000
DTEND;TZID=UTC:20260505T113000
DTSTAMP:20260421T170359
CREATED:20251124T210432Z
LAST-MODIFIED:20251124T210432Z
UID:10001986-1777977000-1777980600@www.ageconcerntaranaki.org.nz
SUMMARY:Steady As You Go - St Mary's Peace Lounge
DESCRIPTION:Steady As You Go – St Mary’s Peace Lounge \nHeld every Tuesday at 10.30am excluding public holidays. \nCost: $3 per session \nTo register or for more information please contact our Steady As You Go Coordinator – Andrea on 06 759 9196 or email info@ageconcerntaranaki.org.nz \n 
URL:https://www.ageconcerntaranaki.org.nz/event/steady-as-you-go-st-marys-peace-lounge-2/2026-05-05/
LOCATION:St Mary’s Peace Lounge\, 37 Vivian Street\, New Plymouth\, 4312\, New Zealand
CATEGORIES:Exercise Classes,Steady As You Go
ORGANIZER;CN="Age Concern Taranaki":MAILTO:info@ageconcerntaranaki.org.nz
END:VEVENT
BEGIN:VEVENT
DTSTART;TZID=UTC:20260512T103000
DTEND;TZID=UTC:20260512T113000
DTSTAMP:20260421T170359
CREATED:20251124T210432Z
LAST-MODIFIED:20251124T210432Z
UID:10001987-1778581800-1778585400@www.ageconcerntaranaki.org.nz
SUMMARY:Steady As You Go - St Mary's Peace Lounge
DESCRIPTION:Steady As You Go – St Mary’s Peace Lounge \nHeld every Tuesday at 10.30am excluding public holidays. \nCost: $3 per session \nTo register or for more information please contact our Steady As You Go Coordinator – Andrea on 06 759 9196 or email info@ageconcerntaranaki.org.nz \n 
URL:https://www.ageconcerntaranaki.org.nz/event/steady-as-you-go-st-marys-peace-lounge-2/2026-05-12/
LOCATION:St Mary’s Peace Lounge\, 37 Vivian Street\, New Plymouth\, 4312\, New Zealand
CATEGORIES:Exercise Classes,Steady As You Go
ORGANIZER;CN="Age Concern Taranaki":MAILTO:info@ageconcerntaranaki.org.nz
END:VEVENT
BEGIN:VEVENT
DTSTART;TZID=UTC:20260519T103000
DTEND;TZID=UTC:20260519T113000
DTSTAMP:20260421T170359
CREATED:20251124T210432Z
LAST-MODIFIED:20251124T210432Z
UID:10001988-1779186600-1779190200@www.ageconcerntaranaki.org.nz
SUMMARY:Steady As You Go - St Mary's Peace Lounge
DESCRIPTION:Steady As You Go – St Mary’s Peace Lounge \nHeld every Tuesday at 10.30am excluding public holidays. \nCost: $3 per session \nTo register or for more information please contact our Steady As You Go Coordinator – Andrea on 06 759 9196 or email info@ageconcerntaranaki.org.nz \n 
URL:https://www.ageconcerntaranaki.org.nz/event/steady-as-you-go-st-marys-peace-lounge-2/2026-05-19/
LOCATION:St Mary’s Peace Lounge\, 37 Vivian Street\, New Plymouth\, 4312\, New Zealand
CATEGORIES:Exercise Classes,Steady As You Go
ORGANIZER;CN="Age Concern Taranaki":MAILTO:info@ageconcerntaranaki.org.nz
END:VEVENT
BEGIN:VEVENT
DTSTART;TZID=UTC:20260526T103000
DTEND;TZID=UTC:20260526T113000
DTSTAMP:20260421T170359
CREATED:20251124T210432Z
LAST-MODIFIED:20251124T210432Z
UID:10001989-1779791400-1779795000@www.ageconcerntaranaki.org.nz
SUMMARY:Steady As You Go - St Mary's Peace Lounge
DESCRIPTION:Steady As You Go – St Mary’s Peace Lounge \nHeld every Tuesday at 10.30am excluding public holidays. \nCost: $3 per session \nTo register or for more information please contact our Steady As You Go Coordinator – Andrea on 06 759 9196 or email info@ageconcerntaranaki.org.nz \n 
URL:https://www.ageconcerntaranaki.org.nz/event/steady-as-you-go-st-marys-peace-lounge-2/2026-05-26/
LOCATION:St Mary’s Peace Lounge\, 37 Vivian Street\, New Plymouth\, 4312\, New Zealand
CATEGORIES:Exercise Classes,Steady As You Go
ORGANIZER;CN="Age Concern Taranaki":MAILTO:info@ageconcerntaranaki.org.nz
END:VEVENT
BEGIN:VEVENT
DTSTART;TZID=UTC:20260602T103000
DTEND;TZID=UTC:20260602T113000
DTSTAMP:20260421T170359
CREATED:20251124T210432Z
LAST-MODIFIED:20251124T210432Z
UID:10001990-1780396200-1780399800@www.ageconcerntaranaki.org.nz
SUMMARY:Steady As You Go - St Mary's Peace Lounge
DESCRIPTION:Steady As You Go – St Mary’s Peace Lounge \nHeld every Tuesday at 10.30am excluding public holidays. \nCost: $3 per session \nTo register or for more information please contact our Steady As You Go Coordinator – Andrea on 06 759 9196 or email info@ageconcerntaranaki.org.nz \n 
URL:https://www.ageconcerntaranaki.org.nz/event/steady-as-you-go-st-marys-peace-lounge-2/2026-06-02/
LOCATION:St Mary’s Peace Lounge\, 37 Vivian Street\, New Plymouth\, 4312\, New Zealand
CATEGORIES:Exercise Classes,Steady As You Go
ORGANIZER;CN="Age Concern Taranaki":MAILTO:info@ageconcerntaranaki.org.nz
END:VEVENT
BEGIN:VEVENT
DTSTART;TZID=UTC:20260609T103000
DTEND;TZID=UTC:20260609T113000
DTSTAMP:20260421T170359
CREATED:20251124T210432Z
LAST-MODIFIED:20251124T210432Z
UID:10001991-1781001000-1781004600@www.ageconcerntaranaki.org.nz
SUMMARY:Steady As You Go - St Mary's Peace Lounge
DESCRIPTION:Steady As You Go – St Mary’s Peace Lounge \nHeld every Tuesday at 10.30am excluding public holidays. \nCost: $3 per session \nTo register or for more information please contact our Steady As You Go Coordinator – Andrea on 06 759 9196 or email info@ageconcerntaranaki.org.nz \n 
URL:https://www.ageconcerntaranaki.org.nz/event/steady-as-you-go-st-marys-peace-lounge-2/2026-06-09/
LOCATION:St Mary’s Peace Lounge\, 37 Vivian Street\, New Plymouth\, 4312\, New Zealand
CATEGORIES:Exercise Classes,Steady As You Go
ORGANIZER;CN="Age Concern Taranaki":MAILTO:info@ageconcerntaranaki.org.nz
END:VEVENT
BEGIN:VEVENT
DTSTART;TZID=UTC:20260616T103000
DTEND;TZID=UTC:20260616T113000
DTSTAMP:20260421T170359
CREATED:20251124T210432Z
LAST-MODIFIED:20251124T210432Z
UID:10001992-1781605800-1781609400@www.ageconcerntaranaki.org.nz
SUMMARY:Steady As You Go - St Mary's Peace Lounge
DESCRIPTION:Steady As You Go – St Mary’s Peace Lounge \nHeld every Tuesday at 10.30am excluding public holidays. \nCost: $3 per session \nTo register or for more information please contact our Steady As You Go Coordinator – Andrea on 06 759 9196 or email info@ageconcerntaranaki.org.nz \n 
URL:https://www.ageconcerntaranaki.org.nz/event/steady-as-you-go-st-marys-peace-lounge-2/2026-06-16/
LOCATION:St Mary’s Peace Lounge\, 37 Vivian Street\, New Plymouth\, 4312\, New Zealand
CATEGORIES:Exercise Classes,Steady As You Go
ORGANIZER;CN="Age Concern Taranaki":MAILTO:info@ageconcerntaranaki.org.nz
END:VEVENT
BEGIN:VEVENT
DTSTART;TZID=UTC:20260623T103000
DTEND;TZID=UTC:20260623T113000
DTSTAMP:20260421T170359
CREATED:20251124T210432Z
LAST-MODIFIED:20251124T210432Z
UID:10001993-1782210600-1782214200@www.ageconcerntaranaki.org.nz
SUMMARY:Steady As You Go - St Mary's Peace Lounge
DESCRIPTION:Steady As You Go – St Mary’s Peace Lounge \nHeld every Tuesday at 10.30am excluding public holidays. \nCost: $3 per session \nTo register or for more information please contact our Steady As You Go Coordinator – Andrea on 06 759 9196 or email info@ageconcerntaranaki.org.nz \n 
URL:https://www.ageconcerntaranaki.org.nz/event/steady-as-you-go-st-marys-peace-lounge-2/2026-06-23/
LOCATION:St Mary’s Peace Lounge\, 37 Vivian Street\, New Plymouth\, 4312\, New Zealand
CATEGORIES:Exercise Classes,Steady As You Go
ORGANIZER;CN="Age Concern Taranaki":MAILTO:info@ageconcerntaranaki.org.nz
END:VEVENT
BEGIN:VEVENT
DTSTART;TZID=UTC:20260630T103000
DTEND;TZID=UTC:20260630T113000
DTSTAMP:20260421T170359
CREATED:20251124T210432Z
LAST-MODIFIED:20251124T210432Z
UID:10001994-1782815400-1782819000@www.ageconcerntaranaki.org.nz
SUMMARY:Steady As You Go - St Mary's Peace Lounge
DESCRIPTION:Steady As You Go – St Mary’s Peace Lounge \nHeld every Tuesday at 10.30am excluding public holidays. \nCost: $3 per session \nTo register or for more information please contact our Steady As You Go Coordinator – Andrea on 06 759 9196 or email info@ageconcerntaranaki.org.nz \n 
URL:https://www.ageconcerntaranaki.org.nz/event/steady-as-you-go-st-marys-peace-lounge-2/2026-06-30/
LOCATION:St Mary’s Peace Lounge\, 37 Vivian Street\, New Plymouth\, 4312\, New Zealand
CATEGORIES:Exercise Classes,Steady As You Go
ORGANIZER;CN="Age Concern Taranaki":MAILTO:info@ageconcerntaranaki.org.nz
END:VEVENT
BEGIN:VEVENT
DTSTART;TZID=UTC:20260707T103000
DTEND;TZID=UTC:20260707T113000
DTSTAMP:20260421T170359
CREATED:20251124T210432Z
LAST-MODIFIED:20251124T210432Z
UID:10001995-1783420200-1783423800@www.ageconcerntaranaki.org.nz
SUMMARY:Steady As You Go - St Mary's Peace Lounge
DESCRIPTION:Steady As You Go – St Mary’s Peace Lounge \nHeld every Tuesday at 10.30am excluding public holidays. \nCost: $3 per session \nTo register or for more information please contact our Steady As You Go Coordinator – Andrea on 06 759 9196 or email info@ageconcerntaranaki.org.nz \n 
URL:https://www.ageconcerntaranaki.org.nz/event/steady-as-you-go-st-marys-peace-lounge-2/2026-07-07/
LOCATION:St Mary’s Peace Lounge\, 37 Vivian Street\, New Plymouth\, 4312\, New Zealand
CATEGORIES:Exercise Classes,Steady As You Go
ORGANIZER;CN="Age Concern Taranaki":MAILTO:info@ageconcerntaranaki.org.nz
END:VEVENT
BEGIN:VEVENT
DTSTART;TZID=UTC:20260714T103000
DTEND;TZID=UTC:20260714T113000
DTSTAMP:20260421T170359
CREATED:20251124T210432Z
LAST-MODIFIED:20251124T210432Z
UID:10001996-1784025000-1784028600@www.ageconcerntaranaki.org.nz
SUMMARY:Steady As You Go - St Mary's Peace Lounge
DESCRIPTION:Steady As You Go – St Mary’s Peace Lounge \nHeld every Tuesday at 10.30am excluding public holidays. \nCost: $3 per session \nTo register or for more information please contact our Steady As You Go Coordinator – Andrea on 06 759 9196 or email info@ageconcerntaranaki.org.nz \n 
URL:https://www.ageconcerntaranaki.org.nz/event/steady-as-you-go-st-marys-peace-lounge-2/2026-07-14/
LOCATION:St Mary’s Peace Lounge\, 37 Vivian Street\, New Plymouth\, 4312\, New Zealand
CATEGORIES:Exercise Classes,Steady As You Go
ORGANIZER;CN="Age Concern Taranaki":MAILTO:info@ageconcerntaranaki.org.nz
END:VEVENT
BEGIN:VEVENT
DTSTART;TZID=UTC:20260721T103000
DTEND;TZID=UTC:20260721T113000
DTSTAMP:20260421T170359
CREATED:20251124T210432Z
LAST-MODIFIED:20251124T210432Z
UID:10001997-1784629800-1784633400@www.ageconcerntaranaki.org.nz
SUMMARY:Steady As You Go - St Mary's Peace Lounge
DESCRIPTION:Steady As You Go – St Mary’s Peace Lounge \nHeld every Tuesday at 10.30am excluding public holidays. \nCost: $3 per session \nTo register or for more information please contact our Steady As You Go Coordinator – Andrea on 06 759 9196 or email info@ageconcerntaranaki.org.nz \n 
URL:https://www.ageconcerntaranaki.org.nz/event/steady-as-you-go-st-marys-peace-lounge-2/2026-07-21/
LOCATION:St Mary’s Peace Lounge\, 37 Vivian Street\, New Plymouth\, 4312\, New Zealand
CATEGORIES:Exercise Classes,Steady As You Go
ORGANIZER;CN="Age Concern Taranaki":MAILTO:info@ageconcerntaranaki.org.nz
END:VEVENT
BEGIN:VEVENT
DTSTART;TZID=UTC:20260728T103000
DTEND;TZID=UTC:20260728T113000
DTSTAMP:20260421T170359
CREATED:20251124T210432Z
LAST-MODIFIED:20251124T210432Z
UID:10001998-1785234600-1785238200@www.ageconcerntaranaki.org.nz
SUMMARY:Steady As You Go - St Mary's Peace Lounge
DESCRIPTION:Steady As You Go – St Mary’s Peace Lounge \nHeld every Tuesday at 10.30am excluding public holidays. \nCost: $3 per session \nTo register or for more information please contact our Steady As You Go Coordinator – Andrea on 06 759 9196 or email info@ageconcerntaranaki.org.nz \n 
URL:https://www.ageconcerntaranaki.org.nz/event/steady-as-you-go-st-marys-peace-lounge-2/2026-07-28/
LOCATION:St Mary’s Peace Lounge\, 37 Vivian Street\, New Plymouth\, 4312\, New Zealand
CATEGORIES:Exercise Classes,Steady As You Go
ORGANIZER;CN="Age Concern Taranaki":MAILTO:info@ageconcerntaranaki.org.nz
END:VEVENT
BEGIN:VEVENT
DTSTART;TZID=UTC:20260804T103000
DTEND;TZID=UTC:20260804T113000
DTSTAMP:20260421T170359
CREATED:20251124T210432Z
LAST-MODIFIED:20251124T210432Z
UID:10001999-1785839400-1785843000@www.ageconcerntaranaki.org.nz
SUMMARY:Steady As You Go - St Mary's Peace Lounge
DESCRIPTION:Steady As You Go – St Mary’s Peace Lounge \nHeld every Tuesday at 10.30am excluding public holidays. \nCost: $3 per session \nTo register or for more information please contact our Steady As You Go Coordinator – Andrea on 06 759 9196 or email info@ageconcerntaranaki.org.nz \n 
URL:https://www.ageconcerntaranaki.org.nz/event/steady-as-you-go-st-marys-peace-lounge-2/2026-08-04/
LOCATION:St Mary’s Peace Lounge\, 37 Vivian Street\, New Plymouth\, 4312\, New Zealand
CATEGORIES:Exercise Classes,Steady As You Go
ORGANIZER;CN="Age Concern Taranaki":MAILTO:info@ageconcerntaranaki.org.nz
END:VEVENT
BEGIN:VEVENT
DTSTART;TZID=UTC:20260811T103000
DTEND;TZID=UTC:20260811T113000
DTSTAMP:20260421T170359
CREATED:20251124T210432Z
LAST-MODIFIED:20251124T210432Z
UID:10002000-1786444200-1786447800@www.ageconcerntaranaki.org.nz
SUMMARY:Steady As You Go - St Mary's Peace Lounge
DESCRIPTION:Steady As You Go – St Mary’s Peace Lounge \nHeld every Tuesday at 10.30am excluding public holidays. \nCost: $3 per session \nTo register or for more information please contact our Steady As You Go Coordinator – Andrea on 06 759 9196 or email info@ageconcerntaranaki.org.nz \n 
URL:https://www.ageconcerntaranaki.org.nz/event/steady-as-you-go-st-marys-peace-lounge-2/2026-08-11/
LOCATION:St Mary’s Peace Lounge\, 37 Vivian Street\, New Plymouth\, 4312\, New Zealand
CATEGORIES:Exercise Classes,Steady As You Go
ORGANIZER;CN="Age Concern Taranaki":MAILTO:info@ageconcerntaranaki.org.nz
END:VEVENT
BEGIN:VEVENT
DTSTART;TZID=UTC:20260818T103000
DTEND;TZID=UTC:20260818T113000
DTSTAMP:20260421T170359
CREATED:20251124T210432Z
LAST-MODIFIED:20251124T210432Z
UID:10002001-1787049000-1787052600@www.ageconcerntaranaki.org.nz
SUMMARY:Steady As You Go - St Mary's Peace Lounge
DESCRIPTION:Steady As You Go – St Mary’s Peace Lounge \nHeld every Tuesday at 10.30am excluding public holidays. \nCost: $3 per session \nTo register or for more information please contact our Steady As You Go Coordinator – Andrea on 06 759 9196 or email info@ageconcerntaranaki.org.nz \n 
URL:https://www.ageconcerntaranaki.org.nz/event/steady-as-you-go-st-marys-peace-lounge-2/2026-08-18/
LOCATION:St Mary’s Peace Lounge\, 37 Vivian Street\, New Plymouth\, 4312\, New Zealand
CATEGORIES:Exercise Classes,Steady As You Go
ORGANIZER;CN="Age Concern Taranaki":MAILTO:info@ageconcerntaranaki.org.nz
END:VEVENT
BEGIN:VEVENT
DTSTART;TZID=UTC:20260825T103000
DTEND;TZID=UTC:20260825T113000
DTSTAMP:20260421T170359
CREATED:20251124T210432Z
LAST-MODIFIED:20251124T210432Z
UID:10002002-1787653800-1787657400@www.ageconcerntaranaki.org.nz
SUMMARY:Steady As You Go - St Mary's Peace Lounge
DESCRIPTION:Steady As You Go – St Mary’s Peace Lounge \nHeld every Tuesday at 10.30am excluding public holidays. \nCost: $3 per session \nTo register or for more information please contact our Steady As You Go Coordinator – Andrea on 06 759 9196 or email info@ageconcerntaranaki.org.nz \n 
URL:https://www.ageconcerntaranaki.org.nz/event/steady-as-you-go-st-marys-peace-lounge-2/2026-08-25/
LOCATION:St Mary’s Peace Lounge\, 37 Vivian Street\, New Plymouth\, 4312\, New Zealand
CATEGORIES:Exercise Classes,Steady As You Go
ORGANIZER;CN="Age Concern Taranaki":MAILTO:info@ageconcerntaranaki.org.nz
END:VEVENT
BEGIN:VEVENT
DTSTART;TZID=UTC:20260901T103000
DTEND;TZID=UTC:20260901T113000
DTSTAMP:20260421T170359
CREATED:20251124T210432Z
LAST-MODIFIED:20251124T210432Z
UID:10002003-1788258600-1788262200@www.ageconcerntaranaki.org.nz
SUMMARY:Steady As You Go - St Mary's Peace Lounge
DESCRIPTION:Steady As You Go – St Mary’s Peace Lounge \nHeld every Tuesday at 10.30am excluding public holidays. \nCost: $3 per session \nTo register or for more information please contact our Steady As You Go Coordinator – Andrea on 06 759 9196 or email info@ageconcerntaranaki.org.nz \n 
URL:https://www.ageconcerntaranaki.org.nz/event/steady-as-you-go-st-marys-peace-lounge-2/2026-09-01/
LOCATION:St Mary’s Peace Lounge\, 37 Vivian Street\, New Plymouth\, 4312\, New Zealand
CATEGORIES:Exercise Classes,Steady As You Go
ORGANIZER;CN="Age Concern Taranaki":MAILTO:info@ageconcerntaranaki.org.nz
END:VEVENT
BEGIN:VEVENT
DTSTART;TZID=UTC:20260908T103000
DTEND;TZID=UTC:20260908T113000
DTSTAMP:20260421T170359
CREATED:20251124T210432Z
LAST-MODIFIED:20251124T210432Z
UID:10002004-1788863400-1788867000@www.ageconcerntaranaki.org.nz
SUMMARY:Steady As You Go - St Mary's Peace Lounge
DESCRIPTION:Steady As You Go – St Mary’s Peace Lounge \nHeld every Tuesday at 10.30am excluding public holidays. \nCost: $3 per session \nTo register or for more information please contact our Steady As You Go Coordinator – Andrea on 06 759 9196 or email info@ageconcerntaranaki.org.nz \n 
URL:https://www.ageconcerntaranaki.org.nz/event/steady-as-you-go-st-marys-peace-lounge-2/2026-09-08/
LOCATION:St Mary’s Peace Lounge\, 37 Vivian Street\, New Plymouth\, 4312\, New Zealand
CATEGORIES:Exercise Classes,Steady As You Go
ORGANIZER;CN="Age Concern Taranaki":MAILTO:info@ageconcerntaranaki.org.nz
END:VEVENT
BEGIN:VEVENT
DTSTART;TZID=UTC:20260915T103000
DTEND;TZID=UTC:20260915T113000
DTSTAMP:20260421T170359
CREATED:20251124T210432Z
LAST-MODIFIED:20251124T210432Z
UID:10002005-1789468200-1789471800@www.ageconcerntaranaki.org.nz
SUMMARY:Steady As You Go - St Mary's Peace Lounge
DESCRIPTION:Steady As You Go – St Mary’s Peace Lounge \nHeld every Tuesday at 10.30am excluding public holidays. \nCost: $3 per session \nTo register or for more information please contact our Steady As You Go Coordinator – Andrea on 06 759 9196 or email info@ageconcerntaranaki.org.nz \n 
URL:https://www.ageconcerntaranaki.org.nz/event/steady-as-you-go-st-marys-peace-lounge-2/2026-09-15/
LOCATION:St Mary’s Peace Lounge\, 37 Vivian Street\, New Plymouth\, 4312\, New Zealand
CATEGORIES:Exercise Classes,Steady As You Go
ORGANIZER;CN="Age Concern Taranaki":MAILTO:info@ageconcerntaranaki.org.nz
END:VEVENT
BEGIN:VEVENT
DTSTART;TZID=UTC:20260922T103000
DTEND;TZID=UTC:20260922T113000
DTSTAMP:20260421T170359
CREATED:20251124T210432Z
LAST-MODIFIED:20251124T210432Z
UID:10002006-1790073000-1790076600@www.ageconcerntaranaki.org.nz
SUMMARY:Steady As You Go - St Mary's Peace Lounge
DESCRIPTION:Steady As You Go – St Mary’s Peace Lounge \nHeld every Tuesday at 10.30am excluding public holidays. \nCost: $3 per session \nTo register or for more information please contact our Steady As You Go Coordinator – Andrea on 06 759 9196 or email info@ageconcerntaranaki.org.nz \n 
URL:https://www.ageconcerntaranaki.org.nz/event/steady-as-you-go-st-marys-peace-lounge-2/2026-09-22/
LOCATION:St Mary’s Peace Lounge\, 37 Vivian Street\, New Plymouth\, 4312\, New Zealand
CATEGORIES:Exercise Classes,Steady As You Go
ORGANIZER;CN="Age Concern Taranaki":MAILTO:info@ageconcerntaranaki.org.nz
END:VEVENT
BEGIN:VEVENT
DTSTART;TZID=UTC:20260929T103000
DTEND;TZID=UTC:20260929T113000
DTSTAMP:20260421T170359
CREATED:20251124T210432Z
LAST-MODIFIED:20251124T210432Z
UID:10002007-1790677800-1790681400@www.ageconcerntaranaki.org.nz
SUMMARY:Steady As You Go - St Mary's Peace Lounge
DESCRIPTION:Steady As You Go – St Mary’s Peace Lounge \nHeld every Tuesday at 10.30am excluding public holidays. \nCost: $3 per session \nTo register or for more information please contact our Steady As You Go Coordinator – Andrea on 06 759 9196 or email info@ageconcerntaranaki.org.nz \n 
URL:https://www.ageconcerntaranaki.org.nz/event/steady-as-you-go-st-marys-peace-lounge-2/2026-09-29/
LOCATION:St Mary’s Peace Lounge\, 37 Vivian Street\, New Plymouth\, 4312\, New Zealand
CATEGORIES:Exercise Classes,Steady As You Go
ORGANIZER;CN="Age Concern Taranaki":MAILTO:info@ageconcerntaranaki.org.nz
END:VEVENT
BEGIN:VEVENT
DTSTART;TZID=UTC:20261006T103000
DTEND;TZID=UTC:20261006T113000
DTSTAMP:20260421T170359
CREATED:20251124T210432Z
LAST-MODIFIED:20251124T210432Z
UID:10002008-1791282600-1791286200@www.ageconcerntaranaki.org.nz
SUMMARY:Steady As You Go - St Mary's Peace Lounge
DESCRIPTION:Steady As You Go – St Mary’s Peace Lounge \nHeld every Tuesday at 10.30am excluding public holidays. \nCost: $3 per session \nTo register or for more information please contact our Steady As You Go Coordinator – Andrea on 06 759 9196 or email info@ageconcerntaranaki.org.nz \n 
URL:https://www.ageconcerntaranaki.org.nz/event/steady-as-you-go-st-marys-peace-lounge-2/2026-10-06/
LOCATION:St Mary’s Peace Lounge\, 37 Vivian Street\, New Plymouth\, 4312\, New Zealand
CATEGORIES:Exercise Classes,Steady As You Go
ORGANIZER;CN="Age Concern Taranaki":MAILTO:info@ageconcerntaranaki.org.nz
END:VEVENT
BEGIN:VEVENT
DTSTART;TZID=UTC:20261013T103000
DTEND;TZID=UTC:20261013T113000
DTSTAMP:20260421T170359
CREATED:20251124T210432Z
LAST-MODIFIED:20251124T210432Z
UID:10002009-1791887400-1791891000@www.ageconcerntaranaki.org.nz
SUMMARY:Steady As You Go - St Mary's Peace Lounge
DESCRIPTION:Steady As You Go – St Mary’s Peace Lounge \nHeld every Tuesday at 10.30am excluding public holidays. \nCost: $3 per session \nTo register or for more information please contact our Steady As You Go Coordinator – Andrea on 06 759 9196 or email info@ageconcerntaranaki.org.nz \n 
URL:https://www.ageconcerntaranaki.org.nz/event/steady-as-you-go-st-marys-peace-lounge-2/2026-10-13/
LOCATION:St Mary’s Peace Lounge\, 37 Vivian Street\, New Plymouth\, 4312\, New Zealand
CATEGORIES:Exercise Classes,Steady As You Go
ORGANIZER;CN="Age Concern Taranaki":MAILTO:info@ageconcerntaranaki.org.nz
END:VEVENT
BEGIN:VEVENT
DTSTART;TZID=UTC:20261020T103000
DTEND;TZID=UTC:20261020T113000
DTSTAMP:20260421T170359
CREATED:20251124T210432Z
LAST-MODIFIED:20251124T210432Z
UID:10002010-1792492200-1792495800@www.ageconcerntaranaki.org.nz
SUMMARY:Steady As You Go - St Mary's Peace Lounge
DESCRIPTION:Steady As You Go – St Mary’s Peace Lounge \nHeld every Tuesday at 10.30am excluding public holidays. \nCost: $3 per session \nTo register or for more information please contact our Steady As You Go Coordinator – Andrea on 06 759 9196 or email info@ageconcerntaranaki.org.nz \n 
URL:https://www.ageconcerntaranaki.org.nz/event/steady-as-you-go-st-marys-peace-lounge-2/2026-10-20/
LOCATION:St Mary’s Peace Lounge\, 37 Vivian Street\, New Plymouth\, 4312\, New Zealand
CATEGORIES:Exercise Classes,Steady As You Go
ORGANIZER;CN="Age Concern Taranaki":MAILTO:info@ageconcerntaranaki.org.nz
END:VEVENT
BEGIN:VEVENT
DTSTART;TZID=UTC:20261027T103000
DTEND;TZID=UTC:20261027T113000
DTSTAMP:20260421T170359
CREATED:20251124T210432Z
LAST-MODIFIED:20251124T210432Z
UID:10002011-1793097000-1793100600@www.ageconcerntaranaki.org.nz
SUMMARY:Steady As You Go - St Mary's Peace Lounge
DESCRIPTION:Steady As You Go – St Mary’s Peace Lounge \nHeld every Tuesday at 10.30am excluding public holidays. \nCost: $3 per session \nTo register or for more information please contact our Steady As You Go Coordinator – Andrea on 06 759 9196 or email info@ageconcerntaranaki.org.nz \n 
URL:https://www.ageconcerntaranaki.org.nz/event/steady-as-you-go-st-marys-peace-lounge-2/2026-10-27/
LOCATION:St Mary’s Peace Lounge\, 37 Vivian Street\, New Plymouth\, 4312\, New Zealand
CATEGORIES:Exercise Classes,Steady As You Go
ORGANIZER;CN="Age Concern Taranaki":MAILTO:info@ageconcerntaranaki.org.nz
END:VEVENT
BEGIN:VEVENT
DTSTART;TZID=UTC:20261103T103000
DTEND;TZID=UTC:20261103T113000
DTSTAMP:20260421T170359
CREATED:20251124T210432Z
LAST-MODIFIED:20251124T210432Z
UID:10002012-1793701800-1793705400@www.ageconcerntaranaki.org.nz
SUMMARY:Steady As You Go - St Mary's Peace Lounge
DESCRIPTION:Steady As You Go – St Mary’s Peace Lounge \nHeld every Tuesday at 10.30am excluding public holidays. \nCost: $3 per session \nTo register or for more information please contact our Steady As You Go Coordinator – Andrea on 06 759 9196 or email info@ageconcerntaranaki.org.nz \n 
URL:https://www.ageconcerntaranaki.org.nz/event/steady-as-you-go-st-marys-peace-lounge-2/2026-11-03/
LOCATION:St Mary’s Peace Lounge\, 37 Vivian Street\, New Plymouth\, 4312\, New Zealand
CATEGORIES:Exercise Classes,Steady As You Go
ORGANIZER;CN="Age Concern Taranaki":MAILTO:info@ageconcerntaranaki.org.nz
END:VEVENT
BEGIN:VEVENT
DTSTART;TZID=UTC:20261110T103000
DTEND;TZID=UTC:20261110T113000
DTSTAMP:20260421T170359
CREATED:20251124T210432Z
LAST-MODIFIED:20251124T210432Z
UID:10002013-1794306600-1794310200@www.ageconcerntaranaki.org.nz
SUMMARY:Steady As You Go - St Mary's Peace Lounge
DESCRIPTION:Steady As You Go – St Mary’s Peace Lounge \nHeld every Tuesday at 10.30am excluding public holidays. \nCost: $3 per session \nTo register or for more information please contact our Steady As You Go Coordinator – Andrea on 06 759 9196 or email info@ageconcerntaranaki.org.nz \n 
URL:https://www.ageconcerntaranaki.org.nz/event/steady-as-you-go-st-marys-peace-lounge-2/2026-11-10/
LOCATION:St Mary’s Peace Lounge\, 37 Vivian Street\, New Plymouth\, 4312\, New Zealand
CATEGORIES:Exercise Classes,Steady As You Go
ORGANIZER;CN="Age Concern Taranaki":MAILTO:info@ageconcerntaranaki.org.nz
END:VEVENT
BEGIN:VEVENT
DTSTART;TZID=UTC:20261117T103000
DTEND;TZID=UTC:20261117T113000
DTSTAMP:20260421T170359
CREATED:20251124T210432Z
LAST-MODIFIED:20251124T210432Z
UID:10002014-1794911400-1794915000@www.ageconcerntaranaki.org.nz
SUMMARY:Steady As You Go - St Mary's Peace Lounge
DESCRIPTION:Steady As You Go – St Mary’s Peace Lounge \nHeld every Tuesday at 10.30am excluding public holidays. \nCost: $3 per session \nTo register or for more information please contact our Steady As You Go Coordinator – Andrea on 06 759 9196 or email info@ageconcerntaranaki.org.nz \n 
URL:https://www.ageconcerntaranaki.org.nz/event/steady-as-you-go-st-marys-peace-lounge-2/2026-11-17/
LOCATION:St Mary’s Peace Lounge\, 37 Vivian Street\, New Plymouth\, 4312\, New Zealand
CATEGORIES:Exercise Classes,Steady As You Go
ORGANIZER;CN="Age Concern Taranaki":MAILTO:info@ageconcerntaranaki.org.nz
END:VEVENT
END:VCALENDAR